From mboxrd@z Thu Jan  1 00:00:00 1970
Return-Path: <test-report-bounces@dpdk.org>
Received: from mails.dpdk.org (mails.dpdk.org [217.70.189.124])
	by inbox.dpdk.org (Postfix) with ESMTP id 8FEAA45FCD
	for <public@inbox.dpdk.org>; Fri,  3 Jan 2025 03:08:37 +0100 (CET)
Received: from mails.dpdk.org (localhost [127.0.0.1])
	by mails.dpdk.org (Postfix) with ESMTP id 72815402BD;
	Fri,  3 Jan 2025 03:08:37 +0100 (CET)
Received: from mail-io1-f100.google.com (mail-io1-f100.google.com
 [209.85.166.100])
 by mails.dpdk.org (Postfix) with ESMTP id 78C77402B1
 for <test-report@dpdk.org>; Fri,  3 Jan 2025 03:08:35 +0100 (CET)
Received: by mail-io1-f100.google.com with SMTP id
 ca18e2360f4ac-844c9993c56so1005931939f.2
 for <test-report@dpdk.org>; Thu, 02 Jan 2025 18:08:35 -0800 (PST)
DKIM-Signature: v=1; a=rsa-sha256; c=relaxed/relaxed;
 d=iol.unh.edu; s=unh-iol; t=1735870114; x=1736474914; darn=dpdk.org;
 h=references:in-reply-to:cc:to:from:subject:message-id:date:from:to
 :cc:subject:date:message-id:reply-to;
 bh=WsAbben7EvqXi0fd0aEzs/Q/JfRLQiu3Kz0CYxHy6QI=;
 b=Jx8BdufQp8pYX4t7JugffFfTJwKe0Cu2m8buSGd8ZnwSPEwaMOUCutD4uoKt/hkd0n
 jqtYczvyVP18Pz+HuYHEKIRdB3MHHgcJFS4+s9DTk0q4vaUfXdJ/b4I/OqMlpe20vhxa
 SkfSkerr+uW1SIf62tsu7zcjgI92f24cfRjHw=
X-Google-DKIM-Signature: v=1; a=rsa-sha256; c=relaxed/relaxed;
 d=1e100.net; s=20230601; t=1735870114; x=1736474914;
 h=references:in-reply-to:cc:to:from:subject:message-id:date
 :x-gm-message-state:from:to:cc:subject:date:message-id:reply-to;
 bh=WsAbben7EvqXi0fd0aEzs/Q/JfRLQiu3Kz0CYxHy6QI=;
 b=t+7LeYYJDJjCjeGG/YEH14ukz12P7fB2EQbjBs76VpWip5y/oyH8sXuazDP2T+Sl9T
 Hu/KAfE4p/jUopePKlj70PaBeqgVvZl4/Fw5GV6wt5OiZKPAkVNDJu/zVSj/9swWxYG4
 uH8C8eKu9J7q7etHbK9Q0Eb3qhGsb4Cn/KxJiD31XpSIiio8hIFCbWSjRe7vzkiIS9E3
 /nQ+uR0kyHL6J/QYJwdan1NvLgLoZloSe7PpBFJ31XclZaMfCAVcWZQ32xacbHwY23s6
 QDhFMBzELlQ8VbWnGyfjdMqyQb+eI83YxL+71P6tMMCiCsR+FmF6rQZFQDoZzWmnzymF
 3L2A==
X-Gm-Message-State: AOJu0YwPHaTYtIVQofCCMAhqJNiYtNUEf94KJHtUxnCZyx5bUKm3kXdO
 v4HNLtT7w5PsrdxdBejO2thQkmu38mV7nG3RlZ7kjUvBLOgxCzBU0M9Wfboye4w8NLjtw6xkXdF
 OzAkBu863oTyCZUKAT78PopH8CL4SD1BkIVv7RtdS
X-Gm-Gg: ASbGncuP5tb6P77cXjZ9izgiUJ+vgWWyWrP9MRbNECQ3ig3GxfSH0d9Y5kR2P0bv8E4
 QeMze3KtD8UFhCjN3WC1MyL7rroQpb7zmOrtMI1iU3e6ehpoqPn74H952EOlJzzCgl9CPDJZy//
 5d6rVSkgZldICjewQPZdvrIIDjpRaKT4/6iiPsGmNFXfVU5dTSXsLkwb/6EjnqlLtOfjmJSTsmr
 DscAAHTY6CL4A6mxKuhnIxUhcbBEyz9XtsjY0en5mb4TVmNAtYra2O0vKQRYOLyAvqG8sSqOWgR
 Ow==
X-Google-Smtp-Source: AGHT+IGdEItE+AwhguS4TfFNf8XArsw72sO+giq3L2a2VgW4HtdF8ZiHd8uoRApPGxIJWKlwRSOzb6fwDSxo
X-Received: by 2002:a05:6602:6403:b0:83a:b188:7a4d with SMTP id
 ca18e2360f4ac-8499e2ac079mr3801069239f.0.1735870114572; 
 Thu, 02 Jan 2025 18:08:34 -0800 (PST)
Received: from postal.iol.unh.edu (postal.iol.unh.edu. [132.177.123.84])
 by smtp-relay.gmail.com with ESMTPS id
 ca18e2360f4ac-8498d8a256csm105244039f.22.2025.01.02.18.08.34
 (version=TLS1_2 cipher=ECDHE-ECDSA-AES128-GCM-SHA256 bits=128/128);
 Thu, 02 Jan 2025 18:08:34 -0800 (PST)
X-Relaying-Domain: iol.unh.edu
Date: Thu, 02 Jan 2025 18:08:34 -0800 (PST)
Message-ID: <677746a2.050a0220.10b616.2f09SMTPIN_ADDED_MISSING@mx.google.com>
Received: from [172.21.0.5] (unknown [172.18.0.240])
 by postal.iol.unh.edu (Postfix) with ESMTP id 197CB6052471;
 Thu,  2 Jan 2025 21:08:34 -0500 (EST)
Subject: |SUCCESS| pw149561-149562 [PATCH] [v9,3/3] drivers/net: add diagnost
From: dpdklab@iol.unh.edu
To: Test Report <test-report@dpdk.org>
Cc: dpdk-test-reports@iol.unh.edu
In-Reply-To: <1735702586-24837-4-git-send-email-andremue@linux.microsoft.com>
References: <1735702586-24837-4-git-send-email-andremue@linux.microsoft.com>
Content-Type: text/plain
X-BeenThere: test-report@dpdk.org
X-Mailman-Version: 2.1.29
Precedence: list
List-Id: automatic DPDK test reports <test-report.dpdk.org>
List-Unsubscribe: <https://mails.dpdk.org/options/test-report>,
 <mailto:test-report-request@dpdk.org?subject=unsubscribe>
List-Archive: <http://mails.dpdk.org/archives/test-report/>
List-Post: <mailto:test-report@dpdk.org>
List-Help: <mailto:test-report-request@dpdk.org?subject=help>
List-Subscribe: <https://mails.dpdk.org/listinfo/test-report>,
 <mailto:test-report-request@dpdk.org?subject=subscribe>
Errors-To: test-report-bounces@dpdk.org

Test-Label: iol-abi-testing
Test-Status: SUCCESS
http://dpdk.org/patch/149562

_Testing PASS_

Submitter: Andre Muezerie <andremue@linux.microsoft.com>
Date: Wednesday, January 01 2025 03:36:26 
DPDK git baseline: Repo:dpdk
  Branch: master
  CommitID:fd51012de5369679e807be1d6a81d63ef15015ce

149561-149562 --> testing pass

Upstream job id: Generic-DPDK-Compile-ABI#108487

Test environment and result as below:

+-------------------+----------+
|    Environment    | abi_test |
+===================+==========+
| CentOS Stream 9   | PASS     |
+-------------------+----------+
| Debian 12         | PASS     |
+-------------------+----------+
| Fedora 40         | PASS     |
+-------------------+----------+
| Fedora 40 (Clang) | PASS     |
+-------------------+----------+
| openSUSE Leap 15  | PASS     |
+-------------------+----------+
| Fedora 41 (Clang) | PASS     |
+-------------------+----------+
| Fedora 41         | PASS     |
+-------------------+----------+
| RHEL8             | PASS     |
+-------------------+----------+
| RHEL9             | PASS     |
+-------------------+----------+
| Ubuntu 22.04      | PASS     |
+-------------------+----------+
| Ubuntu 24.04      | PASS     |
+-------------------+----------+


CentOS Stream 9
	Kernel: Depends on container host
	Compiler: gcc 11.5.0 20240719 (Red Hat 11.5.0-2)

Debian 12
	Kernel: Depends on container host
	Compiler: gcc (Debian 12.2.0-14) 12.2.0

Fedora 40
	Kernel: Depends on container host
	Compiler: gcc 14.2.1 20240912 (Red Hat 14.2.1-3)

Fedora 40 (Clang)
	Kernel: Depends on container host
	Compiler: clang 18.1.8 (Fedora 18.1.8-1.fc40)

openSUSE Leap 15
	Kernel: Depends on container host
	Compiler: gcc (SUSE Linux) 7.5.0

Fedora 41 (Clang)
	Kernel: Depends on container host
	Compiler: clang 19.1.5 (Fedora 19.1.5-1.fc41)

Fedora 41
	Kernel: Depends on container host
	Compiler: gcc 14.2.1 20240912 (Red Hat 14.2.1-3)

RHEL8
	Kernel: Depends on container host
	Compiler: gcc 8.5.0 20210514 (Red Hat 8.5.0-22)

RHEL9
	Kernel: Depends on container host
	Compiler: gcc 11.5.0 20240719 (Red Hat 11.5.0-2)

Ubuntu 22.04
	Kernel: Depends on container host
	Compiler: gcc (Ubuntu 11.4.0-1ubuntu1~22.04) 11.4.0

Ubuntu 24.04
	Kernel: Depends on container host
	Compiler: gcc (Ubuntu 13.3.0-6ubuntu2~24.04) 13.3.0

To view detailed results, visit:
https://lab.dpdk.org/results/dashboard/patchsets/32233/

UNH-IOL DPDK Community Lab

To manage your email subscriptions, visit: 
https://lab.dpdk.org/results/dashboard/preferences/subscriptions/