From mboxrd@z Thu Jan  1 00:00:00 1970
Return-Path: <test-report-bounces@dpdk.org>
Received: from mails.dpdk.org (mails.dpdk.org [217.70.189.124])
	by inbox.dpdk.org (Postfix) with ESMTP id 767BE45FCF
	for <public@inbox.dpdk.org>; Fri,  3 Jan 2025 05:49:24 +0100 (CET)
Received: from mails.dpdk.org (localhost [127.0.0.1])
	by mails.dpdk.org (Postfix) with ESMTP id 46B51402B4;
	Fri,  3 Jan 2025 05:49:24 +0100 (CET)
Received: from mail-il1-f228.google.com (mail-il1-f228.google.com
 [209.85.166.228])
 by mails.dpdk.org (Postfix) with ESMTP id AE22A402B1
 for <test-report@dpdk.org>; Fri,  3 Jan 2025 05:49:22 +0100 (CET)
Received: by mail-il1-f228.google.com with SMTP id
 e9e14a558f8ab-3a9cdcec53fso111364385ab.1
 for <test-report@dpdk.org>; Thu, 02 Jan 2025 20:49:22 -0800 (PST)
DKIM-Signature: v=1; a=rsa-sha256; c=relaxed/relaxed;
 d=iol.unh.edu; s=unh-iol; t=1735879762; x=1736484562; darn=dpdk.org;
 h=references:in-reply-to:cc:to:from:subject:message-id:date:from:to
 :cc:subject:date:message-id:reply-to;
 bh=9hM8FegKBqSf/udedHXglmU7Nr9Hb3jT1ab9ZdiGwoU=;
 b=AJlZTkxQmXdSE5TJZXp9Ha3A5Pwxy0Ug2BE7s20wmrK8gyFIQ9QdLLb/Wty3H48Fy+
 T94vSE7p2xuGdTqbAnXQCn9hYOxu9gX1BDMn1hrTMhO0d3o2eFkOcpQQIyczZ/aiRdAD
 RQseiabcUxRFjVPG5T8Ui5Rvm7Q5FAKNHPhL8=
X-Google-DKIM-Signature: v=1; a=rsa-sha256; c=relaxed/relaxed;
 d=1e100.net; s=20230601; t=1735879762; x=1736484562;
 h=references:in-reply-to:cc:to:from:subject:message-id:date
 :x-gm-message-state:from:to:cc:subject:date:message-id:reply-to;
 bh=9hM8FegKBqSf/udedHXglmU7Nr9Hb3jT1ab9ZdiGwoU=;
 b=eadVg9pucon9mrXslem9WphlsyfHnx2o/JpNI9qkl9vi9YA8Kwx6IJa4ecx+h1SpJT
 IQeomylyXTEH/iI0Uz0bPhfor8XMlGW/0pCxipBjhbAEzDHoqqP4IiCAFu5xB/x6TWA+
 jF4jLLoA3Cko2zDVHZ/+j3DjVEIlP3YDH9Tm6FnO331RC24HCJpP3Uh7XHdduDlD+EvF
 aFvw8i6N/a9leoPfzw+NzPfrJpQdXZInB6sWxjanoStZiyU4JjKzBs6M5WOmWYMAenLV
 n7/Hvras5hXLM18xIQ4XCOUCOIJxj2hqNQ7hAzSklU4YtFX+/IS6cBySaRan8rqGCs6Q
 rekQ==
X-Gm-Message-State: AOJu0YyANmSG/kfg1xSkMGN+Q9Eap9PEreydThWvX1h2ivmgtjEU5/Ih
 KnGoCdQ+QC23KeM1CB9a6cSrYwi8Jj11+C/KCWP/YPEceCEcWje2wMF8UbxqeXT40JgUzeTqD+r
 vJcKmE0nkGiNcUlyce9iTfxUPhE3uSrRr6R3xGPHzNKULseLQSoUHaaHm
X-Gm-Gg: ASbGnctVNuA6V/Az6He3zP9bwG7W/JHxHr1Krdy4nUKgaeWVVwYX1xUr07TUJu4DW16
 PMmKUMO8Pj5GBH7CLJsa6bIMk1DRzqg8DkKRoxPM50U0eUNw+5CoPUYDEIbOabFDNzM/mgLgDjQ
 w48vUAx6ILDadSrAqlepEtr2mh1/vfhAZdy7l4aKu6oo3iH/X4T+uUHf7eTH8x+9CZmNHv78TkU
 co2LHAkOdH0dMVqmw4XcTZriIFkY7uB9y1mYT8F4Lj6uL0NJptwoOLJISqLo3SvbMMRM2+9dEgq
 ZfNY0w==
X-Google-Smtp-Source: AGHT+IG6pOg0i7K9KBkVk2z4nFn/UlmsB/MVcMuLtvIPESO1EuzfY0G/JNu5tQEy4uR5QAV2LltmMEnKLiIH
X-Received: by 2002:a05:6e02:3497:b0:3a7:e528:6f1e with SMTP id
 e9e14a558f8ab-3c2d278364cmr8953115ab.11.1735879762089; 
 Thu, 02 Jan 2025 20:49:22 -0800 (PST)
Received: from postal.iol.unh.edu (postal.iol.unh.edu.
 [2606:4100:3880:1234::84]) by smtp-relay.gmail.com with ESMTPS id
 e9e14a558f8ab-3c0de42a178sm18864795ab.12.2025.01.02.20.49.21
 (version=TLS1_2 cipher=ECDHE-ECDSA-AES128-GCM-SHA256 bits=128/128);
 Thu, 02 Jan 2025 20:49:22 -0800 (PST)
X-Relaying-Domain: iol.unh.edu
Date: Thu, 02 Jan 2025 20:49:22 -0800 (PST)
Message-ID: <67776c52.050a0220.7a61d.e4efSMTPIN_ADDED_MISSING@mx.google.com>
Received: from [172.21.0.6] (unknown [172.18.0.240])
 by postal.iol.unh.edu (Postfix) with ESMTP id 921676052471;
 Thu,  2 Jan 2025 23:49:21 -0500 (EST)
Subject: |SUCCESS| pw149568-149572 [PATCH] [5/5] app/test: add tests for port
From: dpdklab@iol.unh.edu
To: Test Report <test-report@dpdk.org>
Cc: dpdk-test-reports@iol.unh.edu
In-Reply-To: <1735857169-19131-6-git-send-email-andremue@linux.microsoft.com>
References: <1735857169-19131-6-git-send-email-andremue@linux.microsoft.com>
Content-Type: text/plain
X-BeenThere: test-report@dpdk.org
X-Mailman-Version: 2.1.29
Precedence: list
List-Id: automatic DPDK test reports <test-report.dpdk.org>
List-Unsubscribe: <https://mails.dpdk.org/options/test-report>,
 <mailto:test-report-request@dpdk.org?subject=unsubscribe>
List-Archive: <http://mails.dpdk.org/archives/test-report/>
List-Post: <mailto:test-report@dpdk.org>
List-Help: <mailto:test-report-request@dpdk.org?subject=help>
List-Subscribe: <https://mails.dpdk.org/listinfo/test-report>,
 <mailto:test-report-request@dpdk.org?subject=subscribe>
Errors-To: test-report-bounces@dpdk.org

Test-Label: iol-abi-testing
Test-Status: SUCCESS
http://dpdk.org/patch/149572

_Testing PASS_

Submitter: Andre Muezerie <andremue@linux.microsoft.com>
Date: Thursday, January 02 2025 22:32:48 
DPDK git baseline: Repo:dpdk
  Branch: master
  CommitID:fd51012de5369679e807be1d6a81d63ef15015ce

149568-149572 --> testing pass

Upstream job id: Generic-DPDK-Compile-ABI#108499

Test environment and result as below:

+-------------------+----------+
|    Environment    | abi_test |
+===================+==========+
| CentOS Stream 9   | PASS     |
+-------------------+----------+
| Debian 12         | PASS     |
+-------------------+----------+
| Fedora 41 (Clang) | PASS     |
+-------------------+----------+
| Fedora 40         | PASS     |
+-------------------+----------+
| Fedora 41         | PASS     |
+-------------------+----------+
| openSUSE Leap 15  | PASS     |
+-------------------+----------+
| RHEL8             | PASS     |
+-------------------+----------+
| RHEL9             | PASS     |
+-------------------+----------+
| Ubuntu 24.04      | PASS     |
+-------------------+----------+
| Ubuntu 22.04      | PASS     |
+-------------------+----------+


CentOS Stream 9
	Kernel: Depends on container host
	Compiler: gcc 11.5.0 20240719 (Red Hat 11.5.0-2)

Debian 12
	Kernel: Depends on container host
	Compiler: gcc (Debian 12.2.0-14) 12.2.0

Fedora 41 (Clang)
	Kernel: Depends on container host
	Compiler: clang 19.1.5 (Fedora 19.1.5-1.fc41)

Fedora 40
	Kernel: Depends on container host
	Compiler: gcc 14.2.1 20240912 (Red Hat 14.2.1-3)

Fedora 41
	Kernel: Depends on container host
	Compiler: gcc 14.2.1 20240912 (Red Hat 14.2.1-3)

openSUSE Leap 15
	Kernel: Depends on container host
	Compiler: gcc (SUSE Linux) 7.5.0

RHEL8
	Kernel: Depends on container host
	Compiler: gcc 8.5.0 20210514 (Red Hat 8.5.0-22)

RHEL9
	Kernel: Depends on container host
	Compiler: gcc 11.5.0 20240719 (Red Hat 11.5.0-2)

Ubuntu 24.04
	Kernel: Depends on container host
	Compiler: gcc (Ubuntu 13.3.0-6ubuntu2~24.04) 13.3.0

Ubuntu 22.04
	Kernel: Depends on container host
	Compiler: gcc (Ubuntu 11.4.0-1ubuntu1~22.04) 11.4.0

To view detailed results, visit:
https://lab.dpdk.org/results/dashboard/patchsets/32238/

UNH-IOL DPDK Community Lab

To manage your email subscriptions, visit: 
https://lab.dpdk.org/results/dashboard/preferences/subscriptions/