From mboxrd@z Thu Jan  1 00:00:00 1970
Return-Path: <test-report-bounces@dpdk.org>
Received: from mails.dpdk.org (mails.dpdk.org [217.70.189.124])
	by inbox.dpdk.org (Postfix) with ESMTP id 04F2345FD7
	for <public@inbox.dpdk.org>; Fri,  3 Jan 2025 16:59:32 +0100 (CET)
Received: from mails.dpdk.org (localhost [127.0.0.1])
	by mails.dpdk.org (Postfix) with ESMTP id D8E79402B4;
	Fri,  3 Jan 2025 16:59:32 +0100 (CET)
Received: from mail-pl1-f227.google.com (mail-pl1-f227.google.com
 [209.85.214.227])
 by mails.dpdk.org (Postfix) with ESMTP id 472CA4021E
 for <test-report@dpdk.org>; Fri,  3 Jan 2025 16:59:31 +0100 (CET)
Received: by mail-pl1-f227.google.com with SMTP id
 d9443c01a7336-2165448243fso206638505ad.1
 for <test-report@dpdk.org>; Fri, 03 Jan 2025 07:59:31 -0800 (PST)
DKIM-Signature: v=1; a=rsa-sha256; c=relaxed/relaxed;
 d=iol.unh.edu; s=unh-iol; t=1735919970; x=1736524770; darn=dpdk.org;
 h=references:in-reply-to:cc:to:from:subject:message-id:date:from:to
 :cc:subject:date:message-id:reply-to;
 bh=hzcQ2JPilwZ9BoWhfKR/veg3IEelTTEGdt7x/N5gUDQ=;
 b=PGeKkaXWoo1RwLZ2ycfrgz1dve4WeW2gpL9SgkoLSHiLAyWXpdop/D6sC62JTgKE9L
 /R3FW7RcW6ZW5kvU1fkhssV1XK7oLQbJWPBMvxoFh/fYBSTecviKQ0uPjCTv9RIYrSNZ
 B12NKgAhTLQ6lZoRqJNQchaRVFohrR3qzxyZQ=
X-Google-DKIM-Signature: v=1; a=rsa-sha256; c=relaxed/relaxed;
 d=1e100.net; s=20230601; t=1735919970; x=1736524770;
 h=references:in-reply-to:cc:to:from:subject:message-id:date
 :x-gm-message-state:from:to:cc:subject:date:message-id:reply-to;
 bh=hzcQ2JPilwZ9BoWhfKR/veg3IEelTTEGdt7x/N5gUDQ=;
 b=XkHtacxI3RM2eT3l272S4K1VNVq0latUz/Y5VFE3jhvXwjpmyz/vCUW97i74AHrcOi
 rFYNEFIIsE8E7mvhQ/28WHl0+fTaIPAOKmPNlzp359s2GgcyDwUlVNQMFYokKqTbEqHN
 wkdftML9Emzf4JiZjTam0LYMM3mOZTyhGWmTw8ty+ebc4NMkdxnA2YP9sguhSkV0lv4s
 4d5dIEG9USjvisA3RujnKQNEtcWq45ZZfo9dVuI4db23n4lzFLNWTfDWu6/L4JzyiFUZ
 srQUG699k3yp2IIOy/ZdkTwt3/eUuV4KhTD4wf1s8qthnhdkV7xzkvY1cv51QNWrJ3xb
 Rd4A==
X-Gm-Message-State: AOJu0YwMEsK96TjvoZv8bFgVr/AXcJ/Yy03hLl8i5wUrUAtP2l8aFG1Y
 d/+q9oqXFDrjDE6BD4y5UYMcyMYJnRIoEqyvglzO3wT4LlIMz7ydyyGQH9N/0J0xiXMyAjfngQO
 7LxHabMk+u9Kuqt2LgFiZuRZqOG3J8kKclsMZHjIGtujVHh7kFjOTsmf3
X-Gm-Gg: ASbGncs2KMUYaHMNnYrPMcFNfpwGHGhLD1UYgw+sNxls8tgbNyNsRs9xmfq1ggIkzcY
 ryz64/JcEZoLoehY4hZH99S3gVrX0vv1wTzv2uc1SGpS0BeYb2oe9pnZXfTLwg5YcD5CjRpL7+0
 VlRiIQDLKlpxGQXlBPgvW+dXhjOfXYLZEunqk+pUaTZE4ksmsjk+izFtKgTn2LPkGnguvv5wwcP
 1P/qtC6g03OOauo+hELfIXex4cP4xKSWLW3eUb+6XPfZfqUUou09JHua3sAzjk3ZLuEfsp2fFut
 oH0LjA==
X-Google-Smtp-Source: AGHT+IHwpmsCXZ1kUQUYjzEyeew3ScszmVYBQZ4NnikmdzREUM6wggzRi+OatCWFEKdG1tMF/dJGv70IjDLe
X-Received: by 2002:a17:903:11c5:b0:216:69ca:770b with SMTP id
 d9443c01a7336-219e6e8bb28mr793335305ad.12.1735919970335; 
 Fri, 03 Jan 2025 07:59:30 -0800 (PST)
Received: from postal.iol.unh.edu (postal.iol.unh.edu.
 [2606:4100:3880:1234::84]) by smtp-relay.gmail.com with ESMTPS id
 41be03b00d2f7-842e4db7a16sm1225185a12.30.2025.01.03.07.59.30
 (version=TLS1_2 cipher=ECDHE-ECDSA-AES128-GCM-SHA256 bits=128/128);
 Fri, 03 Jan 2025 07:59:30 -0800 (PST)
X-Relaying-Domain: iol.unh.edu
Date: Fri, 03 Jan 2025 07:59:30 -0800 (PST)
Message-ID: <67780962.630a0220.25698e.ba92SMTPIN_ADDED_MISSING@mx.google.com>
Received: from [172.21.0.6] (unknown [172.18.0.240])
 by postal.iol.unh.edu (Postfix) with ESMTP id 937AC6052471;
 Fri,  3 Jan 2025 10:59:29 -0500 (EST)
Subject: |SUCCESS| pw149588 [PATCH] [RFC] net/virtio-user: implement MAC sett
From: dpdklab@iol.unh.edu
To: Test Report <test-report@dpdk.org>
Cc: dpdk-test-reports@iol.unh.edu
In-Reply-To: <20250103144127.1438904-1-maxime.coquelin@redhat.com>
References: <20250103144127.1438904-1-maxime.coquelin@redhat.com>
Content-Type: text/plain
X-BeenThere: test-report@dpdk.org
X-Mailman-Version: 2.1.29
Precedence: list
List-Id: automatic DPDK test reports <test-report.dpdk.org>
List-Unsubscribe: <https://mails.dpdk.org/options/test-report>,
 <mailto:test-report-request@dpdk.org?subject=unsubscribe>
List-Archive: <http://mails.dpdk.org/archives/test-report/>
List-Post: <mailto:test-report@dpdk.org>
List-Help: <mailto:test-report-request@dpdk.org?subject=help>
List-Subscribe: <https://mails.dpdk.org/listinfo/test-report>,
 <mailto:test-report-request@dpdk.org?subject=subscribe>
Errors-To: test-report-bounces@dpdk.org

Test-Label: iol-unit-amd64-testing
Test-Status: SUCCESS
http://dpdk.org/patch/149588

_Testing PASS_

Submitter: Maxime Coquelin <maxime.coquelin@redhat.com>
Date: Friday, January 03 2025 14:41:27 
DPDK git baseline: Repo:dpdk
  Branch: master
  CommitID:07604f264417959d76aa9fcb8cb0c3665f62f0d3

149588 --> testing pass

Upstream job id: Generic-Unit-Test-DPDK#303390

Test environment and result as below:

+---------------------+----------------+
|     Environment     | dpdk_unit_test |
+=====================+================+
| Fedora 40           | PASS           |
+---------------------+----------------+
| Fedora 40 (Clang)   | PASS           |
+---------------------+----------------+
| Debian Bullseye     | PASS           |
+---------------------+----------------+
| CentOS Stream 9     | PASS           |
+---------------------+----------------+
| Debian 12           | PASS           |
+---------------------+----------------+
| Fedora 41 (Clang)   | PASS           |
+---------------------+----------------+
| Fedora 41           | PASS           |
+---------------------+----------------+
| RHEL8               | PASS           |
+---------------------+----------------+
| Ubuntu 20.04        | PASS           |
+---------------------+----------------+
| RHEL9               | PASS           |
+---------------------+----------------+
| Ubuntu 22.04        | PASS           |
+---------------------+----------------+
| Ubuntu 24.04        | PASS           |
+---------------------+----------------+
| Windows Server 2022 | PASS           |
+---------------------+----------------+


Fedora 40
	Kernel: Depends on container host
	Compiler: gcc 14.2.1 20240912 (Red Hat 14.2.1-3)

Fedora 40 (Clang)
	Kernel: Depends on container host
	Compiler: clang 18.1.8 (Fedora 18.1.8-1.fc40)

Debian Bullseye
	Kernel: Depends on container host
	Compiler: gcc (Debian 10.2.1-6) 10.2.1 20210110

CentOS Stream 9
	Kernel: Depends on container host
	Compiler: gcc 11.5.0 20240719 (Red Hat 11.5.0-2)

Debian 12
	Kernel: Depends on container host
	Compiler: gcc (Debian 12.2.0-14) 12.2.0

Fedora 41 (Clang)
	Kernel: Depends on container host
	Compiler: clang 19.1.5 (Fedora 19.1.5-1.fc41)

Fedora 41
	Kernel: Depends on container host
	Compiler: gcc 14.2.1 20240912 (Red Hat 14.2.1-3)

RHEL8
	Kernel: Depends on container host
	Compiler: gcc 8.5.0 20210514 (Red Hat 8.5.0-22)

Ubuntu 20.04
	Kernel: Depends on container host
	Compiler: gcc (Ubuntu 9.4.0-1ubuntu1~20.04.2) 9.4.0

RHEL9
	Kernel: Depends on container host
	Compiler: gcc 11.5.0 20240719 (Red Hat 11.5.0-2)

Ubuntu 22.04
	Kernel: Depends on container host
	Compiler: gcc (Ubuntu 11.4.0-1ubuntu1~22.04) 11.4.0

Ubuntu 24.04
	Kernel: Depends on container host
	Compiler: gcc (Ubuntu 13.3.0-6ubuntu2~24.04) 13.3.0

Windows Server 2022
	Kernel: 10.0.20348.2031
	Compiler: clang 15.0.7, gcc 14.1.0 (MinGW), and MSVC VS 19.39.33521

To view detailed results, visit:
https://lab.dpdk.org/results/dashboard/patchsets/32247/

UNH-IOL DPDK Community Lab

To manage your email subscriptions, visit: 
https://lab.dpdk.org/results/dashboard/preferences/subscriptions/