From mboxrd@z Thu Jan  1 00:00:00 1970
Return-Path: <test-report-bounces@dpdk.org>
Received: from mails.dpdk.org (mails.dpdk.org [217.70.189.124])
	by inbox.dpdk.org (Postfix) with ESMTP id 725A545FD7
	for <public@inbox.dpdk.org>; Fri,  3 Jan 2025 17:45:42 +0100 (CET)
Received: from mails.dpdk.org (localhost [127.0.0.1])
	by mails.dpdk.org (Postfix) with ESMTP id 4873C402B4;
	Fri,  3 Jan 2025 17:45:42 +0100 (CET)
Received: from mail-il1-f226.google.com (mail-il1-f226.google.com
 [209.85.166.226])
 by mails.dpdk.org (Postfix) with ESMTP id E06004021E
 for <test-report@dpdk.org>; Fri,  3 Jan 2025 17:45:40 +0100 (CET)
Received: by mail-il1-f226.google.com with SMTP id
 e9e14a558f8ab-3a8146a8ddaso46284965ab.1
 for <test-report@dpdk.org>; Fri, 03 Jan 2025 08:45:40 -0800 (PST)
DKIM-Signature: v=1; a=rsa-sha256; c=relaxed/relaxed;
 d=iol.unh.edu; s=unh-iol; t=1735922740; x=1736527540; darn=dpdk.org;
 h=references:in-reply-to:cc:to:from:subject:message-id:date:from:to
 :cc:subject:date:message-id:reply-to;
 bh=bRcHCS09qIXzpsS2uSdm+mEHbad4+TOiwA95Z6zx8tI=;
 b=MGbEtQ2PK1S3c2Lz4erVCgU4fHX2iFKC6i7UVkkZhjrtWTDPl7RxT9Gz6YjnF9+//W
 aAe3oURSoy2wA3wqCgpUyO4zXkcqIiU+1hmy9vAtsxDSzIj2fl30knV3bl0rqjLwi2zS
 7o6NUp436tr9T1sZpoLiUyTbEwCymqCiTV1So=
X-Google-DKIM-Signature: v=1; a=rsa-sha256; c=relaxed/relaxed;
 d=1e100.net; s=20230601; t=1735922740; x=1736527540;
 h=references:in-reply-to:cc:to:from:subject:message-id:date
 :x-gm-message-state:from:to:cc:subject:date:message-id:reply-to;
 bh=bRcHCS09qIXzpsS2uSdm+mEHbad4+TOiwA95Z6zx8tI=;
 b=DIfLJTwyUWP7Ix1leqmQjemXg7qCHdBzDxTbSlWY1q7KqkyVPPKF4uA+NQkEquev6B
 l6n9e4q48MJoc7SscL6hDgNgfjdNAA2BQMrKnA+jLxH5iipZDXhX/ORBq6H0MVIAaRK0
 rV+n55uUZat3qunEY8KJDziRHlyiyQB74tbV7Nq8skCeASh86ybdzAJ2qicbwlFHTfCu
 oEla9b1h7JHtPiMpfETSZrnq3xBrZ7RNRY6/s7/yILF0PhqtNhy7CCLrCREK9niQahCw
 fAAg0R0bXNTxhpMFUWmOpRFBvTcVinL+YpSHfLZVtreOHZ+fLvTWtI1tfuAojDlsetlq
 xY1Q==
X-Gm-Message-State: AOJu0Yz4DlHbWgstlxh52YXlbw8vhVQP80ePcdTFItrWMFYJvkJKkxOd
 eQiLsFL/9K++4+jyIoRI1zTTieNTXqVepfFdNS5EU6Jq72hGYADzgjeWdXMXAClH0SnX3N0MEuo
 mMKT7ZnjF00OC+/dKMEsGOnKCr4205pPIOOYrD2m2
X-Gm-Gg: ASbGnctJkcyWTKemkTjQhk9wP+t82wE5p4nuTtfs0BSnfmpNfNwDFVkM2mqplkrSyTr
 WnGrk+nSBEZM8bHVnaq4MiF5zJZEWStF+ojGpm1Azio+VApQctSV9/gsxFTDOohH66kjREzeezV
 8vQgMPPq39lhEwV/hgvlGimPSjvv3dhOp960GOGKce4d9Byw/e7gDjit3s5N6oBiQ4PZL0ngzof
 9v19mx3E+wGlkNFsVoRZkEb2zD7tuGayGJHnQcl7zkGxVww4xQSYxdmaWIQ8MFMrMAQnpLCJB0l
 +w==
X-Google-Smtp-Source: AGHT+IGylYEIMhdL+xmAt3Q2O735Tfh8L6sw9wxSDt70K02Hk7KaOi1n32a7yu+Mam8T7pD+dWQJW7CuAbrc
X-Received: by 2002:a05:6e02:2408:b0:3a7:8ee6:cd6e with SMTP id
 e9e14a558f8ab-3c2d26813eamr438175315ab.8.1735922739916; 
 Fri, 03 Jan 2025 08:45:39 -0800 (PST)
Received: from postal.iol.unh.edu (postal.iol.unh.edu. [132.177.123.84])
 by smtp-relay.gmail.com with ESMTPS id
 e9e14a558f8ab-3c0de3357f3sm20282175ab.3.2025.01.03.08.45.39
 (version=TLS1_2 cipher=ECDHE-ECDSA-AES128-GCM-SHA256 bits=128/128);
 Fri, 03 Jan 2025 08:45:39 -0800 (PST)
X-Relaying-Domain: iol.unh.edu
Date: Fri, 03 Jan 2025 08:45:39 -0800 (PST)
Message-ID: <67781433.050a0220.16a08c.7c8fSMTPIN_ADDED_MISSING@mx.google.com>
Received: from [172.17.0.4] (unknown [172.18.0.217])
 by postal.iol.unh.edu (Postfix) with ESMTP id 84FBD6052471;
 Fri,  3 Jan 2025 11:45:39 -0500 (EST)
Subject: |SUCCESS| pw149588 [PATCH] [RFC] net/virtio-user: implement MAC sett
From: dpdklab@iol.unh.edu
To: Test Report <test-report@dpdk.org>
Cc: dpdk-test-reports@iol.unh.edu
In-Reply-To: <20250103144127.1438904-1-maxime.coquelin@redhat.com>
References: <20250103144127.1438904-1-maxime.coquelin@redhat.com>
Content-Type: text/plain
X-BeenThere: test-report@dpdk.org
X-Mailman-Version: 2.1.29
Precedence: list
List-Id: automatic DPDK test reports <test-report.dpdk.org>
List-Unsubscribe: <https://mails.dpdk.org/options/test-report>,
 <mailto:test-report-request@dpdk.org?subject=unsubscribe>
List-Archive: <http://mails.dpdk.org/archives/test-report/>
List-Post: <mailto:test-report@dpdk.org>
List-Help: <mailto:test-report-request@dpdk.org?subject=help>
List-Subscribe: <https://mails.dpdk.org/listinfo/test-report>,
 <mailto:test-report-request@dpdk.org?subject=subscribe>
Errors-To: test-report-bounces@dpdk.org

Test-Label: iol-abi-testing
Test-Status: SUCCESS
http://dpdk.org/patch/149588

_Testing PASS_

Submitter: Maxime Coquelin <maxime.coquelin@redhat.com>
Date: Friday, January 03 2025 14:41:27 
DPDK git baseline: Repo:dpdk
  Branch: master
  CommitID:07604f264417959d76aa9fcb8cb0c3665f62f0d3

149588 --> testing pass

Upstream job id: Generic-DPDK-Compile-ABI#108586

Test environment and result as below:

+-------------------+----------+
|    Environment    | abi_test |
+===================+==========+
| CentOS Stream 9   | PASS     |
+-------------------+----------+
| Debian 12         | PASS     |
+-------------------+----------+
| Fedora 40         | PASS     |
+-------------------+----------+
| Fedora 40 (Clang) | PASS     |
+-------------------+----------+
| Fedora 41 (Clang) | PASS     |
+-------------------+----------+
| Fedora 41         | PASS     |
+-------------------+----------+
| openSUSE Leap 15  | PASS     |
+-------------------+----------+
| RHEL8             | PASS     |
+-------------------+----------+
| Ubuntu 22.04      | PASS     |
+-------------------+----------+
| Ubuntu 24.04      | PASS     |
+-------------------+----------+


CentOS Stream 9
	Kernel: Depends on container host
	Compiler: gcc 11.5.0 20240719 (Red Hat 11.5.0-2)

Debian 12
	Kernel: Depends on container host
	Compiler: gcc (Debian 12.2.0-14) 12.2.0

Fedora 40
	Kernel: Depends on container host
	Compiler: gcc 14.2.1 20240912 (Red Hat 14.2.1-3)

Fedora 40 (Clang)
	Kernel: Depends on container host
	Compiler: clang 18.1.8 (Fedora 18.1.8-1.fc40)

Fedora 41 (Clang)
	Kernel: Depends on container host
	Compiler: clang 19.1.5 (Fedora 19.1.5-1.fc41)

Fedora 41
	Kernel: Depends on container host
	Compiler: gcc 14.2.1 20240912 (Red Hat 14.2.1-3)

openSUSE Leap 15
	Kernel: Depends on container host
	Compiler: gcc (SUSE Linux) 7.5.0

RHEL8
	Kernel: Depends on container host
	Compiler: gcc 8.5.0 20210514 (Red Hat 8.5.0-22)

Ubuntu 22.04
	Kernel: Depends on container host
	Compiler: gcc (Ubuntu 11.4.0-1ubuntu1~22.04) 11.4.0

Ubuntu 24.04
	Kernel: Depends on container host
	Compiler: gcc (Ubuntu 13.3.0-6ubuntu2~24.04) 13.3.0

To view detailed results, visit:
https://lab.dpdk.org/results/dashboard/patchsets/32247/

UNH-IOL DPDK Community Lab

To manage your email subscriptions, visit: 
https://lab.dpdk.org/results/dashboard/preferences/subscriptions/