From mboxrd@z Thu Jan  1 00:00:00 1970
Return-Path: <test-report-bounces@dpdk.org>
Received: from mails.dpdk.org (mails.dpdk.org [217.70.189.124])
	by inbox.dpdk.org (Postfix) with ESMTP id EA61445FDA
	for <public@inbox.dpdk.org>; Fri,  3 Jan 2025 23:02:31 +0100 (CET)
Received: from mails.dpdk.org (localhost [127.0.0.1])
	by mails.dpdk.org (Postfix) with ESMTP id E61354067C;
	Fri,  3 Jan 2025 23:02:31 +0100 (CET)
Received: from mail-qt1-f226.google.com (mail-qt1-f226.google.com
 [209.85.160.226])
 by mails.dpdk.org (Postfix) with ESMTP id 85162402DC
 for <test-report@dpdk.org>; Fri,  3 Jan 2025 23:02:30 +0100 (CET)
Received: by mail-qt1-f226.google.com with SMTP id
 d75a77b69052e-467a6781bc8so91286251cf.2
 for <test-report@dpdk.org>; Fri, 03 Jan 2025 14:02:30 -0800 (PST)
DKIM-Signature: v=1; a=rsa-sha256; c=relaxed/relaxed;
 d=iol.unh.edu; s=unh-iol; t=1735941750; x=1736546550; darn=dpdk.org;
 h=references:in-reply-to:cc:to:from:subject:message-id:date:from:to
 :cc:subject:date:message-id:reply-to;
 bh=Grkm09XUFjbbNsHoEEX/BiHdiQT10PN9ye/yzNF9jFI=;
 b=SHU43mhBPnMGOi9XMdEa6sZVUWbqx0vqd/OPNqBVdGjUKHD7tD45zEX9BOjySwqf9g
 APA9dNikx0Ly7+YZtx1TJZOdM0bZlzE8oZ5LtXnPZlrm48RIbfE/OZvdpHKzizfEJBht
 HVdJoHJW08j74GPg9kMPmXObg64HQ1FHQGMD8=
X-Google-DKIM-Signature: v=1; a=rsa-sha256; c=relaxed/relaxed;
 d=1e100.net; s=20230601; t=1735941750; x=1736546550;
 h=references:in-reply-to:cc:to:from:subject:message-id:date
 :x-gm-message-state:from:to:cc:subject:date:message-id:reply-to;
 bh=Grkm09XUFjbbNsHoEEX/BiHdiQT10PN9ye/yzNF9jFI=;
 b=QXc3hdLXePfTRbHKra5QgLvsm9UfwujLxQbEPJb8bcRD8SfV/cfh4ogxVR0NrVz3xC
 MEtDUiM0eUkgTTb1dbX0nPswBDfcsYEbcCuzWAr8KwV5CGLj5+ibe3T/0FxCV6EKeh0F
 wMF3l8OolQVaHtoyGK0JrDbo+M+NfZcne/Vrc0w48NU8qk0mPWIL01FDLcqZ8+LLTUoN
 hRJ/IF8EIN/ZK1bBnBafTUhT2my5o3LlRsQZs+8V6EoijSvILB1zNCS7FZdgGaSWgP7C
 +LXiCfzYKLPsuWPUBBZLdK4vf3aeXHHQ7E3uB6XNbeA+RM2cPOWxv2MNNBhAM98YgZKr
 F/5A==
X-Gm-Message-State: AOJu0YxEQQSxbgOB5Xn3iQiJwBOZpaVXNXGd/Vm/yL7m1WZKx58o0JHg
 FtKgn11tAkBewsmBTTdVZ4VtOVeatuELABkScZu1vjbOjUOcSXBvsiy1glrQWj7Ota61IQQsB+Y
 aOco3iSo9FV4lQG5Lb7WOn/dLEoE1CqqMBftN67bS
X-Gm-Gg: ASbGncvUakOxQQ43D0Z0MTvM4ELZf3y7nw1XZ8IKwNjPS+u6fuJr/0xw0xK/BtpvTaW
 d6Af0BRqHzHNrC4PdkCQPu/BkhTcc3pTzE/XiosGvN5SE75flshvVKmbG/uek3XkLBRYvTRLVhr
 D0uJZ9T0DdyxAY01S5Fh14UdaQlPqHXP3sIL93prS9QC20tfeOSlRK5RkS6vu3cE/s021wqqKvx
 eG650ThmXIx5g9KeaY5ZtQTb3j2wXNby+gjIS0GhBZ6myiRQwpPdl70X6SSWCQ+MqPyym2P8Qdm
 tQ==
X-Google-Smtp-Source: AGHT+IF9Gk3oiEXqeoY0EUAuKazGrogj22RU6tEyle43w1IxRNio1xzy2H7DS0dNeBcDvp0n/U6l8T7EYZy9
X-Received: by 2002:a05:622a:1451:b0:467:61da:1cda with SMTP id
 d75a77b69052e-46a4a8e610dmr651579141cf.26.1735941749883; 
 Fri, 03 Jan 2025 14:02:29 -0800 (PST)
Received: from postal.iol.unh.edu (postal.iol.unh.edu. [132.177.123.84])
 by smtp-relay.gmail.com with ESMTPS id
 d75a77b69052e-46a3e6cf77csm14948781cf.7.2025.01.03.14.02.29
 (version=TLS1_2 cipher=ECDHE-ECDSA-AES128-GCM-SHA256 bits=128/128);
 Fri, 03 Jan 2025 14:02:29 -0800 (PST)
X-Relaying-Domain: iol.unh.edu
Date: Fri, 03 Jan 2025 14:02:29 -0800 (PST)
Message-ID: <67785e75.050a0220.68469.db68SMTPIN_ADDED_MISSING@mx.google.com>
Received: from [172.17.0.6] (unknown [172.18.0.213])
 by postal.iol.unh.edu (Postfix) with ESMTP id 954496052471;
 Fri,  3 Jan 2025 17:02:29 -0500 (EST)
Subject: |SUCCESS| pw149610-149611 [PATCH] [v2,5/5] app/test: add tests for p
From: dpdklab@iol.unh.edu
To: Test Report <test-report@dpdk.org>
Cc: dpdk-test-reports@iol.unh.edu
In-Reply-To: <1735936781-24199-6-git-send-email-andremue@linux.microsoft.com>
References: <1735936781-24199-6-git-send-email-andremue@linux.microsoft.com>
Content-Type: text/plain
X-BeenThere: test-report@dpdk.org
X-Mailman-Version: 2.1.29
Precedence: list
List-Id: automatic DPDK test reports <test-report.dpdk.org>
List-Unsubscribe: <https://mails.dpdk.org/options/test-report>,
 <mailto:test-report-request@dpdk.org?subject=unsubscribe>
List-Archive: <http://mails.dpdk.org/archives/test-report/>
List-Post: <mailto:test-report@dpdk.org>
List-Help: <mailto:test-report-request@dpdk.org?subject=help>
List-Subscribe: <https://mails.dpdk.org/listinfo/test-report>,
 <mailto:test-report-request@dpdk.org?subject=subscribe>
Errors-To: test-report-bounces@dpdk.org

Test-Label: iol-abi-testing
Test-Status: SUCCESS
http://dpdk.org/patch/149611

_Testing PASS_

Submitter: Andre Muezerie <andremue@linux.microsoft.com>
Date: Friday, January 03 2025 20:39:41 
DPDK git baseline: Repo:dpdk
  Branch: master
  CommitID:fd51012de5369679e807be1d6a81d63ef15015ce

149610-149611 --> testing pass

Upstream job id: Generic-DPDK-Compile-ABI#108590

Test environment and result as below:

+-------------------+----------+
|    Environment    | abi_test |
+===================+==========+
| CentOS Stream 9   | PASS     |
+-------------------+----------+
| Fedora 41 (Clang) | PASS     |
+-------------------+----------+
| Ubuntu 24.04      | PASS     |
+-------------------+----------+
| Debian 12         | PASS     |
+-------------------+----------+
| Fedora 40         | PASS     |
+-------------------+----------+
| openSUSE Leap 15  | PASS     |
+-------------------+----------+
| Fedora 41         | PASS     |
+-------------------+----------+
| RHEL9             | PASS     |
+-------------------+----------+
| Fedora 40 (Clang) | PASS     |
+-------------------+----------+
| RHEL8             | PASS     |
+-------------------+----------+
| Ubuntu 22.04      | PASS     |
+-------------------+----------+


CentOS Stream 9
	Kernel: Depends on container host
	Compiler: gcc 11.5.0 20240719 (Red Hat 11.5.0-2)

Fedora 41 (Clang)
	Kernel: Depends on container host
	Compiler: clang 19.1.5 (Fedora 19.1.5-1.fc41)

Ubuntu 24.04
	Kernel: Depends on container host
	Compiler: gcc (Ubuntu 13.3.0-6ubuntu2~24.04) 13.3.0

Debian 12
	Kernel: Depends on container host
	Compiler: gcc (Debian 12.2.0-14) 12.2.0

Fedora 40
	Kernel: Depends on container host
	Compiler: gcc 14.2.1 20240912 (Red Hat 14.2.1-3)

openSUSE Leap 15
	Kernel: Depends on container host
	Compiler: gcc (SUSE Linux) 7.5.0

Fedora 41
	Kernel: Depends on container host
	Compiler: gcc 14.2.1 20240912 (Red Hat 14.2.1-3)

RHEL9
	Kernel: Depends on container host
	Compiler: gcc 11.5.0 20240719 (Red Hat 11.5.0-2)

Fedora 40 (Clang)
	Kernel: Depends on container host
	Compiler: clang 18.1.8 (Fedora 18.1.8-1.fc40)

RHEL8
	Kernel: Depends on container host
	Compiler: gcc 8.5.0 20210514 (Red Hat 8.5.0-22)

Ubuntu 22.04
	Kernel: Depends on container host
	Compiler: gcc (Ubuntu 11.4.0-1ubuntu1~22.04) 11.4.0

To view detailed results, visit:
https://lab.dpdk.org/results/dashboard/patchsets/32250/

UNH-IOL DPDK Community Lab

To manage your email subscriptions, visit: 
https://lab.dpdk.org/results/dashboard/preferences/subscriptions/