From mboxrd@z Thu Jan  1 00:00:00 1970
Return-Path: <test-report-bounces@dpdk.org>
Received: from mails.dpdk.org (mails.dpdk.org [217.70.189.124])
	by inbox.dpdk.org (Postfix) with ESMTP id A499945FEB
	for <public@inbox.dpdk.org>; Sun,  5 Jan 2025 05:24:48 +0100 (CET)
Received: from mails.dpdk.org (localhost [127.0.0.1])
	by mails.dpdk.org (Postfix) with ESMTP id 81F0A40278;
	Sun,  5 Jan 2025 05:24:48 +0100 (CET)
Received: from mail-ot1-f100.google.com (mail-ot1-f100.google.com
 [209.85.210.100])
 by mails.dpdk.org (Postfix) with ESMTP id 231894014F
 for <test-report@dpdk.org>; Sun,  5 Jan 2025 05:24:47 +0100 (CET)
Received: by mail-ot1-f100.google.com with SMTP id
 46e09a7af769-71e17de2816so6899738a34.0
 for <test-report@dpdk.org>; Sat, 04 Jan 2025 20:24:47 -0800 (PST)
DKIM-Signature: v=1; a=rsa-sha256; c=relaxed/relaxed;
 d=iol.unh.edu; s=unh-iol; t=1736051086; x=1736655886; darn=dpdk.org;
 h=references:in-reply-to:cc:to:from:subject:message-id:date:from:to
 :cc:subject:date:message-id:reply-to;
 bh=Gvl9OIbwWlMKjY6LG9S/g5ZLFF6rC32H3ZYyXo1kHPg=;
 b=CfgdicsdsfoN5yS7KXLeBAcSorMGROkfUq9l1FFOEg4FvPmuXuLJ142zLF9dIDkNzL
 MuC64o4G7ILQrwX/shJusm2s2U/mpZN56PNtjJeugLrqBPC6AaNEusApp8uicLRUreZp
 AYUXcLKiRAqyXpuyUlk1+i0MtGLM9ZaMcGA6w=
X-Google-DKIM-Signature: v=1; a=rsa-sha256; c=relaxed/relaxed;
 d=1e100.net; s=20230601; t=1736051086; x=1736655886;
 h=references:in-reply-to:cc:to:from:subject:message-id:date
 :x-gm-message-state:from:to:cc:subject:date:message-id:reply-to;
 bh=Gvl9OIbwWlMKjY6LG9S/g5ZLFF6rC32H3ZYyXo1kHPg=;
 b=BzM4e5EJSTIvHoEALC/+5lkukVtrBK99wIESETxWaesnhRzHKPIu1sDIJJjgQiuyz8
 HQlJqNXqPFKIL+E/P5FJ1d8bk3dorNcZRPRi9rixy7kHgkuJ4vjFFkW4+YUV37xvp18E
 kG/UYCpazcVNlAypNuK1BLtth4L5kHKVDl1c/3bUBOswBeC0gd4qAq1fjqRjIt3tcGfF
 c/bM0Nyci8VtKyV7swLyKnUAZbegSOAa335H0UTQXgeOnVXpRa/6M+B2FoG1CToNiA1a
 VAvVXij1liBWSnbqqFI2Qhckr7bG2O4gDM0qCGr8ZpkuBMBqMjE3fTb6L9DZPjUfgMY/
 /2wQ==
X-Gm-Message-State: AOJu0YzzdeckMxueBDabCxZ0jSiJaF8FSq2LQVNIPxHQG47rBVOGE3vs
 NubobFU6wtWLtlAdaHu8SRI0D9bVFSal9T8wfNElWC5pPDRbNWrlqhfkTFdcNRub+YnbhLxzEkm
 UijnbQ4rx4ggErbkS7AwGcZ+OrvqYPnIfH9mnE6x2wKRzHRNJbLIFG77I
X-Gm-Gg: ASbGnctHqCOFyyy2y+1Hsb6Dg2tswiye5UmU6OWVD6LxwPUtiIUPIxuvkkmVfpRkgfN
 lrQaLczzm2J7rgXlRu9iQtuvCIM3vPNnePEI84VcD/tE+Ih47ifjXIJopFZPLzlOCO2wc/9id54
 eJiebCUfVT0qOUrTvqd22+UYvzH6prCGoldKdg939/CW/VbOeHhhwWJ+oG+evAvg9tjWm7WMB4O
 dOfEV4EWWvyyJkFJ9nxlntb8WMRm/KGtiCWrZGtsT1xxvi1tnSuW6or/hTZg6ks+qIpYiC5XIoK
 fY0DHw==
X-Google-Smtp-Source: AGHT+IFB4VA3XR+7yzziXou35w3PFEwtsjwXIMSXPMtVZDsTwhM34AQwKTk/l0I0m+F8VOs+voO/kehuznn3
X-Received: by 2002:a05:6830:3785:b0:71d:4488:19ed with SMTP id
 46e09a7af769-720ff685365mr33329448a34.5.1736051086250; 
 Sat, 04 Jan 2025 20:24:46 -0800 (PST)
Received: from postal.iol.unh.edu (postal.iol.unh.edu.
 [2606:4100:3880:1234::84]) by smtp-relay.gmail.com with ESMTPS id
 46e09a7af769-71fc94a02bcsm230308a34.0.2025.01.04.20.24.46
 (version=TLS1_2 cipher=ECDHE-ECDSA-AES128-GCM-SHA256 bits=128/128);
 Sat, 04 Jan 2025 20:24:46 -0800 (PST)
X-Relaying-Domain: iol.unh.edu
Date: Sat, 04 Jan 2025 20:24:46 -0800 (PST)
Message-ID: <677a098e.050a0220.1bb8c9.e168SMTPIN_ADDED_MISSING@mx.google.com>
Received: from [172.17.0.3] (unknown [172.18.0.217])
 by postal.iol.unh.edu (Postfix) with ESMTP id 668BF6052471;
 Sat,  4 Jan 2025 23:24:45 -0500 (EST)
Subject: |SUCCESS| pw149613-149630 [PATCH] [v13,21/21] hash: remove use of VL
From: dpdklab@iol.unh.edu
To: Test Report <test-report@dpdk.org>
Cc: dpdk-test-reports@iol.unh.edu
In-Reply-To: <1736045218-15957-22-git-send-email-andremue@linux.microsoft.com>
References: <1736045218-15957-22-git-send-email-andremue@linux.microsoft.com>
Content-Type: text/plain
X-BeenThere: test-report@dpdk.org
X-Mailman-Version: 2.1.29
Precedence: list
List-Id: automatic DPDK test reports <test-report.dpdk.org>
List-Unsubscribe: <https://mails.dpdk.org/options/test-report>,
 <mailto:test-report-request@dpdk.org?subject=unsubscribe>
List-Archive: <http://mails.dpdk.org/archives/test-report/>
List-Post: <mailto:test-report@dpdk.org>
List-Help: <mailto:test-report-request@dpdk.org?subject=help>
List-Subscribe: <https://mails.dpdk.org/listinfo/test-report>,
 <mailto:test-report-request@dpdk.org?subject=subscribe>
Errors-To: test-report-bounces@dpdk.org

Test-Label: iol-unit-amd64-testing
Test-Status: SUCCESS
http://dpdk.org/patch/149630

_Testing PASS_

Submitter: Andre Muezerie <andremue@linux.microsoft.com>
Date: Sunday, January 05 2025 02:46:58 
DPDK git baseline: Repo:dpdk
  Branch: master
  CommitID:fd51012de5369679e807be1d6a81d63ef15015ce

149613-149630 --> testing pass

Upstream job id: Generic-Unit-Test-DPDK#303636

Test environment and result as below:

+---------------------+----------------+
|     Environment     | dpdk_unit_test |
+=====================+================+
| Debian Bullseye     | PASS           |
+---------------------+----------------+
| CentOS Stream 9     | PASS           |
+---------------------+----------------+
| Debian 12           | PASS           |
+---------------------+----------------+
| Fedora 40           | PASS           |
+---------------------+----------------+
| Fedora 41 (Clang)   | PASS           |
+---------------------+----------------+
| RHEL8               | PASS           |
+---------------------+----------------+
| Ubuntu 20.04        | PASS           |
+---------------------+----------------+
| Ubuntu 22.04        | PASS           |
+---------------------+----------------+
| Fedora 40 (Clang)   | PASS           |
+---------------------+----------------+
| Fedora 41           | PASS           |
+---------------------+----------------+
| RHEL9               | PASS           |
+---------------------+----------------+
| Ubuntu 24.04        | PASS           |
+---------------------+----------------+
| Windows Server 2022 | PASS           |
+---------------------+----------------+


Debian Bullseye
	Kernel: Depends on container host
	Compiler: gcc (Debian 10.2.1-6) 10.2.1 20210110

CentOS Stream 9
	Kernel: Depends on container host
	Compiler: gcc 11.5.0 20240719 (Red Hat 11.5.0-2)

Debian 12
	Kernel: Depends on container host
	Compiler: gcc (Debian 12.2.0-14) 12.2.0

Fedora 40
	Kernel: Depends on container host
	Compiler: gcc 14.2.1 20240912 (Red Hat 14.2.1-3)

Fedora 41 (Clang)
	Kernel: Depends on container host
	Compiler: clang 19.1.5 (Fedora 19.1.5-1.fc41)

RHEL8
	Kernel: Depends on container host
	Compiler: gcc 8.5.0 20210514 (Red Hat 8.5.0-22)

Ubuntu 20.04
	Kernel: Depends on container host
	Compiler: gcc (Ubuntu 9.4.0-1ubuntu1~20.04.2) 9.4.0

Ubuntu 22.04
	Kernel: Depends on container host
	Compiler: gcc (Ubuntu 11.4.0-1ubuntu1~22.04) 11.4.0

Fedora 40 (Clang)
	Kernel: Depends on container host
	Compiler: clang 18.1.8 (Fedora 18.1.8-1.fc40)

Fedora 41
	Kernel: Depends on container host
	Compiler: gcc 14.2.1 20240912 (Red Hat 14.2.1-3)

RHEL9
	Kernel: Depends on container host
	Compiler: gcc 11.5.0 20240719 (Red Hat 11.5.0-2)

Ubuntu 24.04
	Kernel: Depends on container host
	Compiler: gcc (Ubuntu 13.3.0-6ubuntu2~24.04) 13.3.0

Windows Server 2022
	Kernel: 10.0.20348.2031
	Compiler: clang 15.0.7, gcc 14.1.0 (MinGW), and MSVC VS 19.39.33521

To view detailed results, visit:
https://lab.dpdk.org/results/dashboard/patchsets/32252/

UNH-IOL DPDK Community Lab

To manage your email subscriptions, visit: 
https://lab.dpdk.org/results/dashboard/preferences/subscriptions/