From mboxrd@z Thu Jan 1 00:00:00 1970 Return-Path: Received: from mails.dpdk.org (mails.dpdk.org [217.70.189.124]) by inbox.dpdk.org (Postfix) with ESMTP id AFC8D46001 for ; Mon, 6 Jan 2025 18:15:31 +0100 (CET) Received: from mails.dpdk.org (localhost [127.0.0.1]) by mails.dpdk.org (Postfix) with ESMTP id 8BDED40A71; Mon, 6 Jan 2025 18:15:31 +0100 (CET) Received: from mail-il1-f228.google.com (mail-il1-f228.google.com [209.85.166.228]) by mails.dpdk.org (Postfix) with ESMTP id 00E4A40687 for ; Mon, 6 Jan 2025 18:15:29 +0100 (CET) Received: by mail-il1-f228.google.com with SMTP id e9e14a558f8ab-3a8180205f3so56115485ab.0 for ; Mon, 06 Jan 2025 09:15:29 -0800 (PST) DKIM-Signature: v=1; a=rsa-sha256; c=relaxed/relaxed; d=iol.unh.edu; s=unh-iol; t=1736183729; x=1736788529; darn=dpdk.org; h=references:in-reply-to:cc:to:from:subject:message-id:date:from:to :cc:subject:date:message-id:reply-to; bh=xymDNvAco35dtgE2o2N8PwHxZ0Weqe6x+udEka/WdYA=; b=LEFA8XS+s4TCa+5PACtpzgWmGaQjFZUfLQ9w7FSYfA/zbuoj8MKcLgYOU+jq0yKXzC saqsZtBNpyVcIi84KCOofjMQ4Ei5Mz/4OzuMj506Vj7cdgNalAQ1Dt7JKaPcBUx1Iy6D JXTiLhbfFJHfdnVL0LzbYboYCLnmzfwDzqyMM= X-Google-DKIM-Signature: v=1; a=rsa-sha256; c=relaxed/relaxed; d=1e100.net; s=20230601; t=1736183729; x=1736788529; h=references:in-reply-to:cc:to:from:subject:message-id:date :x-gm-message-state:from:to:cc:subject:date:message-id:reply-to; bh=xymDNvAco35dtgE2o2N8PwHxZ0Weqe6x+udEka/WdYA=; b=krzdN58a4l4mIjje/yjQsrfr+hT1JePzDHC7Yasg1GPMUN285DTcwzgrfufHlxBSX1 P/09vsAFAvXSZEQfmk7M+ZQFvkdIIYJamM4uVagtOINtiG/oWSX0OvkZXZDUx7lljhnQ IW0kbW0MPpM27+7+RJvRhiBxwr0eqk/yaDPZ0Psqx5L8jzHe6VurtLKFx84JP8QCJ/Ps 7kYFQgtdy+EF0T3MK1zmjOg6/A6HFDMst4bUwwolVIP7/7l1fXV6rsSPBVU09VBAc4Fk omLPalBP8g4VhYTZJCvmPnzq1l6aV0Hkztbnr4hlXxOxieMKLiBfddSi4bPSMvvaBWP7 NcTQ== X-Gm-Message-State: AOJu0YxIW1RShnecY4FzqycgGxlYVZsZiwnzsGckwfJ/iBh8raHAd60W u0nLgA2f7ywOCkydvO9rgr/gdFurznzMN+o4IOAKbBOjsLOrYmiK8rfN7FTP/CtIpuarAgvS1Jj gOTm4jh1tZtaSm8GLYy9o7Sd8zd52KDXu/zg7q/+09rGLAUZAmbyAWkl4 X-Gm-Gg: ASbGncu+UUvnY3HL1W3sOzVRcqM3d04sNktDEdxQIZ6eyB5N45i/cC8sIbYXUmpSBZ8 AK59NRGDKfVQ8nOeqONPhGyIfzNRdtYmOXpTsp+yL61b1TI91/+/OjXV39nngL2A6KhXstajPrE Gg9ugU0mSHQnVJiPPLKhCT/8Wu6mlimVyQf2Nhc75TZyGq4j6ADJNZlO0hVJydVnJmPdHU2qbWi RGGMAKvd9rGd/VXa5q9fBH93ovEWkvk+RKFYr+3ejmNyP5MpylXWhPsTdtOApoUVtFZB/mKxMmh V7uH+w== X-Google-Smtp-Source: AGHT+IG3ERBgznFhbjyJyaMZBPd1uDKH+cPlCb7+QYKK5Ll3oxDp0Tp0Kfcdv9KSsWmd/sf+nZydF4i71jPN X-Received: by 2002:a05:6e02:2185:b0:3a7:e1c3:11f5 with SMTP id e9e14a558f8ab-3ce31d3c238mr1206455ab.6.1736183729083; Mon, 06 Jan 2025 09:15:29 -0800 (PST) Received: from postal.iol.unh.edu (postal.iol.unh.edu. [2606:4100:3880:1234::84]) by smtp-relay.gmail.com with ESMTPS id e9e14a558f8ab-3c0e5a1e3e5sm23336635ab.47.2025.01.06.09.15.29 (version=TLS1_2 cipher=ECDHE-ECDSA-AES128-GCM-SHA256 bits=128/128); Mon, 06 Jan 2025 09:15:29 -0800 (PST) X-Relaying-Domain: iol.unh.edu Date: Mon, 06 Jan 2025 09:15:29 -0800 (PST) Message-ID: <677c0fb1.920a0220.3dbc6b.4d8fSMTPIN_ADDED_MISSING@mx.google.com> Received: from [172.17.0.3] (unknown [172.18.0.217]) by postal.iol.unh.edu (Postfix) with ESMTP id 931496052471; Mon, 6 Jan 2025 12:15:28 -0500 (EST) Subject: |SUCCESS| pw149638 [PATCH] [v2] net/af_packet: allow changing fanout From: dpdklab@iol.unh.edu To: Test Report Cc: dpdk-test-reports@iol.unh.edu In-Reply-To: <20250106153508.11262-1-tudor.cornea@gmail.com> References: <20250106153508.11262-1-tudor.cornea@gmail.com> Content-Type: text/plain X-BeenThere: test-report@dpdk.org X-Mailman-Version: 2.1.29 Precedence: list List-Id: automatic DPDK test reports List-Unsubscribe: , List-Archive: List-Post: List-Help: List-Subscribe: , Errors-To: test-report-bounces@dpdk.org Test-Label: iol-sample-apps-testing Test-Status: SUCCESS http://dpdk.org/patch/149638 _Testing PASS_ Submitter: Tudor Cornea Date: Monday, January 06 2025 15:35:08 DPDK git baseline: Repo:dpdk Branch: master CommitID:94ad302b4ebba4a5b6706a1c43ea0505e5098169 149638 --> testing pass Upstream job id: ACVP-FIPS-testing#8472 Test environment and result as below: +--------------------+----------------------+----------------------+ | Environment | dpdk_fips_validation | compressdev_zlib_pmd | +====================+======================+======================+ | Ubuntu 20.04 | PASS | SKIPPED | +--------------------+----------------------+----------------------+ | Ubuntu 22.04 (ARM) | SKIPPED | PASS | +--------------------+----------------------+----------------------+ | Ubuntu 22.04 | SKIPPED | PASS | +--------------------+----------------------+----------------------+ Ubuntu 20.04 Kernel: Depends on container host Compiler: gcc (Ubuntu 9.4.0-1ubuntu1~20.04.2) 9.4.0 Ubuntu 22.04 (ARM) Kernel: 5.15.0-97-generic Compiler: gcc gcc (Ubuntu 11.4.0-1ubuntu1~22.04) 11.4.0 Ubuntu 22.04 Kernel: 5.15.0-100-generic Compiler: gcc gcc (Ubuntu 11.4.0-1ubuntu1~22.04) 11.4.0 To view detailed results, visit: https://lab.dpdk.org/results/dashboard/patchsets/32257/ UNH-IOL DPDK Community Lab To manage your email subscriptions, visit: https://lab.dpdk.org/results/dashboard/preferences/subscriptions/