From mboxrd@z Thu Jan 1 00:00:00 1970 Return-Path: Received: from mails.dpdk.org (mails.dpdk.org [217.70.189.124]) by inbox.dpdk.org (Postfix) with ESMTP id DD4D646001 for ; Mon, 6 Jan 2025 19:11:37 +0100 (CET) Received: from mails.dpdk.org (localhost [127.0.0.1]) by mails.dpdk.org (Postfix) with ESMTP id D59B740A71; Mon, 6 Jan 2025 19:11:37 +0100 (CET) Received: from mail-io1-f98.google.com (mail-io1-f98.google.com [209.85.166.98]) by mails.dpdk.org (Postfix) with ESMTP id 1540840687 for ; Mon, 6 Jan 2025 19:11:37 +0100 (CET) Received: by mail-io1-f98.google.com with SMTP id ca18e2360f4ac-844e1020253so575567839f.3 for ; Mon, 06 Jan 2025 10:11:37 -0800 (PST) DKIM-Signature: v=1; a=rsa-sha256; c=relaxed/relaxed; d=iol.unh.edu; s=unh-iol; t=1736187096; x=1736791896; darn=dpdk.org; h=references:in-reply-to:cc:to:from:subject:message-id:date:from:to :cc:subject:date:message-id:reply-to; bh=nWtwUwT1yZmoUK4OFFULA3YBBrvVAOc9ESDUsfSzNw0=; b=VHZapl3TaDFTypF22LCMnDVvYm70haVe8j1xxearEisyg/JZ6lKkdjkKEI2unCFxrV gaNRQzlauoWgBPRxnX1OXnUTeEMLzGOlFfDAwakGjCWev0SHdIvVr6AcN4SeapLFbjLO fjmEIdAzS7B2BX5flPXvnabkEkSGxEB/Ch1DI= X-Google-DKIM-Signature: v=1; a=rsa-sha256; c=relaxed/relaxed; d=1e100.net; s=20230601; t=1736187096; x=1736791896; h=references:in-reply-to:cc:to:from:subject:message-id:date :x-gm-message-state:from:to:cc:subject:date:message-id:reply-to; bh=nWtwUwT1yZmoUK4OFFULA3YBBrvVAOc9ESDUsfSzNw0=; b=FLhFTaVs2yc3KsqM2cLlEID3ZcOYm35/S26QY+kKPV7XKQMMglQE1hP22mRbjWB0oF SZXEyuRsl7Xd5Wf42XmCNDWWCcjRroX05qhp7k+T184rrjjB5Ccg/UHan6Wbq1wMEBZU t1+jvJaBabDHb2/eqMs4h6MiujRqkEgbZPNoXbh9V8okC4Q5uRWQBFfOaOO+fscetpCm sen/Nt0paRh+XNEypxSMcLXhHM7Rpx6VgxbjIIk6L9tqaxyWSjDRBelQOOBNRm9bvkAm RfqHul/b+WBC8aJXl0CpL7K4ttcdMmLJ9eL5bdJx72iK/noq/jAhVP1UBoqyW2iWuKg9 KTIQ== X-Gm-Message-State: AOJu0Yz0stbjxlzHJnx8+SZ30GnM00neWR591fj7BYt0L5KB03FzVhf1 YtvasetcqMIJMI4AlP5Q9kJ329N/cQoG3AtLLS/i2S55u6lArFQ7CyTQzmGPUJgE0B2E5/HigZ5 3zyuzOtJP6cipWrUnYPbA2WNCh8+w2b/jPg6+EKGxcQoSqoexr/jeMFSy X-Gm-Gg: ASbGncv9GT2/j7CgWzKnMn+2fZLERVuiB49I4iTPZLxIoiam3IyJrSnR0IrlMQDY6rw eyp4sFvdQjBDWMpcGWuJBqCfMSgdMGL+oj4ZUBmjhwNAO4/fmHMN6sSAhV7fVxXi/j+9RZfVJF0 y/pmzqYHPVFqjupMleo12f+JiNpd4AUUr4IITsetKXpzd5I1RzfWB8v0uRNpmTw8uWPKPJ0K11H R+m6tNW71KhSbvozIC04SrzfPLbo4eunPOJAW/RTgfLXWmifNJqR6+r7OOkvv2QAiinoGyAMtos aZl3hA== X-Google-Smtp-Source: AGHT+IGjuDmKD4WnAJvyXCyEXwJgdS94w7nI9YyjiwuPKhQZxfw228N/Rss9ENXQouq/XGrWorBM8jf9rYAt X-Received: by 2002:a05:6602:3411:b0:847:5b61:63b2 with SMTP id ca18e2360f4ac-8499e68b80emr4899345139f.12.1736187096393; Mon, 06 Jan 2025 10:11:36 -0800 (PST) Received: from postal.iol.unh.edu (postal.iol.unh.edu. [2606:4100:3880:1234::84]) by smtp-relay.gmail.com with ESMTPS id 8926c6da1cb9f-4e68c217a22sm2018309173.48.2025.01.06.10.11.36 (version=TLS1_2 cipher=ECDHE-ECDSA-AES128-GCM-SHA256 bits=128/128); Mon, 06 Jan 2025 10:11:36 -0800 (PST) X-Relaying-Domain: iol.unh.edu Date: Mon, 06 Jan 2025 10:11:36 -0800 (PST) Message-ID: <677c1cd8.050a0220.3bc23c.39ecSMTPIN_ADDED_MISSING@mx.google.com> Received: from [172.21.0.5] (unknown [172.18.0.240]) by postal.iol.unh.edu (Postfix) with ESMTP id 104CF6052471; Mon, 6 Jan 2025 13:11:36 -0500 (EST) Subject: |SUCCESS| pw149640-149639 [PATCH] [2/2] app/test: enable ipsec-relat From: dpdklab@iol.unh.edu To: Test Report Cc: dpdk-test-reports@iol.unh.edu In-Reply-To: <1736181948-8907-3-git-send-email-andremue@linux.microsoft.com> References: <1736181948-8907-3-git-send-email-andremue@linux.microsoft.com> Content-Type: text/plain X-BeenThere: test-report@dpdk.org X-Mailman-Version: 2.1.29 Precedence: list List-Id: automatic DPDK test reports List-Unsubscribe: , List-Archive: List-Post: List-Help: List-Subscribe: , Errors-To: test-report-bounces@dpdk.org Test-Label: iol-unit-amd64-testing Test-Status: SUCCESS http://dpdk.org/patch/149639 _Testing PASS_ Submitter: Andre Muezerie Date: Monday, January 06 2025 16:45:48 DPDK git baseline: Repo:dpdk Branch: master CommitID:7df61db6c387703a36306c1aea92225921e2eeb2 149640-149639 --> testing pass Upstream job id: Generic-Unit-Test-DPDK#303905 Test environment and result as below: +---------------------+----------------+ | Environment | dpdk_unit_test | +=====================+================+ | Fedora 41 | PASS | +---------------------+----------------+ | CentOS Stream 9 | PASS | +---------------------+----------------+ | Debian 12 | PASS | +---------------------+----------------+ | Debian Bullseye | PASS | +---------------------+----------------+ | Fedora 40 | PASS | +---------------------+----------------+ | RHEL9 | PASS | +---------------------+----------------+ | Ubuntu 20.04 | PASS | +---------------------+----------------+ | Fedora 41 (Clang) | PASS | +---------------------+----------------+ | Fedora 40 (Clang) | PASS | +---------------------+----------------+ | RHEL8 | PASS | +---------------------+----------------+ | Ubuntu 22.04 | PASS | +---------------------+----------------+ | Ubuntu 24.04 | PASS | +---------------------+----------------+ | Windows Server 2022 | PASS | +---------------------+----------------+ Fedora 41 Kernel: Depends on container host Compiler: gcc 14.2.1 20240912 (Red Hat 14.2.1-3) CentOS Stream 9 Kernel: Depends on container host Compiler: gcc 11.5.0 20240719 (Red Hat 11.5.0-2) Debian 12 Kernel: Depends on container host Compiler: gcc (Debian 12.2.0-14) 12.2.0 Debian Bullseye Kernel: Depends on container host Compiler: gcc (Debian 10.2.1-6) 10.2.1 20210110 Fedora 40 Kernel: Depends on container host Compiler: gcc 14.2.1 20240912 (Red Hat 14.2.1-3) RHEL9 Kernel: Depends on container host Compiler: gcc 11.5.0 20240719 (Red Hat 11.5.0-2) Ubuntu 20.04 Kernel: Depends on container host Compiler: gcc (Ubuntu 9.4.0-1ubuntu1~20.04.2) 9.4.0 Fedora 41 (Clang) Kernel: Depends on container host Compiler: clang 19.1.5 (Fedora 19.1.5-1.fc41) Fedora 40 (Clang) Kernel: Depends on container host Compiler: clang 18.1.8 (Fedora 18.1.8-1.fc40) RHEL8 Kernel: Depends on container host Compiler: gcc 8.5.0 20210514 (Red Hat 8.5.0-22) Ubuntu 22.04 Kernel: Depends on container host Compiler: gcc (Ubuntu 11.4.0-1ubuntu1~22.04) 11.4.0 Ubuntu 24.04 Kernel: Depends on container host Compiler: gcc (Ubuntu 13.3.0-6ubuntu2~24.04) 13.3.0 Windows Server 2022 Kernel: 10.0.20348.2031 Compiler: clang 15.0.7, gcc 14.1.0 (MinGW), and MSVC VS 19.39.33521 To view detailed results, visit: https://lab.dpdk.org/results/dashboard/patchsets/32258/ UNH-IOL DPDK Community Lab To manage your email subscriptions, visit: https://lab.dpdk.org/results/dashboard/preferences/subscriptions/