From mboxrd@z Thu Jan  1 00:00:00 1970
Return-Path: <test-report-bounces@dpdk.org>
Received: from mails.dpdk.org (mails.dpdk.org [217.70.189.124])
	by inbox.dpdk.org (Postfix) with ESMTP id 689CA46003
	for <public@inbox.dpdk.org>; Mon,  6 Jan 2025 21:38:38 +0100 (CET)
Received: from mails.dpdk.org (localhost [127.0.0.1])
	by mails.dpdk.org (Postfix) with ESMTP id 5B23A40687;
	Mon,  6 Jan 2025 21:38:38 +0100 (CET)
Received: from mail-io1-f100.google.com (mail-io1-f100.google.com
 [209.85.166.100])
 by mails.dpdk.org (Postfix) with ESMTP id F2AD54066E
 for <test-report@dpdk.org>; Mon,  6 Jan 2025 21:38:36 +0100 (CET)
Received: by mail-io1-f100.google.com with SMTP id
 ca18e2360f4ac-844d7f81dd1so643129739f.2
 for <test-report@dpdk.org>; Mon, 06 Jan 2025 12:38:36 -0800 (PST)
DKIM-Signature: v=1; a=rsa-sha256; c=relaxed/relaxed;
 d=iol.unh.edu; s=unh-iol; t=1736195916; x=1736800716; darn=dpdk.org;
 h=references:in-reply-to:cc:to:from:subject:message-id:date:from:to
 :cc:subject:date:message-id:reply-to;
 bh=m0gl0YraMqRkjQi58qDh2je403CBiomZSDzdUqioLcQ=;
 b=jy/gKk4Ou58TVeHRg1grrPvwyODbUEQtHWBK7Xd1XtOAa2aahRVsTMu0EYKuR3gOVw
 OCuexX5NIolMoVCSIL3+A1tIpwUIILJFArZpRc+DI36+lKFpSgJPPberKM/LcS6HWj8O
 dwkjt44j5imPIKbNlOKUED8zhaI5/+ZwH5IGw=
X-Google-DKIM-Signature: v=1; a=rsa-sha256; c=relaxed/relaxed;
 d=1e100.net; s=20230601; t=1736195916; x=1736800716;
 h=references:in-reply-to:cc:to:from:subject:message-id:date
 :x-gm-message-state:from:to:cc:subject:date:message-id:reply-to;
 bh=m0gl0YraMqRkjQi58qDh2je403CBiomZSDzdUqioLcQ=;
 b=afy3hMzGzkhPCl3VzEp5vzRihwAGYnUCr8tTxH3OgMTTUrHRr4iD5bEjHK92rGweSi
 BDLkI6XNVopakduiiOwgDKUIfIApos7ZfaJgwPIlySi7sE8UsXWkQAeEWou4yptfumpJ
 A0k4iHs6BVEA/Cdtj5HAH0W4dFjC1fkjjXyIPlhGlPdCR/lWQZwUfCzok14CFmOHHJ+X
 zew+cYiSBhGVDQbdVWnShORTVF7XU0gL6s/7H7GP1SrXQaGfuN3lLHYXMqgrb9ES+5Os
 K5SAG712NN2Swc/M8bWAn3s9KTWDd+07JtaU0I+2IocZb9DsKSE275/X19kUwCXgz6h7
 zbqg==
X-Gm-Message-State: AOJu0YwtXQKfahG8gXnnPZuHZE3OenBLSlNq0bnl/9LI5UYLT/RiX7VA
 5REssain1bkYHnBWgs2wSObE/IAdNhmIZ1G24VI5wfgvOmg4idL1hA6ST3JOx8muU5+FmeGG3ie
 YTF/6irmpkm5hgxfzgJ/w+GeNCkxMXIc2k9ua9CgBHu6jHROjPivRKk8T
X-Gm-Gg: ASbGnctUrm2UydS8e48uFnkcsvuxe3mm2yJ+Nx2M3wyetHln9S16gyck9868mv4zFvY
 UvXABrpAkdFDfI33CX0OrpUaGTxpBXjEufoQpS8i6LvpvVw2DAwB1whjsHLOW4t8y0v6PZmmT2r
 IR+OG0PO88oSPgvAaWUDWURjHro1AzvaMUiujG1gOnwNVQl2tkpmFs8dRRIOTggH/FI5EzyKW9G
 rHsL1i3Zh/ubLngKnhINIZiB/FMURy8ZvTcFPJbRwni07MRXJXTDt4vBC4CpfaEdgIa9l6aQ8EV
 7Bq12w==
X-Google-Smtp-Source: AGHT+IE3705N71P6zErIiF6JzvlIptkByP16wN/UWa5LGUozKaPUINN+KsXuOaCwN+TyHkndTGjU6kZvUd8d
X-Received: by 2002:a05:6e02:20ed:b0:3a7:e592:55ee with SMTP id
 e9e14a558f8ab-3c2d5724dbemr491430705ab.20.1736195916170; 
 Mon, 06 Jan 2025 12:38:36 -0800 (PST)
Received: from postal.iol.unh.edu (postal.iol.unh.edu.
 [2606:4100:3880:1234::84]) by smtp-relay.gmail.com with ESMTPS id
 e9e14a558f8ab-3c0e5a1e40asm23386495ab.50.2025.01.06.12.38.36
 (version=TLS1_2 cipher=ECDHE-ECDSA-AES128-GCM-SHA256 bits=128/128);
 Mon, 06 Jan 2025 12:38:36 -0800 (PST)
X-Relaying-Domain: iol.unh.edu
Date: Mon, 06 Jan 2025 12:38:36 -0800 (PST)
Message-ID: <677c3f4c.920a0220.2e20b9.84d4SMTPIN_ADDED_MISSING@mx.google.com>
Received: from [172.21.0.5] (unknown [172.18.0.240])
 by postal.iol.unh.edu (Postfix) with ESMTP id 973B16052471;
 Mon,  6 Jan 2025 15:38:35 -0500 (EST)
Subject: |SUCCESS| pw149549-149551 [PATCH] [v5,3/3] drivers/net: add diagnost
From: dpdklab@iol.unh.edu
To: Test Report <test-report@dpdk.org>
Cc: dpdk-test-reports@iol.unh.edu
In-Reply-To: <1735671358-26003-4-git-send-email-andremue@linux.microsoft.com>
References: <1735671358-26003-4-git-send-email-andremue@linux.microsoft.com>
Content-Type: text/plain
X-BeenThere: test-report@dpdk.org
X-Mailman-Version: 2.1.29
Precedence: list
List-Id: automatic DPDK test reports <test-report.dpdk.org>
List-Unsubscribe: <https://mails.dpdk.org/options/test-report>,
 <mailto:test-report-request@dpdk.org?subject=unsubscribe>
List-Archive: <http://mails.dpdk.org/archives/test-report/>
List-Post: <mailto:test-report@dpdk.org>
List-Help: <mailto:test-report-request@dpdk.org?subject=help>
List-Subscribe: <https://mails.dpdk.org/listinfo/test-report>,
 <mailto:test-report-request@dpdk.org?subject=subscribe>
Errors-To: test-report-bounces@dpdk.org

Test-Label: iol-abi-testing
Test-Status: SUCCESS
http://dpdk.org/patch/149551

_Testing PASS_

Submitter: Andre Muezerie <andremue@linux.microsoft.com>
Date: Tuesday, December 31 2024 18:55:58 
DPDK git baseline: Repo:dpdk
  Branch: master
  CommitID:fd51012de5369679e807be1d6a81d63ef15015ce

149549-149551 --> testing pass

Upstream job id: Generic-DPDK-Compile-ABI#108846

Test environment and result as below:

+-------------------+----------+
|    Environment    | abi_test |
+===================+==========+
| CentOS Stream 9   | PASS     |
+-------------------+----------+
| Debian 12         | PASS     |
+-------------------+----------+
| Fedora 41         | PASS     |
+-------------------+----------+
| Fedora 41 (Clang) | PASS     |
+-------------------+----------+
| Fedora 40 (Clang) | PASS     |
+-------------------+----------+
| Fedora 40         | PASS     |
+-------------------+----------+
| openSUSE Leap 15  | PASS     |
+-------------------+----------+
| Ubuntu 24.04      | PASS     |
+-------------------+----------+
| RHEL8             | PASS     |
+-------------------+----------+
| Ubuntu 22.04      | PASS     |
+-------------------+----------+
| RHEL9             | PASS     |
+-------------------+----------+


CentOS Stream 9
	Kernel: Depends on container host
	Compiler: gcc 11.5.0 20240719 (Red Hat 11.5.0-2)

Debian 12
	Kernel: Depends on container host
	Compiler: gcc (Debian 12.2.0-14) 12.2.0

Fedora 41
	Kernel: Depends on container host
	Compiler: gcc 14.2.1 20240912 (Red Hat 14.2.1-3)

Fedora 41 (Clang)
	Kernel: Depends on container host
	Compiler: clang 19.1.5 (Fedora 19.1.5-1.fc41)

Fedora 40 (Clang)
	Kernel: Depends on container host
	Compiler: clang 18.1.8 (Fedora 18.1.8-1.fc40)

Fedora 40
	Kernel: Depends on container host
	Compiler: gcc 14.2.1 20240912 (Red Hat 14.2.1-3)

openSUSE Leap 15
	Kernel: Depends on container host
	Compiler: gcc (SUSE Linux) 7.5.0

Ubuntu 24.04
	Kernel: Depends on container host
	Compiler: gcc (Ubuntu 13.3.0-6ubuntu2~24.04) 13.3.0

RHEL8
	Kernel: Depends on container host
	Compiler: gcc 8.5.0 20210514 (Red Hat 8.5.0-22)

Ubuntu 22.04
	Kernel: Depends on container host
	Compiler: gcc (Ubuntu 11.4.0-1ubuntu1~22.04) 11.4.0

RHEL9
	Kernel: Depends on container host
	Compiler: gcc 11.5.0 20240719 (Red Hat 11.5.0-2)

To view detailed results, visit:
https://lab.dpdk.org/results/dashboard/patchsets/32231/

UNH-IOL DPDK Community Lab

To manage your email subscriptions, visit: 
https://lab.dpdk.org/results/dashboard/preferences/subscriptions/