From mboxrd@z Thu Jan  1 00:00:00 1970
Return-Path: <test-report-bounces@dpdk.org>
Received: from mails.dpdk.org (mails.dpdk.org [217.70.189.124])
	by inbox.dpdk.org (Postfix) with ESMTP id 90CC446005
	for <public@inbox.dpdk.org>; Tue,  7 Jan 2025 02:35:23 +0100 (CET)
Received: from mails.dpdk.org (localhost [127.0.0.1])
	by mails.dpdk.org (Postfix) with ESMTP id 652AB4027D;
	Tue,  7 Jan 2025 02:35:23 +0100 (CET)
Received: from mail-pl1-f228.google.com (mail-pl1-f228.google.com
 [209.85.214.228])
 by mails.dpdk.org (Postfix) with ESMTP id D816F40150
 for <test-report@dpdk.org>; Tue,  7 Jan 2025 02:35:21 +0100 (CET)
Received: by mail-pl1-f228.google.com with SMTP id
 d9443c01a7336-21a1e6fd923so21018125ad.1
 for <test-report@dpdk.org>; Mon, 06 Jan 2025 17:35:21 -0800 (PST)
DKIM-Signature: v=1; a=rsa-sha256; c=relaxed/relaxed;
 d=iol.unh.edu; s=unh-iol; t=1736213721; x=1736818521; darn=dpdk.org;
 h=references:in-reply-to:cc:to:from:subject:message-id:date:from:to
 :cc:subject:date:message-id:reply-to;
 bh=SXBPI8UZCWZDEBX9RN1zPs/0uCpFzrmV5bvWwCt3aII=;
 b=U/IEgnM/C2uO8dydGCOmT9RGt7STuyAnRsLd5ezDPPNywH7OcRBhY6TLK/7a93aX++
 eMcyx8s/Z43W2XclwszLj7u1JuY3Y6XY6lF2lmO0/XWhv7EV56ASYv03ULN/ac4Pyfo3
 c00ul5mNRUTUfv1H2lAjN9hmLJx+lCcxzK5pY=
X-Google-DKIM-Signature: v=1; a=rsa-sha256; c=relaxed/relaxed;
 d=1e100.net; s=20230601; t=1736213721; x=1736818521;
 h=references:in-reply-to:cc:to:from:subject:message-id:date
 :x-gm-message-state:from:to:cc:subject:date:message-id:reply-to;
 bh=SXBPI8UZCWZDEBX9RN1zPs/0uCpFzrmV5bvWwCt3aII=;
 b=Cu/E8sqWon3uTXpRfrdp2KXjsYaNwqGYWBYdrXGdNTlnweQG+LJQV/jQFZyupgdR7K
 MywNY2r21Ml32LTpvPjXWJTSp6qApAPGpEGZ4OUDoS9T9X2u1VlSW39iMsRoJXjM+C04
 LZGHgHo0/SIzzqy1GF6JC5QmjUwBTInRjwqk5feTRIHxeuc24u/dadQcYmkeI/hxkn7N
 JFyVXb8PbTOuufQKtQLGaNSyo+aHXSkeu1fzt/+VEILR6xRobSoyO4QcgctMrGuy4JOy
 MjSlMJ2dA97o2n9R0HVTj99H77Ukbxq9p8xJZMgzi1yCtkGTlRSZOB2oGSBqZ9PXJNTd
 jwGg==
X-Gm-Message-State: AOJu0Yzu1RI+wimKVpx4N66xmhBr58k+eeIYyLIeEOW4So2hn+7FoQJ3
 0QsbFAis5jbpShAlcDIe8ISW8LWNAiVIrtxrc98e6hlQgEtEMb/ZnmGPeaD7qBWU6zNuRyNimz6
 vd9FiwnX7rNBkaXXBvcuLyd8cQpgB1hXceino5jxJ
X-Gm-Gg: ASbGnctjhoNjZn7KqqkMiwOM/OLGZnjseHOOjXHP5JLjKwCSdbnOba7EON1izSuAVgf
 2UeHXNYeZuaFyr6DvRu7iQwbytrxbRTJRt5X3EYskW3O3rLkRcrDKF+hpheFmi4RWxby8eKQ+hS
 I31xk+WaxQFqe342FlSYNmoTbntVDcTQnZXaSgeWQHiX5Bql0oWm5fxdebDJkO0sQFAju8+WSTO
 LTCZCRpF59r7B2s5PCxBF5tV9NLRqKgHYwbhFciyZiwaX46Bi/1aUEk31HFcpKzXCL0HnWgw0W+
 5w==
X-Google-Smtp-Source: AGHT+IH7d8gcsa8WrKkXGQoKjGqZ4BWa/M91cI+5RzTrMwFp81i4RSXxTtHUi4/mmSQLLU+1SSUXQz8IwY0X
X-Received: by 2002:a05:6a21:7896:b0:1e0:cf39:846a with SMTP id
 adf61e73a8af0-1e5e07e79aamr95627941637.29.1736213720845; 
 Mon, 06 Jan 2025 17:35:20 -0800 (PST)
Received: from postal.iol.unh.edu (postal.iol.unh.edu. [132.177.123.84])
 by smtp-relay.gmail.com with ESMTPS id
 41be03b00d2f7-842b2a4a0fcsm686617a12.12.2025.01.06.17.35.20
 (version=TLS1_2 cipher=ECDHE-ECDSA-AES128-GCM-SHA256 bits=128/128);
 Mon, 06 Jan 2025 17:35:20 -0800 (PST)
X-Relaying-Domain: iol.unh.edu
Date: Mon, 06 Jan 2025 17:35:20 -0800 (PST)
Message-ID: <677c84d8.050a0220.fe205.6f10SMTPIN_ADDED_MISSING@mx.google.com>
Received: from [172.21.0.5] (unknown [172.18.0.240])
 by postal.iol.unh.edu (Postfix) with ESMTP id E66AC6052471;
 Mon,  6 Jan 2025 20:35:19 -0500 (EST)
Subject: |SUCCESS| pw149496-149498 [PATCH] [3/3] drivers/net: add diagnostics
From: dpdklab@iol.unh.edu
To: Test Report <test-report@dpdk.org>
Cc: dpdk-test-reports@iol.unh.edu
In-Reply-To: <1735263196-2809-4-git-send-email-andremue@linux.microsoft.com>
References: <1735263196-2809-4-git-send-email-andremue@linux.microsoft.com>
Content-Type: text/plain
X-BeenThere: test-report@dpdk.org
X-Mailman-Version: 2.1.29
Precedence: list
List-Id: automatic DPDK test reports <test-report.dpdk.org>
List-Unsubscribe: <https://mails.dpdk.org/options/test-report>,
 <mailto:test-report-request@dpdk.org?subject=unsubscribe>
List-Archive: <http://mails.dpdk.org/archives/test-report/>
List-Post: <mailto:test-report@dpdk.org>
List-Help: <mailto:test-report-request@dpdk.org?subject=help>
List-Subscribe: <https://mails.dpdk.org/listinfo/test-report>,
 <mailto:test-report-request@dpdk.org?subject=subscribe>
Errors-To: test-report-bounces@dpdk.org

Test-Label: iol-abi-testing
Test-Status: SUCCESS
http://dpdk.org/patch/149498

_Testing PASS_

Submitter: Andre Muezerie <andremue@linux.microsoft.com>
Date: Friday, December 27 2024 01:33:16 
DPDK git baseline: Repo:dpdk
  Branch: master
  CommitID:fd51012de5369679e807be1d6a81d63ef15015ce

149496-149498 --> testing pass

Upstream job id: Generic-DPDK-Compile-ABI#109006

Test environment and result as below:

+-------------------+----------+
|    Environment    | abi_test |
+===================+==========+
| Fedora 41         | PASS     |
+-------------------+----------+
| Fedora 40         | PASS     |
+-------------------+----------+
| CentOS Stream 9   | PASS     |
+-------------------+----------+
| Debian 12         | PASS     |
+-------------------+----------+
| Fedora 40 (Clang) | PASS     |
+-------------------+----------+
| Fedora 41 (Clang) | PASS     |
+-------------------+----------+
| openSUSE Leap 15  | PASS     |
+-------------------+----------+
| Ubuntu 22.04      | PASS     |
+-------------------+----------+
| RHEL8             | PASS     |
+-------------------+----------+
| Ubuntu 24.04      | PASS     |
+-------------------+----------+
| RHEL9             | PASS     |
+-------------------+----------+


Fedora 41
	Kernel: Depends on container host
	Compiler: gcc 14.2.1 20240912 (Red Hat 14.2.1-3)

Fedora 40
	Kernel: Depends on container host
	Compiler: gcc 14.2.1 20240912 (Red Hat 14.2.1-3)

CentOS Stream 9
	Kernel: Depends on container host
	Compiler: gcc 11.5.0 20240719 (Red Hat 11.5.0-2)

Debian 12
	Kernel: Depends on container host
	Compiler: gcc (Debian 12.2.0-14) 12.2.0

Fedora 40 (Clang)
	Kernel: Depends on container host
	Compiler: clang 18.1.8 (Fedora 18.1.8-1.fc40)

Fedora 41 (Clang)
	Kernel: Depends on container host
	Compiler: clang 19.1.5 (Fedora 19.1.5-1.fc41)

openSUSE Leap 15
	Kernel: Depends on container host
	Compiler: gcc (SUSE Linux) 7.5.0

Ubuntu 22.04
	Kernel: Depends on container host
	Compiler: gcc (Ubuntu 11.4.0-1ubuntu1~22.04) 11.4.0

RHEL8
	Kernel: Depends on container host
	Compiler: gcc 8.5.0 20210514 (Red Hat 8.5.0-22)

Ubuntu 24.04
	Kernel: Depends on container host
	Compiler: gcc (Ubuntu 13.3.0-6ubuntu2~24.04) 13.3.0

RHEL9
	Kernel: Depends on container host
	Compiler: gcc 11.5.0 20240719 (Red Hat 11.5.0-2)

To view detailed results, visit:
https://lab.dpdk.org/results/dashboard/patchsets/32218/

UNH-IOL DPDK Community Lab

To manage your email subscriptions, visit: 
https://lab.dpdk.org/results/dashboard/preferences/subscriptions/