From mboxrd@z Thu Jan  1 00:00:00 1970
Return-Path: <test-report-bounces@dpdk.org>
Received: from mails.dpdk.org (mails.dpdk.org [217.70.189.124])
	by inbox.dpdk.org (Postfix) with ESMTP id F0EE746012
	for <public@inbox.dpdk.org>; Wed,  8 Jan 2025 03:04:48 +0100 (CET)
Received: from mails.dpdk.org (localhost [127.0.0.1])
	by mails.dpdk.org (Postfix) with ESMTP id ED14340150;
	Wed,  8 Jan 2025 03:04:48 +0100 (CET)
Received: from mail-ot1-f100.google.com (mail-ot1-f100.google.com
 [209.85.210.100])
 by mails.dpdk.org (Postfix) with ESMTP id 2AFA74014F
 for <test-report@dpdk.org>; Wed,  8 Jan 2025 03:04:47 +0100 (CET)
Received: by mail-ot1-f100.google.com with SMTP id
 46e09a7af769-71e19fee3b3so223779a34.0
 for <test-report@dpdk.org>; Tue, 07 Jan 2025 18:04:47 -0800 (PST)
DKIM-Signature: v=1; a=rsa-sha256; c=relaxed/relaxed;
 d=iol.unh.edu; s=unh-iol; t=1736301886; x=1736906686; darn=dpdk.org;
 h=references:in-reply-to:cc:to:from:subject:message-id:date:from:to
 :cc:subject:date:message-id:reply-to;
 bh=Yi5PGTMLGZy/OBvAfWK7RH+jtRCxS36TaXJGvgdm3OQ=;
 b=VWF95NtdT3jvhVxuzep2eP8lwsCHqA+COUHwhe9IzrOtGDQEbG14Yu4XxfZecGKssv
 vT98JlaGjIFSgJexjaWjOZK0Gue4EhamXzGySc4UoKXcpTiw0f9YQFdRn2SxUk0nII2a
 y6RnwJsUDlsRQTC04OCdGYbCYcmJXP344CXc0=
X-Google-DKIM-Signature: v=1; a=rsa-sha256; c=relaxed/relaxed;
 d=1e100.net; s=20230601; t=1736301886; x=1736906686;
 h=references:in-reply-to:cc:to:from:subject:message-id:date
 :x-gm-message-state:from:to:cc:subject:date:message-id:reply-to;
 bh=Yi5PGTMLGZy/OBvAfWK7RH+jtRCxS36TaXJGvgdm3OQ=;
 b=uwzS1tLyN6C/snSbvtueJ46TSSlGi1b/thhnvOdySoTpzJUKP9cW/jGh0jA9efixGs
 cbRpAhNhXNXTymHVC9Gb1SO41fRiv5HlE/cOO7aYobux1Ho8AgHmn6QpuvCoX1E9eFRt
 ldt5Ec3Bwp3BMfzz1mQt9NM3DRcZ4IdepgkCwcDDExf8H7Vyr9wETYaRqmzwUN4u2+NF
 By5844nn7hFvJ5zMVmeGsSXg1KxXk+aRzRo2f3COQrCR03T4O9emw2zGWoQ14Wslpvwd
 acYdmpLej8SH7qYHOcFmjGGjjkFcPrexPxKZZAH7sRwlJK36W5XmNFUOA7Df2vW0dNTD
 QLcA==
X-Gm-Message-State: AOJu0Yw5a2l/hU1JGXntOZRSdeJhgUSVes/VuQBx63yqcFMcQ2sMpmNr
 xLim1fHNywiY3npvX/cECbRezY0BZoJJLOt8gcFo2i9Cq7xh+vhBvTouozovjWnxHybEIoGch+/
 Bs2nOQs4CA1rJ3rSnBx94aPqNwiS4KBgWrIMQu3S89qi0EwsgIzCD2NLm
X-Gm-Gg: ASbGncvzBzZ5GGelQa3wExbY14dpzoHrpE4cvMSgNYPCMDKbRL4NWjsK2tpn89VK/yQ
 tMptePKBhVUgcimUwWHFx53dW+NLcuxtsNScLo/SoIBijHNaEIoyRwaglINSFFIwSXZm9ZX9UFG
 gjAmMYEmqLEUIoYGex7agnzXm4TBkGZtrpyFBBfG9Q4+uv8e7VNbXmHtkRSYiasiIs11GW5fwDH
 ulrkLezELPuRkxdTutyqR58TMESMNkcF5dfJxWu4f3T3CvZD43KnMXqkNl55+phRfMhBxudEVwA
 RU7GGw==
X-Google-Smtp-Source: AGHT+IFG6aCxNXDeR1a3WIfogxG8bacQQ3JChuS82vshHi8MMtXbmTrbnuHMR86O6u2rNBVEKIRoc5+nFhjV
X-Received: by 2002:a05:6870:2a47:b0:297:2955:b009 with SMTP id
 586e51a60fabf-2aa05553c5emr781655fac.1.1736301886197; 
 Tue, 07 Jan 2025 18:04:46 -0800 (PST)
Received: from postal.iol.unh.edu (postal.iol.unh.edu.
 [2606:4100:3880:1234::84]) by smtp-relay.gmail.com with ESMTPS id
 586e51a60fabf-2a7d77bd9c9sm1542305fac.35.2025.01.07.18.04.46
 (version=TLS1_2 cipher=ECDHE-ECDSA-AES128-GCM-SHA256 bits=128/128);
 Tue, 07 Jan 2025 18:04:46 -0800 (PST)
X-Relaying-Domain: iol.unh.edu
Date: Tue, 07 Jan 2025 18:04:46 -0800 (PST)
Message-ID: <677ddd3e.050a0220.1b2eff.22e8SMTPIN_ADDED_MISSING@mx.google.com>
Received: from [172.21.0.11] (unknown [172.18.0.240])
 by postal.iol.unh.edu (Postfix) with ESMTP id ABA7F6052471;
 Tue,  7 Jan 2025 21:04:45 -0500 (EST)
Subject: |SUCCESS| pw149646-149660 [PATCH] [v5,15/15] net/xsc: add ethdev lin
From: dpdklab@iol.unh.edu
To: Test Report <test-report@dpdk.org>
Cc: dpdk-test-reports@iol.unh.edu
In-Reply-To: <20250107025015.1962467-16-wanry@yunsilicon.com>
References: <20250107025015.1962467-16-wanry@yunsilicon.com>
Content-Type: text/plain
X-BeenThere: test-report@dpdk.org
X-Mailman-Version: 2.1.29
Precedence: list
List-Id: automatic DPDK test reports <test-report.dpdk.org>
List-Unsubscribe: <https://mails.dpdk.org/options/test-report>,
 <mailto:test-report-request@dpdk.org?subject=unsubscribe>
List-Archive: <http://mails.dpdk.org/archives/test-report/>
List-Post: <mailto:test-report@dpdk.org>
List-Help: <mailto:test-report-request@dpdk.org?subject=help>
List-Subscribe: <https://mails.dpdk.org/listinfo/test-report>,
 <mailto:test-report-request@dpdk.org?subject=subscribe>
Errors-To: test-report-bounces@dpdk.org

Test-Label: iol-abi-testing
Test-Status: SUCCESS
http://dpdk.org/patch/149660

_Testing PASS_

Submitter: WanRenyong <wanry@yunsilicon.com>
Date: Tuesday, January 07 2025 02:50:17 
DPDK git baseline: Repo:dpdk
  Branch: master
  CommitID:fd51012de5369679e807be1d6a81d63ef15015ce

149646-149660 --> testing pass

Upstream job id: Generic-DPDK-Compile-ABI#110273

Test environment and result as below:

+-------------------+----------+
|    Environment    | abi_test |
+===================+==========+
| Debian 12         | PASS     |
+-------------------+----------+
| CentOS Stream 9   | PASS     |
+-------------------+----------+
| Fedora 40 (Clang) | PASS     |
+-------------------+----------+
| openSUSE Leap 15  | PASS     |
+-------------------+----------+
| Fedora 40         | PASS     |
+-------------------+----------+
| Fedora 41         | PASS     |
+-------------------+----------+
| Fedora 41 (Clang) | PASS     |
+-------------------+----------+
| RHEL8             | PASS     |
+-------------------+----------+
| RHEL9             | PASS     |
+-------------------+----------+
| Ubuntu 24.04      | PASS     |
+-------------------+----------+
| Ubuntu 22.04      | PASS     |
+-------------------+----------+


Debian 12
	Kernel: Depends on container host
	Compiler: gcc (Debian 12.2.0-14) 12.2.0

CentOS Stream 9
	Kernel: Depends on container host
	Compiler: gcc 11.5.0 20240719 (Red Hat 11.5.0-2)

Fedora 40 (Clang)
	Kernel: Depends on container host
	Compiler: clang 18.1.8 (Fedora 18.1.8-1.fc40)

openSUSE Leap 15
	Kernel: Depends on container host
	Compiler: gcc (SUSE Linux) 7.5.0

Fedora 40
	Kernel: Depends on container host
	Compiler: gcc 14.2.1 20240912 (Red Hat 14.2.1-3)

Fedora 41
	Kernel: Depends on container host
	Compiler: gcc 14.2.1 20240912 (Red Hat 14.2.1-3)

Fedora 41 (Clang)
	Kernel: Depends on container host
	Compiler: clang 19.1.5 (Fedora 19.1.5-1.fc41)

RHEL8
	Kernel: Depends on container host
	Compiler: gcc 8.5.0 20210514 (Red Hat 8.5.0-22)

RHEL9
	Kernel: Depends on container host
	Compiler: gcc 11.5.0 20240719 (Red Hat 11.5.0-2)

Ubuntu 24.04
	Kernel: Depends on container host
	Compiler: gcc (Ubuntu 13.3.0-6ubuntu2~24.04) 13.3.0

Ubuntu 22.04
	Kernel: Depends on container host
	Compiler: gcc (Ubuntu 11.4.0-1ubuntu1~22.04) 11.4.0

To view detailed results, visit:
https://lab.dpdk.org/results/dashboard/patchsets/32263/

UNH-IOL DPDK Community Lab

To manage your email subscriptions, visit: 
https://lab.dpdk.org/results/dashboard/preferences/subscriptions/