From mboxrd@z Thu Jan  1 00:00:00 1970
Return-Path: <test-report-bounces@dpdk.org>
Received: from mails.dpdk.org (mails.dpdk.org [217.70.189.124])
	by inbox.dpdk.org (Postfix) with ESMTP id BC44C4602B
	for <public@inbox.dpdk.org>; Thu,  9 Jan 2025 12:12:49 +0100 (CET)
Received: from mails.dpdk.org (localhost [127.0.0.1])
	by mails.dpdk.org (Postfix) with ESMTP id CA9F140BA5;
	Thu,  9 Jan 2025 12:12:48 +0100 (CET)
Received: from mail-il1-f227.google.com (mail-il1-f227.google.com
 [209.85.166.227])
 by mails.dpdk.org (Postfix) with ESMTP id F1D4640B94
 for <test-report@dpdk.org>; Thu,  9 Jan 2025 12:12:47 +0100 (CET)
Received: by mail-il1-f227.google.com with SMTP id
 e9e14a558f8ab-3cddfa9a331so2380985ab.3
 for <test-report@dpdk.org>; Thu, 09 Jan 2025 03:12:47 -0800 (PST)
DKIM-Signature: v=1; a=rsa-sha256; c=relaxed/relaxed;
 d=iol.unh.edu; s=unh-iol; t=1736421167; x=1737025967; darn=dpdk.org;
 h=references:in-reply-to:cc:to:from:subject:message-id:date:from:to
 :cc:subject:date:message-id:reply-to;
 bh=TnEK8YKgxJyA/5m8ptiPIvXgqVN/XwCP4s8wsqSIB+Q=;
 b=EOGOM78ixk8AWR4j+wVmDmh+58+c7UEEgGkygvKvKh9sdrnk6tWo009N3TUJF4GfCk
 ew//3PVT12rG0aoGAYQaR6gxEC8gRaM/8N7xDqemfB4B3dgk1G/CjCob+bhJbJ8qnO1q
 gIfc94EKB9KUN4VD+Zvf0Qp7SdCnE/8XA4ioo=
X-Google-DKIM-Signature: v=1; a=rsa-sha256; c=relaxed/relaxed;
 d=1e100.net; s=20230601; t=1736421167; x=1737025967;
 h=references:in-reply-to:cc:to:from:subject:message-id:date
 :x-gm-message-state:from:to:cc:subject:date:message-id:reply-to;
 bh=TnEK8YKgxJyA/5m8ptiPIvXgqVN/XwCP4s8wsqSIB+Q=;
 b=HTOJoi9T29zEak6CcBlDu3YujY4ItpozET1JNbYxnqEGiL6OiNP8YdwXLWNZg1dJTn
 RFdKbiFVsFZ70brJfdsAaAl67yhWEWFyKKA7jlQvXN0Te7y+3pQvCQ22+ogen6/budgl
 zq9G9tLu8tWm4aYKT0X+gunJyNlsf3kp1DxgEndObnCTo3v++6vmcpzlBLcQ5qFvX9eg
 wc+JtXkxEf5ZO8lnV58hvfhMRo+sJBvv3fObFa9W9+1/RoZn5s7zU99TfxZdyV+EbCTS
 zI7kqO4LGGnVNDwyKbenN7nz9EcSQzpRSnlIIOwGCS0ZGUrlttMA1fNpROfSuXNPgxDV
 XulQ==
X-Gm-Message-State: AOJu0YwriSi2GM3WVHyC7IsfclTu9R0qQHzGKbUt1UKZapnVnn44/Tdf
 RB36TgybmOjo+v1Ge+mkTRU6m+ZdJK6d3tcxKx5tda6RB4w+Lxnzd/Y6FfZHAMeBV/vD8d44ur5
 nFYaC0tC/nb6ZjgAGGnO6E+zhvKle5ptzmEyPRbnqjw6073CmSeIq0JmA
X-Gm-Gg: ASbGnctyfwAv86pOv1SnzEUZfs3Qgxdjai1UzZ7zVVSDoVrUhSTU7GeHn4v3FFZON9b
 iD+mwYcSsJnPGijoF9P1rKM9AY6wtpEeSj2vHFPPoRO4Jsu39tFcyoUrhv/Nkgp2cCuRT7Pu9X3
 aN8N1lStx7VUlD+mHrBVHN5wN9dfyCJxsrUoNXaY9pLKnhM2jocJDDjn4kgPK6zt2d9YRJ8lddJ
 EguJonBzYy6BzTOzqAKgOsO+T1HSx2Hwbe6tSncZz6+/hhaHITHQ8mWT5UXycLDfJR77lEt5g/M
 SEYy6w==
X-Google-Smtp-Source: AGHT+IFVf7kC1paq2N37BVO3URp1I5S54UkHsBT2kVzOoxU7KLHf7oTLqGsOi7ocWnhE4Jbq44znKBuvuUOi
X-Received: by 2002:a05:6e02:13ae:b0:3a7:c5ca:5f58 with SMTP id
 e9e14a558f8ab-3ce3a9b5404mr40772765ab.7.1736421167259; 
 Thu, 09 Jan 2025 03:12:47 -0800 (PST)
Received: from postal.iol.unh.edu (postal.iol.unh.edu.
 [2606:4100:3880:1234::84]) by smtp-relay.gmail.com with ESMTPS id
 e9e14a558f8ab-3ce4addb6casm548355ab.36.2025.01.09.03.12.47
 (version=TLS1_2 cipher=ECDHE-ECDSA-AES128-GCM-SHA256 bits=128/128);
 Thu, 09 Jan 2025 03:12:47 -0800 (PST)
X-Relaying-Domain: iol.unh.edu
Date: Thu, 09 Jan 2025 03:12:47 -0800 (PST)
Message-ID: <677faf2f.050a0220.fb490.39c3SMTPIN_ADDED_MISSING@mx.google.com>
Received: from [172.21.0.7] (unknown [172.18.0.240])
 by postal.iol.unh.edu (Postfix) with ESMTP id BF9976052471;
 Thu,  9 Jan 2025 06:12:46 -0500 (EST)
Subject: |SUCCESS| pw149683-149684 [PATCH] [2/2] common/idpf: enable AVX2 for
From: dpdklab@iol.unh.edu
To: Test Report <test-report@dpdk.org>
Cc: dpdk-test-reports@iol.unh.edu
In-Reply-To: <20250108121757.170494-3-shaiq.wani@intel.com>
References: <20250108121757.170494-3-shaiq.wani@intel.com>
Content-Type: text/plain
X-BeenThere: test-report@dpdk.org
X-Mailman-Version: 2.1.29
Precedence: list
List-Id: automatic DPDK test reports <test-report.dpdk.org>
List-Unsubscribe: <https://mails.dpdk.org/options/test-report>,
 <mailto:test-report-request@dpdk.org?subject=unsubscribe>
List-Archive: <http://mails.dpdk.org/archives/test-report/>
List-Post: <mailto:test-report@dpdk.org>
List-Help: <mailto:test-report-request@dpdk.org?subject=help>
List-Subscribe: <https://mails.dpdk.org/listinfo/test-report>,
 <mailto:test-report-request@dpdk.org?subject=subscribe>
Errors-To: test-report-bounces@dpdk.org

Test-Label: iol-unit-arm64-testing
Test-Status: SUCCESS
http://dpdk.org/patch/149684

_Testing PASS_

Submitter: Shaiq Wani <shaiq.wani@intel.com>
Date: Wednesday, January 08 2025 12:17:57 
DPDK git baseline: Repo:dpdk
  Branch: master
  CommitID:fd51012de5369679e807be1d6a81d63ef15015ce

149683-149684 --> testing pass

Upstream job id: Generic-Unit-Test-DPDK#304443

Test environment and result as below:

+-----------------------------+----------------+--------------+------------------------------+---------------------------+
|         Environment         | dpdk_unit_test | lpm_autotest | cryptodev_sw_snow3g_autotest | cryptodev_sw_zuc_autotest |
+=============================+================+==============+==============================+===========================+
| CentOS Stream 9 (ARM)       | PASS           | SKIPPED      | SKIPPED                      | SKIPPED                   |
+-----------------------------+----------------+--------------+------------------------------+---------------------------+
| Debian 11 (Buster) (ARM)    | PASS           | SKIPPED      | SKIPPED                      | SKIPPED                   |
+-----------------------------+----------------+--------------+------------------------------+---------------------------+
| Debian 12 (arm)             | PASS           | SKIPPED      | PASS                         | PASS                      |
+-----------------------------+----------------+--------------+------------------------------+---------------------------+
| Fedora 40 (ARM Clang)       | PASS           | SKIPPED      | SKIPPED                      | SKIPPED                   |
+-----------------------------+----------------+--------------+------------------------------+---------------------------+
| Fedora 41 (ARM)             | PASS           | SKIPPED      | SKIPPED                      | SKIPPED                   |
+-----------------------------+----------------+--------------+------------------------------+---------------------------+
| Ubuntu 20.04 (ARM)          | PASS           | SKIPPED      | SKIPPED                      | SKIPPED                   |
+-----------------------------+----------------+--------------+------------------------------+---------------------------+
| Fedora 41 (ARM Clang)       | PASS           | SKIPPED      | SKIPPED                      | SKIPPED                   |
+-----------------------------+----------------+--------------+------------------------------+---------------------------+
| Fedora 40 (ARM)             | PASS           | SKIPPED      | SKIPPED                      | SKIPPED                   |
+-----------------------------+----------------+--------------+------------------------------+---------------------------+
| RHEL9 (ARM)                 | PASS           | SKIPPED      | SKIPPED                      | SKIPPED                   |
+-----------------------------+----------------+--------------+------------------------------+---------------------------+
| Ubuntu 24.04 (ARM)          | PASS           | SKIPPED      | SKIPPED                      | SKIPPED                   |
+-----------------------------+----------------+--------------+------------------------------+---------------------------+
| Ubuntu 22.04 (ARM)          | PASS           | SKIPPED      | SKIPPED                      | SKIPPED                   |
+-----------------------------+----------------+--------------+------------------------------+---------------------------+
| 32-bit Ubuntu 22.04.4 (ARM) | PASS           | SKIPPED      | SKIPPED                      | SKIPPED                   |
+-----------------------------+----------------+--------------+------------------------------+---------------------------+
| Ubuntu 20.04 ARM SVE        | SKIPPED        | PASS         | SKIPPED                      | SKIPPED                   |
+-----------------------------+----------------+--------------+------------------------------+---------------------------+


CentOS Stream 9 (ARM)
	Kernel: Depends on container host
	Compiler: gcc 11.5.0 20240719 (Red Hat 11.5.0-2)

Debian 11 (Buster) (ARM)
	Kernel: Depends on container host
	Compiler: gcc (Debian 10.2.1-6) 10.2.1 20210110

Debian 12 (arm)
	Kernel: Depends on container host
	Compiler: gcc (Debian 12.2.0-14) 12.2.0

Fedora 40 (ARM Clang)
	Kernel: Depends on container host
	Compiler: clang 18.1.8 (Fedora 18.1.8-1.fc40)

Fedora 41 (ARM)
	Kernel: Depends on container host
	Compiler: gcc 14.2.1 20240912 (Red Hat 14.2.1-3)

Ubuntu 20.04 (ARM)
	Kernel: Depends on container host
	Compiler: gcc (Ubuntu 9.4.0-1ubuntu1~20.04.2) 9.4.0

Fedora 41 (ARM Clang)
	Kernel: Depends on container host
	Compiler: clang 19.1.5 (Fedora 19.1.5-1.fc41)

Fedora 40 (ARM)
	Kernel: Depends on container host
	Compiler: gcc 14.2.1 20240912 (Red Hat 14.2.1-3)

RHEL9 (ARM)
	Kernel: Depends on container host
	Compiler: gcc 11.5.0 20240719 (Red Hat 11.5.0-2)

Ubuntu 24.04 (ARM)
	Kernel: Depends on container host
	Compiler: gcc (Ubuntu 13.3.0-6ubuntu2~24.04) 13.3.0

Ubuntu 22.04 (ARM)
	Kernel: Depends on container host
	Compiler: gcc (Ubuntu 11.4.0-1ubuntu1~22.04) 11.4.0

32-bit Ubuntu 22.04.4 (ARM)
	Kernel: 5.15.83+ aarch64
	Compiler: gcc (Ubuntu 11.4.0-1ubuntu1~22.04) 11.4.0

Ubuntu 20.04 ARM SVE
	Kernel: Depends on container host
	Compiler: gcc (Ubuntu 10.5.0-1ubuntu1~20.04) 10.5.0

To view detailed results, visit:
https://lab.dpdk.org/results/dashboard/patchsets/32279/

UNH-IOL DPDK Community Lab

To manage your email subscriptions, visit: 
https://lab.dpdk.org/results/dashboard/preferences/subscriptions/