From mboxrd@z Thu Jan  1 00:00:00 1970
Return-Path: <test-report-bounces@dpdk.org>
Received: from mails.dpdk.org (mails.dpdk.org [217.70.189.124])
	by inbox.dpdk.org (Postfix) with ESMTP id 2B85246030
	for <public@inbox.dpdk.org>; Thu,  9 Jan 2025 15:44:10 +0100 (CET)
Received: from mails.dpdk.org (localhost [127.0.0.1])
	by mails.dpdk.org (Postfix) with ESMTP id 22A9E40E72;
	Thu,  9 Jan 2025 15:44:10 +0100 (CET)
Received: from mail-yb1-f226.google.com (mail-yb1-f226.google.com
 [209.85.219.226])
 by mails.dpdk.org (Postfix) with ESMTP id 95E9E40E4C
 for <test-report@dpdk.org>; Thu,  9 Jan 2025 15:44:08 +0100 (CET)
Received: by mail-yb1-f226.google.com with SMTP id
 3f1490d57ef6-e4930eca0d4so1342522276.3
 for <test-report@dpdk.org>; Thu, 09 Jan 2025 06:44:08 -0800 (PST)
DKIM-Signature: v=1; a=rsa-sha256; c=relaxed/relaxed;
 d=iol.unh.edu; s=unh-iol; t=1736433848; x=1737038648; darn=dpdk.org;
 h=references:in-reply-to:cc:to:from:subject:message-id:date:from:to
 :cc:subject:date:message-id:reply-to;
 bh=GdC52yaTuCAxKUPOOrV3zyJRz6Hdtn7114PtFr5Jd0E=;
 b=YmhDN8eMzml/9GyBbLCbsWDSYMj/ONBvEXyu3rlwwiMw2flgJZD+fEFAdULYxvYsPn
 Tw6e21fYTUZz9cYa9k7kzaAFlJH4IWSRUFhFTDgpwgMUJQ0BLxpmolGRNEtCtnaxYhjA
 dGSobXaPP9lDvE81bRYcCzy9EXV2FLj3DilOE=
X-Google-DKIM-Signature: v=1; a=rsa-sha256; c=relaxed/relaxed;
 d=1e100.net; s=20230601; t=1736433848; x=1737038648;
 h=references:in-reply-to:cc:to:from:subject:message-id:date
 :x-gm-message-state:from:to:cc:subject:date:message-id:reply-to;
 bh=GdC52yaTuCAxKUPOOrV3zyJRz6Hdtn7114PtFr5Jd0E=;
 b=GksW0adhOouOAMd3x0FqiSlzxoK37unXQgHmqg5wgZzA2WbFS0ByzhsNPVRQpTrktd
 STDl5fG5UP7VqQAvgo2eoVEILaCpqRJOAvEkl1wcQUnYf6vYrhkUwa+bv8Bi5AJNXgZm
 g95h3XZynx4wJXo49VTaFHGt49rLDEH+XKUUkC4V5IP1XZeKfiZtqewarFtDfkVhEGAq
 en4C28CXu1jQtUiKudXYb/NcMH0TOLjXUelADVx4bLNM2dZrybUan0kBBbFp9C9Mo3O4
 9TJRfMnvBMKbEgkKsmUGEAxJbvJCm7KuriTYEWYLz3VBZ/TRzNoyxrjQX6bukEUfNGm8
 QNaw==
X-Gm-Message-State: AOJu0Yw+BdjM/PawALe8SHFUBT7Mvx9ck/Ta0BVFjkk5aB23PGFc0bpx
 nHra/JdN08gmkKjINYAxGfD/CUI23WDpTA+l5XYFRJ4vC5NMHGaWK608CncuiUNdWuj3E37TgUn
 7pEl0SLUKSYX4R5sYnpjT/OPl2c4K7y17+MJ0nod2wmvTo0LsH2/RreZh
X-Gm-Gg: ASbGncsMpWEstPEGF27/4XkudaO99IPnR6In1MQQDtD81qvDbFt0Pa97OpL1cp4ZJQ1
 xfXFcrpjSeylzel3akzhDnJiR6MTTz7ozjVkLwMH7hWxPBCTkL8IFt65jWcXzMqjeruxnjvXcDQ
 vQ+FHKimpoqsQsyJXj1oKKBDfHkONO8XYGba65DGT1GGMaA44y5aoSoK+3X/2Z5AcGKwdQn2+vQ
 gpPiPbjk1Mk4mEfFasC0c4RdrC2hNrN+74YBQIMBZbkr+1wLvvbJHK/JE1S+LMvcrjvUcFcxtuV
 8XNN+A==
X-Google-Smtp-Source: AGHT+IG/DYmR2wq5+qQiO/s8YJppTwHoF/LTRruaURraqTHCVZQF5qRkEmLCl2YnBA3yLFqawNoWWGmIZiTw
X-Received: by 2002:a05:690c:385:b0:6e2:43ea:552 with SMTP id
 00721157ae682-6f53124fdfemr42459197b3.16.1736433848010; 
 Thu, 09 Jan 2025 06:44:08 -0800 (PST)
Received: from postal.iol.unh.edu (postal.iol.unh.edu.
 [2606:4100:3880:1234::84]) by smtp-relay.gmail.com with ESMTPS id
 00721157ae682-6f546c53568sm685317b3.21.2025.01.09.06.44.07
 (version=TLS1_2 cipher=ECDHE-ECDSA-AES128-GCM-SHA256 bits=128/128);
 Thu, 09 Jan 2025 06:44:08 -0800 (PST)
X-Relaying-Domain: iol.unh.edu
Date: Thu, 09 Jan 2025 06:44:08 -0800 (PST)
Message-ID: <677fe0b8.050a0220.113717.45b6SMTPIN_ADDED_MISSING@mx.google.com>
Received: from [172.21.0.6] (unknown [172.18.0.240])
 by postal.iol.unh.edu (Postfix) with ESMTP id A555A6052471;
 Thu,  9 Jan 2025 09:44:07 -0500 (EST)
Subject: |SUCCESS| pw149666-149667 [PATCH] [v2,2/2] test/crypto: add asymmetr
From: dpdklab@iol.unh.edu
To: Test Report <test-report@dpdk.org>
Cc: dpdk-test-reports@iol.unh.edu
In-Reply-To: <d6f27f95f1f6bf312a215e1d4ac1e376bdda1465.1736270070.git.gmuthukrishn@marvell.com>
References: <d6f27f95f1f6bf312a215e1d4ac1e376bdda1465.1736270070.git.gmuthukrishn@marvell.com>
Content-Type: text/plain
X-BeenThere: test-report@dpdk.org
X-Mailman-Version: 2.1.29
Precedence: list
List-Id: automatic DPDK test reports <test-report.dpdk.org>
List-Unsubscribe: <https://mails.dpdk.org/options/test-report>,
 <mailto:test-report-request@dpdk.org?subject=unsubscribe>
List-Archive: <http://mails.dpdk.org/archives/test-report/>
List-Post: <mailto:test-report@dpdk.org>
List-Help: <mailto:test-report-request@dpdk.org?subject=help>
List-Subscribe: <https://mails.dpdk.org/listinfo/test-report>,
 <mailto:test-report-request@dpdk.org?subject=subscribe>
Errors-To: test-report-bounces@dpdk.org

Test-Label: iol-compile-arm64-testing
Test-Status: SUCCESS
http://dpdk.org/patch/149667

_Testing PASS_

Submitter: Gowrishankar Muthukrishnan <gmuthukrishn@marvell.com>
Date: Tuesday, January 07 2025 17:52:38 
DPDK git baseline: Repo:dpdk
  Branch: master
  CommitID:fd51012de5369679e807be1d6a81d63ef15015ce

149666-149667 --> testing pass

Upstream job id: Generic-DPDK-Compile-Meson#349630

Test environment and result as below:

+----------------------------------------+--------------------+
|              Environment               | dpdk_meson_compile |
+========================================+====================+
| RHEL9 (ARM)                            | PASS               |
+----------------------------------------+--------------------+
| Ubuntu 20.04 ARM GCC Cross Compile     | PASS               |
+----------------------------------------+--------------------+
| Ubuntu 20.04 ARM SVE                   | PASS               |
+----------------------------------------+--------------------+
| Debian 12 with MUSDK                   | PASS               |
+----------------------------------------+--------------------+
| Fedora 40 (ARM)                        | PASS               |
+----------------------------------------+--------------------+
| Fedora 41 (ARM)                        | PASS               |
+----------------------------------------+--------------------+
| Fedora 41 (ARM Clang)                  | PASS               |
+----------------------------------------+--------------------+
| Ubuntu 24.04 (ARM)                     | PASS               |
+----------------------------------------+--------------------+
| Debian 11 (Buster) (ARM)               | PASS               |
+----------------------------------------+--------------------+
| Debian 12 (arm)                        | PASS               |
+----------------------------------------+--------------------+
| Ubuntu 20.04 ARM Clang Cross Compile   | PASS               |
+----------------------------------------+--------------------+
| Ubuntu 20.04 aarch32 GCC Cross Compile | PASS               |
+----------------------------------------+--------------------+
| Fedora 40 (ARM Clang)                  | PASS               |
+----------------------------------------+--------------------+


RHEL9 (ARM)
	Kernel: Depends on container host
	Compiler: gcc 11.5.0 20240719 (Red Hat 11.5.0-2)

Ubuntu 20.04 ARM GCC Cross Compile
	Kernel: Depends on container host
	Compiler: aarch64-linux-gnu-gcc (Ubuntu 9.4.0-1ubuntu1~20.04.2) 9.4.0

Ubuntu 20.04 ARM SVE
	Kernel: Depends on container host
	Compiler: gcc (Ubuntu 10.5.0-1ubuntu1~20.04) 10.5.0

Debian 12 with MUSDK
	Kernel: Depends on container host
	Compiler: gcc (Debian 12.2.0-14) 12.2.0

Fedora 40 (ARM)
	Kernel: Depends on container host
	Compiler: gcc 14.2.1 20240912 (Red Hat 14.2.1-3)

Fedora 41 (ARM)
	Kernel: Depends on container host
	Compiler: gcc 14.2.1 20240912 (Red Hat 14.2.1-3)

Fedora 41 (ARM Clang)
	Kernel: Depends on container host
	Compiler: clang 19.1.5 (Fedora 19.1.5-1.fc41)

Ubuntu 24.04 (ARM)
	Kernel: Depends on container host
	Compiler: gcc (Ubuntu 13.3.0-6ubuntu2~24.04) 13.3.0

Debian 11 (Buster) (ARM)
	Kernel: Depends on container host
	Compiler: gcc (Debian 10.2.1-6) 10.2.1 20210110

Debian 12 (arm)
	Kernel: Depends on container host
	Compiler: gcc (Debian 12.2.0-14) 12.2.0

Ubuntu 20.04 ARM Clang Cross Compile
	Kernel: Depends on container host
	Compiler: clang 10.0.0-4ubuntu1

Ubuntu 20.04 aarch32 GCC Cross Compile
	Kernel: Depends on container host
	Compiler: gcc 9.4.0

Fedora 40 (ARM Clang)
	Kernel: Depends on container host
	Compiler: clang 18.1.8 (Fedora 18.1.8-1.fc40)

To view detailed results, visit:
https://lab.dpdk.org/results/dashboard/patchsets/32269/

UNH-IOL DPDK Community Lab

To manage your email subscriptions, visit: 
https://lab.dpdk.org/results/dashboard/preferences/subscriptions/