From mboxrd@z Thu Jan  1 00:00:00 1970
Return-Path: <test-report-bounces@dpdk.org>
Received: from mails.dpdk.org (mails.dpdk.org [217.70.189.124])
	by inbox.dpdk.org (Postfix) with ESMTP id E34CF46036
	for <public@inbox.dpdk.org>; Thu,  9 Jan 2025 21:53:12 +0100 (CET)
Received: from mails.dpdk.org (localhost [127.0.0.1])
	by mails.dpdk.org (Postfix) with ESMTP id 083B840FDE;
	Thu,  9 Jan 2025 21:53:12 +0100 (CET)
Received: from mail-il1-f228.google.com (mail-il1-f228.google.com
 [209.85.166.228])
 by mails.dpdk.org (Postfix) with ESMTP id 6226240612
 for <test-report@dpdk.org>; Thu,  9 Jan 2025 21:53:11 +0100 (CET)
Received: by mail-il1-f228.google.com with SMTP id
 e9e14a558f8ab-3a813899384so3983255ab.1
 for <test-report@dpdk.org>; Thu, 09 Jan 2025 12:53:11 -0800 (PST)
DKIM-Signature: v=1; a=rsa-sha256; c=relaxed/relaxed;
 d=iol.unh.edu; s=unh-iol; t=1736455990; x=1737060790; darn=dpdk.org;
 h=references:in-reply-to:cc:to:from:subject:message-id:date:from:to
 :cc:subject:date:message-id:reply-to;
 bh=DHakhWUWj7LvRiAPhqyJ7vXcMJDNIpBb+OewKTE5lnY=;
 b=aCB8mLxPPZ4BeI8gCPinJNFeGr+A/owr8Q2PzUqk6xuatVtDoatY+jizrSEDF5qY/C
 OUaTp0wBLaBONDCVOC4Jlq2Vq4cTT5eZMaTVS9/MwcEHdqa6bywKSdfM+aallTYIQfef
 3WpNsd5e3NMtbyAG/8OufCXOoKBav84bNJWhw=
X-Google-DKIM-Signature: v=1; a=rsa-sha256; c=relaxed/relaxed;
 d=1e100.net; s=20230601; t=1736455990; x=1737060790;
 h=references:in-reply-to:cc:to:from:subject:message-id:date
 :x-gm-message-state:from:to:cc:subject:date:message-id:reply-to;
 bh=DHakhWUWj7LvRiAPhqyJ7vXcMJDNIpBb+OewKTE5lnY=;
 b=tQ7p+trfVrFcQUpgkLW1LfQ+0JJMNtmlkSoFEoDnlT8IZFWaqQUwfSzK00Jd01wwae
 subWSpx9wAipKxcbclcgc4vAKgLjjHMiCOtZUkbGUkwLkb4HvusGzQMsFXRTknHA4x0o
 LnPYJ/Owwjnz92DRijuSEQC4/80H5pJh9THEo1x3ucubAl/z4adQNeX4R0HsBtNgkGJo
 tRziNXR0iIzelJLJJjwAp/wiCBmVYNteVbR7N+CVzb2enQ8nW2/oZt48xHsML17tM6In
 8AnKrsh/wSOi1pctpNJa6lX8exiGg+FFhwhO0BxX6/9P54GO+jkQRfvQahkJh+dGx/hN
 nntA==
X-Gm-Message-State: AOJu0Yyc3ldQiUBBdJFFTgQApB9TDBoowlpJpaSqC5NUo67L4JP5ZHbu
 1nYVNmWkbBFdhlmUA07Mg0U8FTRtCiJBuHJHrKtJYU6t89h4sp/0pt7cB3pwN/EWnfGmnmaU51t
 SdofSaFPouSV628dXweOwN4DjFSGqo/neIf/cG/nt
X-Gm-Gg: ASbGncsBa5ovC/co0KitgAlj1SfhJOKgPqjvxJNmUG+96gOa0aRjwVG9ndIBvaVYLGk
 oGVrSSWcNtb6lsq3zxzrKN1/oe/sBw5jr1la+NDnPrw2WZE84AaCR7bH0tFaf8eu92riDdVwkGo
 9NvMwswLy0R0Qf2X+4wozVNvzFT6FWf04w7S8MokcAQDViqJFbA3+L6stdkaUoUpyecKESTqQbk
 gGro62PAPrxMLMfQ5kn/JQ33dxtPAJ0Njz0INC9D97BcMvjoABbyJZNL4P0YukbUQR7cZBpzbTR
 7w==
X-Google-Smtp-Source: AGHT+IE+O04h6cCWyHVc7T/8vt/4Y+PKu8o+BU47o3ah9Jpvn+hujRGZVq03dleOJnhndLNz063F2zO2LCPo
X-Received: by 2002:a92:c248:0:b0:3a7:e732:4713 with SMTP id
 e9e14a558f8ab-3ce3a9c1aa9mr63747385ab.15.1736455990694; 
 Thu, 09 Jan 2025 12:53:10 -0800 (PST)
Received: from postal.iol.unh.edu (postal.iol.unh.edu. [132.177.123.84])
 by smtp-relay.gmail.com with ESMTPS id
 8926c6da1cb9f-4ea1b63293asm97315173.42.2025.01.09.12.53.10
 (version=TLS1_2 cipher=ECDHE-ECDSA-AES128-GCM-SHA256 bits=128/128);
 Thu, 09 Jan 2025 12:53:10 -0800 (PST)
X-Relaying-Domain: iol.unh.edu
Date: Thu, 09 Jan 2025 12:53:10 -0800 (PST)
Message-ID: <67803736.050a0220.2b4596.630eSMTPIN_ADDED_MISSING@mx.google.com>
Received: from [172.21.0.5] (unknown [172.18.0.240])
 by postal.iol.unh.edu (Postfix) with ESMTP id 3861E6052471;
 Thu,  9 Jan 2025 15:53:10 -0500 (EST)
Subject: |SUCCESS| pw149776-149777 [PATCH] [v4,2/2] dts: add dual VLAN test s
From: dpdklab@iol.unh.edu
To: Test Report <test-report@dpdk.org>
Cc: dpdk-test-reports@iol.unh.edu
In-Reply-To: <20250109180124.1678253-2-paul.szczepanek@arm.com>
References: <20250109180124.1678253-2-paul.szczepanek@arm.com>
Content-Type: text/plain
X-BeenThere: test-report@dpdk.org
X-Mailman-Version: 2.1.29
Precedence: list
List-Id: automatic DPDK test reports <test-report.dpdk.org>
List-Unsubscribe: <https://mails.dpdk.org/options/test-report>,
 <mailto:test-report-request@dpdk.org?subject=unsubscribe>
List-Archive: <http://mails.dpdk.org/archives/test-report/>
List-Post: <mailto:test-report@dpdk.org>
List-Help: <mailto:test-report-request@dpdk.org?subject=help>
List-Subscribe: <https://mails.dpdk.org/listinfo/test-report>,
 <mailto:test-report-request@dpdk.org?subject=subscribe>
Errors-To: test-report-bounces@dpdk.org

Test-Label: iol-abi-testing
Test-Status: SUCCESS
http://dpdk.org/patch/149777

_Testing PASS_

Submitter: Paul Szczepanek <paul.szczepanek@arm.com>
Date: Thursday, January 09 2025 18:01:24 
DPDK git baseline: Repo:dpdk
  Branch: master
  CommitID:fd51012de5369679e807be1d6a81d63ef15015ce

149776-149777 --> testing pass

Upstream job id: Generic-DPDK-Compile-ABI#111544

Test environment and result as below:

+-------------------+----------+
|    Environment    | abi_test |
+===================+==========+
| CentOS Stream 9   | PASS     |
+-------------------+----------+
| Debian 12         | PASS     |
+-------------------+----------+
| Fedora 40 (Clang) | PASS     |
+-------------------+----------+
| openSUSE Leap 15  | PASS     |
+-------------------+----------+
| Fedora 41 (Clang) | PASS     |
+-------------------+----------+
| Fedora 41         | PASS     |
+-------------------+----------+
| Fedora 40         | PASS     |
+-------------------+----------+
| RHEL9             | PASS     |
+-------------------+----------+
| RHEL8             | PASS     |
+-------------------+----------+
| Ubuntu 22.04      | PASS     |
+-------------------+----------+
| Ubuntu 24.04      | PASS     |
+-------------------+----------+


CentOS Stream 9
	Kernel: Depends on container host
	Compiler: gcc 11.5.0 20240719 (Red Hat 11.5.0-2)

Debian 12
	Kernel: Depends on container host
	Compiler: gcc (Debian 12.2.0-14) 12.2.0

Fedora 40 (Clang)
	Kernel: Depends on container host
	Compiler: clang 18.1.8 (Fedora 18.1.8-1.fc40)

openSUSE Leap 15
	Kernel: Depends on container host
	Compiler: gcc (SUSE Linux) 7.5.0

Fedora 41 (Clang)
	Kernel: Depends on container host
	Compiler: clang 19.1.5 (Fedora 19.1.5-1.fc41)

Fedora 41
	Kernel: Depends on container host
	Compiler: gcc 14.2.1 20240912 (Red Hat 14.2.1-3)

Fedora 40
	Kernel: Depends on container host
	Compiler: gcc 14.2.1 20240912 (Red Hat 14.2.1-3)

RHEL9
	Kernel: Depends on container host
	Compiler: gcc 11.5.0 20240719 (Red Hat 11.5.0-2)

RHEL8
	Kernel: Depends on container host
	Compiler: gcc 8.5.0 20210514 (Red Hat 8.5.0-22)

Ubuntu 22.04
	Kernel: Depends on container host
	Compiler: gcc (Ubuntu 11.4.0-1ubuntu1~22.04) 11.4.0

Ubuntu 24.04
	Kernel: Depends on container host
	Compiler: gcc (Ubuntu 13.3.0-6ubuntu2~24.04) 13.3.0

To view detailed results, visit:
https://lab.dpdk.org/results/dashboard/patchsets/32286/

UNH-IOL DPDK Community Lab

To manage your email subscriptions, visit: 
https://lab.dpdk.org/results/dashboard/preferences/subscriptions/