From mboxrd@z Thu Jan  1 00:00:00 1970
Return-Path: <test-report-bounces@dpdk.org>
Received: from mails.dpdk.org (mails.dpdk.org [217.70.189.124])
	by inbox.dpdk.org (Postfix) with ESMTP id AF9AC4605A
	for <public@inbox.dpdk.org>; Fri, 10 Jan 2025 19:58:04 +0100 (CET)
Received: from mails.dpdk.org (localhost [127.0.0.1])
	by mails.dpdk.org (Postfix) with ESMTP id 90BA54279E;
	Fri, 10 Jan 2025 19:58:04 +0100 (CET)
Received: from mail-ot1-f99.google.com (mail-ot1-f99.google.com
 [209.85.210.99]) by mails.dpdk.org (Postfix) with ESMTP id AB5844279D
 for <test-report@dpdk.org>; Fri, 10 Jan 2025 19:58:03 +0100 (CET)
Received: by mail-ot1-f99.google.com with SMTP id
 46e09a7af769-71e3005916aso492125a34.2
 for <test-report@dpdk.org>; Fri, 10 Jan 2025 10:58:03 -0800 (PST)
DKIM-Signature: v=1; a=rsa-sha256; c=relaxed/relaxed;
 d=iol.unh.edu; s=unh-iol; t=1736535483; x=1737140283; darn=dpdk.org;
 h=references:in-reply-to:cc:to:from:subject:message-id:date:from:to
 :cc:subject:date:message-id:reply-to;
 bh=4IRo4BpynRutm19NVJ5oz3hPu9HL0UkJLpWwrZdbcQs=;
 b=L1jmWlFU0Fqkc3F10cujblyWfUk7Lhk1cpwNqPfo8ZqvDC2wsR9hm8wgThQlaU4QND
 9juz2TCwfF/EmjZbQLB5dM8SGf0hnRoYSDMTSq7F90tzsf6I7QKg9d1148aLk1OPU4wH
 pwoHrAXeHlPstGlb2TZfX8SpbkhVVfzM9EE+Q=
X-Google-DKIM-Signature: v=1; a=rsa-sha256; c=relaxed/relaxed;
 d=1e100.net; s=20230601; t=1736535483; x=1737140283;
 h=references:in-reply-to:cc:to:from:subject:message-id:date
 :x-gm-message-state:from:to:cc:subject:date:message-id:reply-to;
 bh=4IRo4BpynRutm19NVJ5oz3hPu9HL0UkJLpWwrZdbcQs=;
 b=ZV+cS/Sym+7/Oq8foS3LY7vlctBt/i1p8JN3qTlOD85BRPCxnTgOYqwpL/Aa62IYVx
 PT5fw/WsWn6hMhqE6guUzKKlzNNf//NIAVEkti/eN5ineeB05u2jpJzrwPzo0AaLErtu
 X7kjZ6OWv3TDbdp/o38CT91/RosOgPl33e8IFaBNjcF8ZASW84r4jJR/ZJuItroxbrOD
 cWt6zUx+dForLykdbCX94Vdad6l7DzGaxUA68Xhjbiew365uVOdq5e0yM1T8c2Ep5bn+
 wO6H0curhikjXfGDBeqXd6KtYM0n98cpPqJbmED878D6QQO/+qED3cgTmhc4JRzbwx6q
 TkCQ==
X-Gm-Message-State: AOJu0YxhQw6MlKOK2T5o3gM4GTxskM5oiRgZ2fMhbAmjAOwrJiMkByUS
 qlmckMk+WuBFcOk/XALiSsxChq/D80SJJtC4uoMTQ7H8G/yWHfD8lrvn16BqpTlpb85g/ZHZ+rc
 AEOVI1tseNDhWf6a5uVFYDO9OV65ZrR0xXYhFTMWA
X-Gm-Gg: ASbGncu7W7NgoxhA/6qWPAOsNFkIE8gUfFowrt5zV8RQ073xvJk6j4mQonWV1YfeOdg
 WCrFemLvV0oQ5XyHRQAXGq+n0MxRkYK8cLScq3ouF+0oIqhsXMEbFJblShO+RaRr7zGGjv99eH1
 wwvGpArSRUjGutVBG8lVnqgLTY1Cb+OHMYCtIJ67qUC7fK4II7gVR8uXr1Wl1Zo1IOPyC2t5YNL
 Sf098GAaDL670dzljW5K4zxXtg2MEFihUpzNsktb+9jsUoo/ExR49EMetexgWx4DbCp8vKOXSa8
 jw==
X-Google-Smtp-Source: AGHT+IF46WATQjjKd05lA/ol6sDOy98KFEPqM6RDKJ8KrBVF5wzQzR1eESEQWln0C/v1OPwjEf2qvCayN83m
X-Received: by 2002:a05:6871:5291:b0:29e:55ae:6170 with SMTP id
 586e51a60fabf-2aa06952f17mr7252724fac.29.1736535482839; 
 Fri, 10 Jan 2025 10:58:02 -0800 (PST)
Received: from postal.iol.unh.edu (postal.iol.unh.edu. [132.177.123.84])
 by smtp-relay.gmail.com with ESMTPS id
 586e51a60fabf-2ad805ba631sm204365fac.24.2025.01.10.10.58.02
 (version=TLS1_2 cipher=ECDHE-ECDSA-AES128-GCM-SHA256 bits=128/128);
 Fri, 10 Jan 2025 10:58:02 -0800 (PST)
X-Relaying-Domain: iol.unh.edu
Date: Fri, 10 Jan 2025 10:58:02 -0800 (PST)
Message-ID: <67816dba.050a0220.309b8e.dacbSMTPIN_ADDED_MISSING@mx.google.com>
Received: from [172.17.0.4] (unknown [172.18.0.217])
 by postal.iol.unh.edu (Postfix) with ESMTP id 514BE6052471;
 Fri, 10 Jan 2025 13:58:02 -0500 (EST)
Subject: |WARNING| pw149783 [PATCH] crypto/cnxk: fix gcc 15 warning
From: dpdklab@iol.unh.edu
To: Test Report <test-report@dpdk.org>
Cc: dpdk-test-reports@iol.unh.edu
In-Reply-To: <20250110170603.538756-1-stephen@networkplumber.org>
References: <20250110170603.538756-1-stephen@networkplumber.org>
Content-Type: text/plain
X-BeenThere: test-report@dpdk.org
X-Mailman-Version: 2.1.29
Precedence: list
List-Id: automatic DPDK test reports <test-report.dpdk.org>
List-Unsubscribe: <https://mails.dpdk.org/options/test-report>,
 <mailto:test-report-request@dpdk.org?subject=unsubscribe>
List-Archive: <http://mails.dpdk.org/archives/test-report/>
List-Post: <mailto:test-report@dpdk.org>
List-Help: <mailto:test-report-request@dpdk.org?subject=help>
List-Subscribe: <https://mails.dpdk.org/listinfo/test-report>,
 <mailto:test-report-request@dpdk.org?subject=subscribe>
Errors-To: test-report-bounces@dpdk.org

Test-Label: iol-compile-amd64-testing
Test-Status: WARNING
http://dpdk.org/patch/149783

_Testing issues_

Submitter: Stephen Hemminger <stephen@networkplumber.org>
Date: Friday, January 10 2025 17:06:03 
DPDK git baseline: Repo:dpdk
  Branch: master
  CommitID:cdf7f14fae72cdf64bcccff3ed4ab30accdf436e

149783 --> testing issues

Upstream job id: Generic-DPDK-Compile-Meson#350020

Test environment and result as below:

+---------------------+--------------------+------------------+-------------------+-----------------------+-------------------+----------------------+
|     Environment     | dpdk_meson_compile | dpdk_compile_ovs | dpdk_compile_spdk | dpdk_win_llvm_compile | dpdk_msvc_compile | dpdk_mingw64_compile |
+=====================+====================+==================+===================+=======================+===================+======================+
| Debian Bullseye     | PASS               | PASS             | PASS              | SKIPPED               | SKIPPED           | SKIPPED              |
+---------------------+--------------------+------------------+-------------------+-----------------------+-------------------+----------------------+
| Debian 12           | PASS               | PASS             | PASS              | SKIPPED               | SKIPPED           | SKIPPED              |
+---------------------+--------------------+------------------+-------------------+-----------------------+-------------------+----------------------+
| CentOS Stream 9     | PASS               | PASS             | PASS              | SKIPPED               | SKIPPED           | SKIPPED              |
+---------------------+--------------------+------------------+-------------------+-----------------------+-------------------+----------------------+
| Fedora 41 (Clang)   | PASS               | PASS             | PASS              | SKIPPED               | SKIPPED           | SKIPPED              |
+---------------------+--------------------+------------------+-------------------+-----------------------+-------------------+----------------------+
| Ubuntu 22.04        | PASS               | PASS             | PASS              | SKIPPED               | SKIPPED           | SKIPPED              |
+---------------------+--------------------+------------------+-------------------+-----------------------+-------------------+----------------------+
| Fedora 40           | PASS               | PASS             | PASS              | SKIPPED               | SKIPPED           | SKIPPED              |
+---------------------+--------------------+------------------+-------------------+-----------------------+-------------------+----------------------+
| Fedora 40 (Clang)   | PASS               | PASS             | PASS              | SKIPPED               | SKIPPED           | SKIPPED              |
+---------------------+--------------------+------------------+-------------------+-----------------------+-------------------+----------------------+
| RHEL8               | PASS               | PASS             | SKIPPED           | SKIPPED               | SKIPPED           | SKIPPED              |
+---------------------+--------------------+------------------+-------------------+-----------------------+-------------------+----------------------+
| Fedora 41           | PASS               | PASS             | PASS              | SKIPPED               | SKIPPED           | SKIPPED              |
+---------------------+--------------------+------------------+-------------------+-----------------------+-------------------+----------------------+
| openSUSE Leap 15    | PASS               | SKIPPED          | SKIPPED           | SKIPPED               | SKIPPED           | SKIPPED              |
+---------------------+--------------------+------------------+-------------------+-----------------------+-------------------+----------------------+
| Ubuntu 20.04        | PASS               | WARN             | SKIPPED           | SKIPPED               | SKIPPED           | SKIPPED              |
+---------------------+--------------------+------------------+-------------------+-----------------------+-------------------+----------------------+
| Ubuntu 24.04        | PASS               | PASS             | PASS              | SKIPPED               | SKIPPED           | SKIPPED              |
+---------------------+--------------------+------------------+-------------------+-----------------------+-------------------+----------------------+
| RHEL9               | PASS               | PASS             | SKIPPED           | SKIPPED               | SKIPPED           | SKIPPED              |
+---------------------+--------------------+------------------+-------------------+-----------------------+-------------------+----------------------+
| FreeBSD 13.4        | PASS               | SKIPPED          | SKIPPED           | SKIPPED               | SKIPPED           | SKIPPED              |
+---------------------+--------------------+------------------+-------------------+-----------------------+-------------------+----------------------+
| FreeBSD 14.2        | PASS               | SKIPPED          | SKIPPED           | SKIPPED               | SKIPPED           | SKIPPED              |
+---------------------+--------------------+------------------+-------------------+-----------------------+-------------------+----------------------+
| Alpine              | PASS               | PASS             | SKIPPED           | SKIPPED               | SKIPPED           | SKIPPED              |
+---------------------+--------------------+------------------+-------------------+-----------------------+-------------------+----------------------+
| Windows Server 2022 | SKIPPED            | SKIPPED          | SKIPPED           | PASS                  | PASS              | PASS                 |
+---------------------+--------------------+------------------+-------------------+-----------------------+-------------------+----------------------+

==== 20 line log output for Ubuntu 20.04 (dpdk_compile_ovs): ====
 --- Failed to get log output --- 
==== End log output ====

Debian Bullseye
	Kernel: Depends on container host
	Compiler: gcc (Debian 10.2.1-6) 10.2.1 20210110

Debian 12
	Kernel: Depends on container host
	Compiler: gcc (Debian 12.2.0-14) 12.2.0

CentOS Stream 9
	Kernel: Depends on container host
	Compiler: gcc 11.5.0 20240719 (Red Hat 11.5.0-2)

Fedora 41 (Clang)
	Kernel: Depends on container host
	Compiler: clang 19.1.5 (Fedora 19.1.5-1.fc41)

Ubuntu 22.04
	Kernel: Depends on container host
	Compiler: gcc (Ubuntu 11.4.0-1ubuntu1~22.04) 11.4.0

Fedora 40
	Kernel: Depends on container host
	Compiler: gcc 14.2.1 20240912 (Red Hat 14.2.1-3)

Fedora 40 (Clang)
	Kernel: Depends on container host
	Compiler: clang 18.1.8 (Fedora 18.1.8-1.fc40)

RHEL8
	Kernel: Depends on container host
	Compiler: gcc 8.5.0 20210514 (Red Hat 8.5.0-22)

Fedora 41
	Kernel: Depends on container host
	Compiler: gcc 14.2.1 20240912 (Red Hat 14.2.1-3)

openSUSE Leap 15
	Kernel: Depends on container host
	Compiler: gcc (SUSE Linux) 7.5.0

Ubuntu 20.04
	Kernel: Depends on container host
	Compiler: gcc (Ubuntu 9.4.0-1ubuntu1~20.04.2) 9.4.0

Ubuntu 24.04
	Kernel: Depends on container host
	Compiler: gcc (Ubuntu 13.3.0-6ubuntu2~24.04) 13.3.0

RHEL9
	Kernel: Depends on container host
	Compiler: gcc 11.5.0 20240719 (Red Hat 11.5.0-2)

FreeBSD 13.4
	Kernel: 13.4-RELEASE-p1
	Compiler: clang 18.1.6

FreeBSD 14.2
	Kernel: 14.2-RELEASE
	Compiler: clang 18.1.6

Alpine
	Kernel: Depends on container host
	Compiler: gcc (Alpine 14.2.0) 14.2.0

Windows Server 2022
	Kernel: 10.0.20348.2031
	Compiler: clang 15.0.7, gcc 14.1.0 (MinGW), and MSVC VS 19.39.33521

To view detailed results, visit:
https://lab.dpdk.org/results/dashboard/patchsets/32292/

UNH-IOL DPDK Community Lab

To manage your email subscriptions, visit: 
https://lab.dpdk.org/results/dashboard/preferences/subscriptions/