From mboxrd@z Thu Jan  1 00:00:00 1970
Return-Path: <test-report-bounces@dpdk.org>
Received: from mails.dpdk.org (mails.dpdk.org [217.70.189.124])
	by inbox.dpdk.org (Postfix) with ESMTP id AA42446062
	for <public@inbox.dpdk.org>; Fri, 10 Jan 2025 22:53:00 +0100 (CET)
Received: from mails.dpdk.org (localhost [127.0.0.1])
	by mails.dpdk.org (Postfix) with ESMTP id A6DC5427BB;
	Fri, 10 Jan 2025 22:53:00 +0100 (CET)
Received: from mail-pl1-f226.google.com (mail-pl1-f226.google.com
 [209.85.214.226])
 by mails.dpdk.org (Postfix) with ESMTP id 0059340DD1
 for <test-report@dpdk.org>; Fri, 10 Jan 2025 22:52:58 +0100 (CET)
Received: by mail-pl1-f226.google.com with SMTP id
 d9443c01a7336-2163dc5155fso46154415ad.0
 for <test-report@dpdk.org>; Fri, 10 Jan 2025 13:52:58 -0800 (PST)
DKIM-Signature: v=1; a=rsa-sha256; c=relaxed/relaxed;
 d=iol.unh.edu; s=unh-iol; t=1736545978; x=1737150778; darn=dpdk.org;
 h=references:in-reply-to:cc:to:from:subject:message-id:date:from:to
 :cc:subject:date:message-id:reply-to;
 bh=I9ygoHXsxlX7BBNYbgGFchgXFhj0ilYdjky6B/I6E40=;
 b=hSdALZL7zV4Jn+br7cDnh5+PprgvUnmHKEafkTNY0yWyMw8w+5J+0+m9Q//oEoTBhh
 b1+ZD1gCfONNdr4dKJHoQHIrh87NGMP4NWs8oKUHACj9piMQIdSpR38oE24nSM1pxu+t
 RLl0RTL2G0zDcj0Ix32Da51sriO6xTtDksVjk=
X-Google-DKIM-Signature: v=1; a=rsa-sha256; c=relaxed/relaxed;
 d=1e100.net; s=20230601; t=1736545978; x=1737150778;
 h=references:in-reply-to:cc:to:from:subject:message-id:date
 :x-gm-message-state:from:to:cc:subject:date:message-id:reply-to;
 bh=I9ygoHXsxlX7BBNYbgGFchgXFhj0ilYdjky6B/I6E40=;
 b=kguK6CkiHweLsI0M5sh6HhI1g0ta6h057DHbJ4oPttsB5kGtbQ/hLmCot0PggmKrYa
 JyS5PVFE8npn+uI4wBkZVv0pSbyQLrnC57WcvkbdWRaLDKTHywWA/erc1ux4AaK7qj+J
 fZLIL/TdtsfFgVjx1Dt3x1PR2g9nCGduKKx0+gJZRQBHnHAD7PtdbwMhXWsgGgEK3kwG
 2hhe0WCGSnS4pTtYKnDjQzkWhxKiXe4Yq8hNv6Ar5O3AX5zy0+Z7U+cuJkK1cTR14IJo
 5LzeCzf1qAuGWkJwD+HcXOzNcMhAEPxWcFKI7C0cIT7ykZ3ZA8bKbhQSQ/XZWcgT8wyo
 pylQ==
X-Gm-Message-State: AOJu0YwnU44xM+nHPRDU7RDF7abFTQvEGAkbhoerajd6oZrsBqhvqIhY
 vwKZ14QhT1wSVKT1bl4P0Y0VVOG7WLI2TphZvxID4jTV80wd8785YE0uC5ZiaYMZ+Ts3Ye4gDyL
 Q+Juh0bZklXji9uNF0zYLJC5RGPpTNxFUWJjR03N6YVX3fjPl6xmnCKN4
X-Gm-Gg: ASbGncspNpDs6atbW/IlxQF7dHHOWrN27UKkuxWIHHXIc5OjRRv5PnhKTxBOwWoxULv
 wrKnT4spPN2TSMtXLD7Wp2hEUlRq945Yr6V0hXUTn7+zv9yjQpekJr7KnqiytZtxVafC4wNdZxQ
 sq62GZJFoKD/M/sI7RmbrLDulayRUmD0qdSpd2Xwd9cFoo4AI7lxmgzsca9Nr7SGVOxJfL6qFAC
 h1jQvNk1hJVFUMJiviCr0JFnO1rbevrZxYVpOCtkAcrSn0rXe8kmqPhcYsP/ZjLcv7vOB0nWwta
 nStliQ==
X-Google-Smtp-Source: AGHT+IHdeh1VcITyXBJW+rYCe9HrDUE5/7ynojGa2VWiNDfcWxrS3p/XG9ggnxyUlBzC6MLCCfWQltw4KLXx
X-Received: by 2002:a17:902:dac2:b0:215:4d90:4caf with SMTP id
 d9443c01a7336-21a83f59455mr202476355ad.14.1736545978121; 
 Fri, 10 Jan 2025 13:52:58 -0800 (PST)
Received: from postal.iol.unh.edu (postal.iol.unh.edu.
 [2606:4100:3880:1234::84]) by smtp-relay.gmail.com with ESMTPS id
 d9443c01a7336-21a9f27c0b2sm1027095ad.59.2025.01.10.13.52.57
 (version=TLS1_2 cipher=ECDHE-ECDSA-AES128-GCM-SHA256 bits=128/128);
 Fri, 10 Jan 2025 13:52:58 -0800 (PST)
X-Relaying-Domain: iol.unh.edu
Date: Fri, 10 Jan 2025 13:52:58 -0800 (PST)
Message-ID: <678196ba.170a0220.2bc994.75a5SMTPIN_ADDED_MISSING@mx.google.com>
Received: from [172.21.0.6] (unknown [172.18.0.240])
 by postal.iol.unh.edu (Postfix) with ESMTP id 94E036052471;
 Fri, 10 Jan 2025 16:52:57 -0500 (EST)
Subject: |SUCCESS| pw149784 [PATCH] base/thunderx: fix build with Gcc 15
From: dpdklab@iol.unh.edu
To: Test Report <test-report@dpdk.org>
Cc: dpdk-test-reports@iol.unh.edu
In-Reply-To: <20250110172725.540897-1-stephen@networkplumber.org>
References: <20250110172725.540897-1-stephen@networkplumber.org>
Content-Type: text/plain
X-BeenThere: test-report@dpdk.org
X-Mailman-Version: 2.1.29
Precedence: list
List-Id: automatic DPDK test reports <test-report.dpdk.org>
List-Unsubscribe: <https://mails.dpdk.org/options/test-report>,
 <mailto:test-report-request@dpdk.org?subject=unsubscribe>
List-Archive: <http://mails.dpdk.org/archives/test-report/>
List-Post: <mailto:test-report@dpdk.org>
List-Help: <mailto:test-report-request@dpdk.org?subject=help>
List-Subscribe: <https://mails.dpdk.org/listinfo/test-report>,
 <mailto:test-report-request@dpdk.org?subject=subscribe>
Errors-To: test-report-bounces@dpdk.org

Test-Label: iol-unit-arm64-testing
Test-Status: SUCCESS
http://dpdk.org/patch/149784

_Testing PASS_

Submitter: Stephen Hemminger <stephen@networkplumber.org>
Date: Friday, January 10 2025 17:27:24 
DPDK git baseline: Repo:dpdk
  Branch: master
  CommitID:fd51012de5369679e807be1d6a81d63ef15015ce

149784 --> testing pass

Upstream job id: Aarch32-Unit-Test#4880

Test environment and result as below:

+-----------------------------+----------------+--------------+------------------------------+---------------------------+
|         Environment         | dpdk_unit_test | lpm_autotest | cryptodev_sw_snow3g_autotest | cryptodev_sw_zuc_autotest |
+=============================+================+==============+==============================+===========================+
| CentOS Stream 9 (ARM)       | PASS           | SKIPPED      | SKIPPED                      | SKIPPED                   |
+-----------------------------+----------------+--------------+------------------------------+---------------------------+
| Fedora 41 (ARM Clang)       | PASS           | SKIPPED      | SKIPPED                      | SKIPPED                   |
+-----------------------------+----------------+--------------+------------------------------+---------------------------+
| Fedora 40 (ARM)             | PASS           | SKIPPED      | SKIPPED                      | SKIPPED                   |
+-----------------------------+----------------+--------------+------------------------------+---------------------------+
| Fedora 40 (ARM Clang)       | PASS           | SKIPPED      | SKIPPED                      | SKIPPED                   |
+-----------------------------+----------------+--------------+------------------------------+---------------------------+
| Debian 11 (Buster) (ARM)    | PASS           | SKIPPED      | SKIPPED                      | SKIPPED                   |
+-----------------------------+----------------+--------------+------------------------------+---------------------------+
| Debian 12 (arm)             | PASS           | SKIPPED      | PASS                         | PASS                      |
+-----------------------------+----------------+--------------+------------------------------+---------------------------+
| Fedora 41 (ARM)             | PASS           | SKIPPED      | SKIPPED                      | SKIPPED                   |
+-----------------------------+----------------+--------------+------------------------------+---------------------------+
| Ubuntu 20.04 (ARM)          | PASS           | SKIPPED      | SKIPPED                      | SKIPPED                   |
+-----------------------------+----------------+--------------+------------------------------+---------------------------+
| Ubuntu 22.04 (ARM)          | PASS           | SKIPPED      | SKIPPED                      | SKIPPED                   |
+-----------------------------+----------------+--------------+------------------------------+---------------------------+
| Ubuntu 24.04 (ARM)          | PASS           | SKIPPED      | SKIPPED                      | SKIPPED                   |
+-----------------------------+----------------+--------------+------------------------------+---------------------------+
| RHEL9 (ARM)                 | PASS           | SKIPPED      | SKIPPED                      | SKIPPED                   |
+-----------------------------+----------------+--------------+------------------------------+---------------------------+
| 32-bit Ubuntu 22.04.4 (ARM) | PASS           | SKIPPED      | SKIPPED                      | SKIPPED                   |
+-----------------------------+----------------+--------------+------------------------------+---------------------------+
| Ubuntu 20.04 ARM SVE        | SKIPPED        | PASS         | SKIPPED                      | SKIPPED                   |
+-----------------------------+----------------+--------------+------------------------------+---------------------------+


CentOS Stream 9 (ARM)
	Kernel: Depends on container host
	Compiler: gcc 11.5.0 20240719 (Red Hat 11.5.0-2)

Fedora 41 (ARM Clang)
	Kernel: Depends on container host
	Compiler: clang 19.1.5 (Fedora 19.1.5-1.fc41)

Fedora 40 (ARM)
	Kernel: Depends on container host
	Compiler: gcc 14.2.1 20240912 (Red Hat 14.2.1-3)

Fedora 40 (ARM Clang)
	Kernel: Depends on container host
	Compiler: clang 18.1.8 (Fedora 18.1.8-1.fc40)

Debian 11 (Buster) (ARM)
	Kernel: Depends on container host
	Compiler: gcc (Debian 10.2.1-6) 10.2.1 20210110

Debian 12 (arm)
	Kernel: Depends on container host
	Compiler: gcc (Debian 12.2.0-14) 12.2.0

Fedora 41 (ARM)
	Kernel: Depends on container host
	Compiler: gcc 14.2.1 20240912 (Red Hat 14.2.1-3)

Ubuntu 20.04 (ARM)
	Kernel: Depends on container host
	Compiler: gcc (Ubuntu 9.4.0-1ubuntu1~20.04.2) 9.4.0

Ubuntu 22.04 (ARM)
	Kernel: Depends on container host
	Compiler: gcc (Ubuntu 11.4.0-1ubuntu1~22.04) 11.4.0

Ubuntu 24.04 (ARM)
	Kernel: Depends on container host
	Compiler: gcc (Ubuntu 13.3.0-6ubuntu2~24.04) 13.3.0

RHEL9 (ARM)
	Kernel: Depends on container host
	Compiler: gcc 11.5.0 20240719 (Red Hat 11.5.0-2)

32-bit Ubuntu 22.04.4 (ARM)
	Kernel: 5.15.83+ aarch64
	Compiler: gcc (Ubuntu 11.4.0-1ubuntu1~22.04) 11.4.0

Ubuntu 20.04 ARM SVE
	Kernel: Depends on container host
	Compiler: gcc (Ubuntu 10.5.0-1ubuntu1~20.04) 10.5.0

To view detailed results, visit:
https://lab.dpdk.org/results/dashboard/patchsets/32293/

UNH-IOL DPDK Community Lab

To manage your email subscriptions, visit: 
https://lab.dpdk.org/results/dashboard/preferences/subscriptions/