From mboxrd@z Thu Jan  1 00:00:00 1970
Return-Path: <test-report-bounces@dpdk.org>
Received: from mails.dpdk.org (mails.dpdk.org [217.70.189.124])
	by inbox.dpdk.org (Postfix) with ESMTP id 57E6A46062
	for <public@inbox.dpdk.org>; Sun, 12 Jan 2025 22:49:27 +0100 (CET)
Received: from mails.dpdk.org (localhost [127.0.0.1])
	by mails.dpdk.org (Postfix) with ESMTP id 53BFB402EA;
	Sun, 12 Jan 2025 22:49:27 +0100 (CET)
Received: from mail-yb1-f228.google.com (mail-yb1-f228.google.com
 [209.85.219.228])
 by mails.dpdk.org (Postfix) with ESMTP id 2C02C4029F
 for <test-report@dpdk.org>; Sun, 12 Jan 2025 22:49:26 +0100 (CET)
Received: by mail-yb1-f228.google.com with SMTP id
 3f1490d57ef6-e549be93d5eso6369175276.1
 for <test-report@dpdk.org>; Sun, 12 Jan 2025 13:49:26 -0800 (PST)
DKIM-Signature: v=1; a=rsa-sha256; c=relaxed/relaxed;
 d=iol.unh.edu; s=unh-iol; t=1736718565; x=1737323365; darn=dpdk.org;
 h=references:in-reply-to:cc:to:from:subject:message-id:date:from:to
 :cc:subject:date:message-id:reply-to;
 bh=NVDCaIIGO/4jrGyDgiMguV2ut/f90VM1ZUo45PiAy30=;
 b=KschU8oq6AKlcbLGf8nZRUuU+gH+Rw3T6DuGJMf7kkHRPL1Dwa7C3bFF17QyANqHjj
 3huDi4bxAcRNTuxJdBmJ3zqFC5j027w0wcZp6ovA4ym/fpYNqFuRspudgNWZv9ZtrJM0
 9aR67958QaNX3L8qxtWVmLYchKjU/Yo50btic=
X-Google-DKIM-Signature: v=1; a=rsa-sha256; c=relaxed/relaxed;
 d=1e100.net; s=20230601; t=1736718565; x=1737323365;
 h=references:in-reply-to:cc:to:from:subject:message-id:date
 :x-gm-message-state:from:to:cc:subject:date:message-id:reply-to;
 bh=NVDCaIIGO/4jrGyDgiMguV2ut/f90VM1ZUo45PiAy30=;
 b=iA8QyMTPwmL8GDBnrgYkLhypLt3nyinpmuCD+ZMO+2jZAtWF2lwqj/ahqnz41V5gDV
 84qqSGgq2OLDchQDpyFETLUk0RMBlh8oemiqcuwzdLINH89ZPz5PXEa6RWsPh48T3giY
 mRJP/rNNA1OYMwLx3ZQ10oIFfx3881uxdIxGitlL/TcKZr6cBCbkhslKZxhHu/CMySxE
 cXrNuuRlX5IT4AhH755dIfvCfm/n35xn4MRwi1wKXlIvCNCwHV84NcHga+9/wTdW4/x6
 IPoJCBFytsfiL15pEXC/nFgGXEBVBNYInuwOAGq/dISbF2XpLlSDS0PnLBFW+j6R5S/n
 U06A==
X-Gm-Message-State: AOJu0YwyjSNnH7e9JadXz6Ph9drlEJepn4oX8IyRnrL4MqXpQMi+vqMe
 /8fR6XlsD6iZtTeFkbc4N2bPE6Uy0yvomrBGS/GQ0lGqJFf0IYmB6XwyNuW8uuWCNfcHAiZBkTM
 qcNDYg/WxQKck5b1EwfluRvn0PjbHP/YQdHYEoxyaTuqNj4XH6vJOm/6b
X-Gm-Gg: ASbGncu6GeJsZGFoj943Zv6BMPMnfJbAaV+D4T39knf/kssVzpvzFt9THNUkcaHAL2d
 ttOJuY8iTP4bNCUzQ5lVepswMxyG6By/KTdc8YAO48fGEwVfSqWezktdwhRSpfQ+BvGeYi5bmNZ
 cwiCqMHEsQpJGe4ccCBi3rMGJutSrcaYRiCZWnUHtE4fgIIe8yw1QrP35P7bOhmO8CUeOAQIA0T
 +idx5QU/YcP+yw0EBIC9duUBiq/XX7YBphWN98vlYpPWLa/9aoBQj8OWcq0s5LOA4lV6t/nPrW1
 mncJferiv/q2sC3hEw==
X-Google-Smtp-Source: AGHT+IHXlp/DbXlRm/iR1fCbNIpVKagf/wyuDfMa+mPTjdmc0JzhUMMIz2OJw/8BIgShKLZVbOgHRE8X0gMR
X-Received: by 2002:a05:6902:2789:b0:e57:590d:2903 with SMTP id
 3f1490d57ef6-e57590d2abcmr1585820276.0.1736718565593; 
 Sun, 12 Jan 2025 13:49:25 -0800 (PST)
Received: from postal.iol.unh.edu (postal.iol.unh.edu.
 [2606:4100:3880:1234::84]) by smtp-relay.gmail.com with ESMTPS id
 3f1490d57ef6-e55087f16a4sm231321276.16.2025.01.12.13.49.25
 (version=TLS1_2 cipher=ECDHE-ECDSA-AES128-GCM-SHA256 bits=128/128);
 Sun, 12 Jan 2025 13:49:25 -0800 (PST)
X-Relaying-Domain: iol.unh.edu
Date: Sun, 12 Jan 2025 13:49:25 -0800 (PST)
Message-ID: <678438e5.050a0220.280adc.156dSMTPIN_ADDED_MISSING@mx.google.com>
Received: from [172.21.0.6] (unknown [172.18.0.240])
 by postal.iol.unh.edu (Postfix) with ESMTP id 38A276052471;
 Sun, 12 Jan 2025 16:49:25 -0500 (EST)
Subject: |WARNING| pw149910-149915 [PATCH] [v3,6/6] lib/vhost: remove check a
From: dpdklab@iol.unh.edu
To: Test Report <test-report@dpdk.org>
Cc: dpdk-test-reports@iol.unh.edu
In-Reply-To: <20250112202021.179634-7-otilibil@eurecom.fr>
References: <20250112202021.179634-7-otilibil@eurecom.fr>
Content-Type: text/plain
X-BeenThere: test-report@dpdk.org
X-Mailman-Version: 2.1.29
Precedence: list
List-Id: automatic DPDK test reports <test-report.dpdk.org>
List-Unsubscribe: <https://mails.dpdk.org/options/test-report>,
 <mailto:test-report-request@dpdk.org?subject=unsubscribe>
List-Archive: <http://mails.dpdk.org/archives/test-report/>
List-Post: <mailto:test-report@dpdk.org>
List-Help: <mailto:test-report-request@dpdk.org?subject=help>
List-Subscribe: <https://mails.dpdk.org/listinfo/test-report>,
 <mailto:test-report-request@dpdk.org?subject=subscribe>
Errors-To: test-report-bounces@dpdk.org

Test-Label: iol-compile-amd64-testing
Test-Status: WARNING
http://dpdk.org/patch/149915

_Testing issues_

Submitter: Ariel Otilibili <otilibil@eurecom.fr>
Date: Sunday, January 12 2025 20:20:21 
DPDK git baseline: Repo:dpdk
  Branch: master
  CommitID:3779f70292c6b3c8fa23e6ca682876506bb08883

149910-149915 --> testing issues

Upstream job id: Generic-DPDK-Compile-Meson#350419

Test environment and result as below:

+---------------------+--------------------+------------------+-------------------+-----------------------+-------------------+----------------------+
|     Environment     | dpdk_meson_compile | dpdk_compile_ovs | dpdk_compile_spdk | dpdk_win_llvm_compile | dpdk_msvc_compile | dpdk_mingw64_compile |
+=====================+====================+==================+===================+=======================+===================+======================+
| Debian Bullseye     | PASS               | PASS             | PASS              | SKIPPED               | SKIPPED           | SKIPPED              |
+---------------------+--------------------+------------------+-------------------+-----------------------+-------------------+----------------------+
| CentOS Stream 9     | PASS               | PASS             | PASS              | SKIPPED               | SKIPPED           | SKIPPED              |
+---------------------+--------------------+------------------+-------------------+-----------------------+-------------------+----------------------+
| Debian 12           | PASS               | PASS             | PASS              | SKIPPED               | SKIPPED           | SKIPPED              |
+---------------------+--------------------+------------------+-------------------+-----------------------+-------------------+----------------------+
| Fedora 40 (Clang)   | PASS               | PASS             | PASS              | SKIPPED               | SKIPPED           | SKIPPED              |
+---------------------+--------------------+------------------+-------------------+-----------------------+-------------------+----------------------+
| RHEL8               | PASS               | PASS             | SKIPPED           | SKIPPED               | SKIPPED           | SKIPPED              |
+---------------------+--------------------+------------------+-------------------+-----------------------+-------------------+----------------------+
| RHEL9               | PASS               | PASS             | SKIPPED           | SKIPPED               | SKIPPED           | SKIPPED              |
+---------------------+--------------------+------------------+-------------------+-----------------------+-------------------+----------------------+
| Fedora 41           | PASS               | PASS             | PASS              | SKIPPED               | SKIPPED           | SKIPPED              |
+---------------------+--------------------+------------------+-------------------+-----------------------+-------------------+----------------------+
| openSUSE Leap 15    | PASS               | SKIPPED          | SKIPPED           | SKIPPED               | SKIPPED           | SKIPPED              |
+---------------------+--------------------+------------------+-------------------+-----------------------+-------------------+----------------------+
| Ubuntu 20.04        | PASS               | WARN             | SKIPPED           | SKIPPED               | SKIPPED           | SKIPPED              |
+---------------------+--------------------+------------------+-------------------+-----------------------+-------------------+----------------------+
| Fedora 41 (Clang)   | PASS               | PASS             | PASS              | SKIPPED               | SKIPPED           | SKIPPED              |
+---------------------+--------------------+------------------+-------------------+-----------------------+-------------------+----------------------+
| FreeBSD 13.4        | PASS               | SKIPPED          | SKIPPED           | SKIPPED               | SKIPPED           | SKIPPED              |
+---------------------+--------------------+------------------+-------------------+-----------------------+-------------------+----------------------+
| Ubuntu 24.04        | PASS               | PASS             | PASS              | SKIPPED               | SKIPPED           | SKIPPED              |
+---------------------+--------------------+------------------+-------------------+-----------------------+-------------------+----------------------+
| Alpine              | PASS               | PASS             | SKIPPED           | SKIPPED               | SKIPPED           | SKIPPED              |
+---------------------+--------------------+------------------+-------------------+-----------------------+-------------------+----------------------+
| FreeBSD 14.2        | PASS               | SKIPPED          | SKIPPED           | SKIPPED               | SKIPPED           | SKIPPED              |
+---------------------+--------------------+------------------+-------------------+-----------------------+-------------------+----------------------+
| Fedora 40           | PASS               | PASS             | PASS              | SKIPPED               | SKIPPED           | SKIPPED              |
+---------------------+--------------------+------------------+-------------------+-----------------------+-------------------+----------------------+
| Ubuntu 22.04        | PASS               | PASS             | PASS              | SKIPPED               | SKIPPED           | SKIPPED              |
+---------------------+--------------------+------------------+-------------------+-----------------------+-------------------+----------------------+
| Windows Server 2022 | SKIPPED            | SKIPPED          | SKIPPED           | PASS                  | PASS              | PASS                 |
+---------------------+--------------------+------------------+-------------------+-----------------------+-------------------+----------------------+

==== 20 line log output for Ubuntu 20.04 (dpdk_compile_ovs): ====
 --- Failed to get log output --- 
==== End log output ====

Debian Bullseye
	Kernel: Depends on container host
	Compiler: gcc (Debian 10.2.1-6) 10.2.1 20210110

CentOS Stream 9
	Kernel: Depends on container host
	Compiler: gcc 11.5.0 20240719 (Red Hat 11.5.0-2)

Debian 12
	Kernel: Depends on container host
	Compiler: gcc (Debian 12.2.0-14) 12.2.0

Fedora 40 (Clang)
	Kernel: Depends on container host
	Compiler: clang 18.1.8 (Fedora 18.1.8-1.fc40)

RHEL8
	Kernel: Depends on container host
	Compiler: gcc 8.5.0 20210514 (Red Hat 8.5.0-22)

RHEL9
	Kernel: Depends on container host
	Compiler: gcc 11.5.0 20240719 (Red Hat 11.5.0-2)

Fedora 41
	Kernel: Depends on container host
	Compiler: gcc 14.2.1 20240912 (Red Hat 14.2.1-3)

openSUSE Leap 15
	Kernel: Depends on container host
	Compiler: gcc (SUSE Linux) 7.5.0

Ubuntu 20.04
	Kernel: Depends on container host
	Compiler: gcc (Ubuntu 9.4.0-1ubuntu1~20.04.2) 9.4.0

Fedora 41 (Clang)
	Kernel: Depends on container host
	Compiler: clang 19.1.5 (Fedora 19.1.5-1.fc41)

FreeBSD 13.4
	Kernel: 13.4-RELEASE-p1
	Compiler: clang 18.1.6

Ubuntu 24.04
	Kernel: Depends on container host
	Compiler: gcc (Ubuntu 13.3.0-6ubuntu2~24.04) 13.3.0

Alpine
	Kernel: Depends on container host
	Compiler: gcc (Alpine 14.2.0) 14.2.0

FreeBSD 14.2
	Kernel: 14.2-RELEASE
	Compiler: clang 18.1.6

Fedora 40
	Kernel: Depends on container host
	Compiler: gcc 14.2.1 20240912 (Red Hat 14.2.1-3)

Ubuntu 22.04
	Kernel: Depends on container host
	Compiler: gcc (Ubuntu 11.4.0-1ubuntu1~22.04) 11.4.0

Windows Server 2022
	Kernel: 10.0.20348.2031
	Compiler: clang 15.0.7, gcc 14.1.0 (MinGW), and MSVC VS 19.39.33521

To view detailed results, visit:
https://lab.dpdk.org/results/dashboard/patchsets/32300/

UNH-IOL DPDK Community Lab

To manage your email subscriptions, visit: 
https://lab.dpdk.org/results/dashboard/preferences/subscriptions/