From mboxrd@z Thu Jan  1 00:00:00 1970
Return-Path: <test-report-bounces@dpdk.org>
Received: from mails.dpdk.org (mails.dpdk.org [217.70.189.124])
	by inbox.dpdk.org (Postfix) with ESMTP id 35B0346062
	for <public@inbox.dpdk.org>; Sun, 12 Jan 2025 23:22:12 +0100 (CET)
Received: from mails.dpdk.org (localhost [127.0.0.1])
	by mails.dpdk.org (Postfix) with ESMTP id 2EAFD402EA;
	Sun, 12 Jan 2025 23:22:12 +0100 (CET)
Received: from mail-qv1-f99.google.com (mail-qv1-f99.google.com
 [209.85.219.99]) by mails.dpdk.org (Postfix) with ESMTP id 2D0BD4029F
 for <test-report@dpdk.org>; Sun, 12 Jan 2025 23:22:10 +0100 (CET)
Received: by mail-qv1-f99.google.com with SMTP id
 6a1803df08f44-6dd049b5428so30079846d6.2
 for <test-report@dpdk.org>; Sun, 12 Jan 2025 14:22:10 -0800 (PST)
DKIM-Signature: v=1; a=rsa-sha256; c=relaxed/relaxed;
 d=iol.unh.edu; s=unh-iol; t=1736720529; x=1737325329; darn=dpdk.org;
 h=references:in-reply-to:cc:to:from:subject:message-id:date:from:to
 :cc:subject:date:message-id:reply-to;
 bh=6esDAKgTLtQjof5AQp3PC12NLa/ocwOmdxEQog4V7eo=;
 b=azFEtsRfiLAdXn4YQi9uIChTN0NVDdRYl3DSo47AF3v7AdLut6kL2O/NoOMDYqG7nv
 ThCl2afj/MpZ//Mgp/lJkCMw65rEBrxLUgt84qkwW3sRWkxtFguZEM2t07B7asFwrV33
 rEIk8A44keL5LwNVzveN7QbuIWfcP7yTBl6D4=
X-Google-DKIM-Signature: v=1; a=rsa-sha256; c=relaxed/relaxed;
 d=1e100.net; s=20230601; t=1736720529; x=1737325329;
 h=references:in-reply-to:cc:to:from:subject:message-id:date
 :x-gm-message-state:from:to:cc:subject:date:message-id:reply-to;
 bh=6esDAKgTLtQjof5AQp3PC12NLa/ocwOmdxEQog4V7eo=;
 b=BjlIx+3Z5ndviNGOi1YYu1I+ekix5dgS9F/mM2lnx+GooDz3KPesIaVAjkTKEQpdEj
 j/YkvX/I0zkcJlKFmA81Sx/Rfos6hMBSeNaJf63lofV4y9mqIDjahuK0dT8tBIUqrqQ9
 HquZzuy+pCipcpDeqt//sW8c/YpKTuXVsRnxesgPOFNG5/MfoWZ1bytj9ZUGdXfov8iZ
 6/yXYcEh7Uum0s3VovZDUEWbLjLF7bvArTGFPoX+vOHLmRWPoWPRfUgFiixQkpwS6IKA
 fTgPYNkYZFYHXjPNNPNlN/jAGdIOrItnTGWOZbwueWi2QJl8cGvQiju0W3BnTzv6Cebh
 F5Ww==
X-Gm-Message-State: AOJu0YzNBLc1+M5hJca++rzBuWvhEFtHDAyk+bCkpMFbssw0oEmGE/qJ
 25ZvziaSZ2rffEMHC04WyJnVTsWKuEr3Ut51eg3eJwu+9n9RCYipxaoX7qTEg993EVD12AjkNdu
 zb3kQ0iV6D3iCa9sEKT4NCHkX69jg/P/+3y8OQL1uHmEQRMZ51GV5/7VK
X-Gm-Gg: ASbGnctYWCE5c7mbjMiKJ5up7C+oH7RnDdHC8SGK4GcwDysAeRPBpoE+vcDhI2dcK+M
 maKNzPGkpSzHlqkzw4pmEGq+SOPRGd+AK8OwgA7wCifmNd8x1QHUPA9HdDuabTnJzVVHo5ULnmg
 AssXAF6OolsbUj3SAMRUyCgI1/GjmRU57QUm9T7s2MJRprYFklnKULRqBxEQP4ZmFhDk1AHcK9n
 7VblBoWWLSnWJHb3wUNprSfvMOqR9JNy+mDAK9FhViykAgxLcC59PAHv8MwIuwkoMpxzfMfX1V3
 4fHZimGc/UyyaAvRxw==
X-Google-Smtp-Source: AGHT+IFzBcXbc7llH/3ylYwkpS1woOpuvFk/QE+am5QzCmt4lEFphI/uyWx81/TLs4arOb+r7OE0y/rzO15z
X-Received: by 2002:a05:6214:dca:b0:6d8:9ab7:adcc with SMTP id
 6a1803df08f44-6df9b1f6c6cmr292598396d6.22.1736720529509; 
 Sun, 12 Jan 2025 14:22:09 -0800 (PST)
Received: from postal.iol.unh.edu (postal.iol.unh.edu.
 [2606:4100:3880:1234::84]) by smtp-relay.gmail.com with ESMTPS id
 6a1803df08f44-6dfadc0a1e9sm3660106d6.41.2025.01.12.14.22.09
 (version=TLS1_2 cipher=ECDHE-ECDSA-AES128-GCM-SHA256 bits=128/128);
 Sun, 12 Jan 2025 14:22:09 -0800 (PST)
X-Relaying-Domain: iol.unh.edu
Date: Sun, 12 Jan 2025 14:22:09 -0800 (PST)
Message-ID: <67844091.050a0220.d6325.aff1SMTPIN_ADDED_MISSING@mx.google.com>
Received: from [172.17.0.4] (unknown [172.18.0.217])
 by postal.iol.unh.edu (Postfix) with ESMTP id 3A5C16052471;
 Sun, 12 Jan 2025 17:22:09 -0500 (EST)
Subject: |SUCCESS| pw149904-149909 [PATCH] [v2,6/6] lib/vhost: remove check a
From: dpdklab@iol.unh.edu
To: Test Report <test-report@dpdk.org>
Cc: dpdk-test-reports@iol.unh.edu
In-Reply-To: <20250112193043.67372-7-otilibil@eurecom.fr>
References: <20250112193043.67372-7-otilibil@eurecom.fr>
Content-Type: text/plain
X-BeenThere: test-report@dpdk.org
X-Mailman-Version: 2.1.29
Precedence: list
List-Id: automatic DPDK test reports <test-report.dpdk.org>
List-Unsubscribe: <https://mails.dpdk.org/options/test-report>,
 <mailto:test-report-request@dpdk.org?subject=unsubscribe>
List-Archive: <http://mails.dpdk.org/archives/test-report/>
List-Post: <mailto:test-report@dpdk.org>
List-Help: <mailto:test-report-request@dpdk.org?subject=help>
List-Subscribe: <https://mails.dpdk.org/listinfo/test-report>,
 <mailto:test-report-request@dpdk.org?subject=subscribe>
Errors-To: test-report-bounces@dpdk.org

Test-Label: iol-unit-arm64-testing
Test-Status: SUCCESS
http://dpdk.org/patch/149909

_Testing PASS_

Submitter: Ariel Otilibili <otilibil@eurecom.fr>
Date: Sunday, January 12 2025 19:30:43 
DPDK git baseline: Repo:dpdk
  Branch: master
  CommitID:3779f70292c6b3c8fa23e6ca682876506bb08883

149904-149909 --> testing pass

Upstream job id: Generic-Unit-Test-DPDK#305235

Test environment and result as below:

+-----------------------------+----------------+--------------+---------------------------+------------------------------+
|         Environment         | dpdk_unit_test | lpm_autotest | cryptodev_sw_zuc_autotest | cryptodev_sw_snow3g_autotest |
+=============================+================+==============+===========================+==============================+
| Fedora 40 (ARM Clang)       | PASS           | SKIPPED      | SKIPPED                   | SKIPPED                      |
+-----------------------------+----------------+--------------+---------------------------+------------------------------+
| Fedora 40 (ARM)             | PASS           | SKIPPED      | SKIPPED                   | SKIPPED                      |
+-----------------------------+----------------+--------------+---------------------------+------------------------------+
| Debian 12 (arm)             | PASS           | SKIPPED      | PASS                      | PASS                         |
+-----------------------------+----------------+--------------+---------------------------+------------------------------+
| Debian 11 (Buster) (ARM)    | PASS           | SKIPPED      | SKIPPED                   | SKIPPED                      |
+-----------------------------+----------------+--------------+---------------------------+------------------------------+
| CentOS Stream 9 (ARM)       | PASS           | SKIPPED      | SKIPPED                   | SKIPPED                      |
+-----------------------------+----------------+--------------+---------------------------+------------------------------+
| Ubuntu 24.04 (ARM)          | PASS           | SKIPPED      | SKIPPED                   | SKIPPED                      |
+-----------------------------+----------------+--------------+---------------------------+------------------------------+
| RHEL9 (ARM)                 | PASS           | SKIPPED      | SKIPPED                   | SKIPPED                      |
+-----------------------------+----------------+--------------+---------------------------+------------------------------+
| Ubuntu 22.04 (ARM)          | PASS           | SKIPPED      | SKIPPED                   | SKIPPED                      |
+-----------------------------+----------------+--------------+---------------------------+------------------------------+
| Fedora 41 (ARM Clang)       | PASS           | SKIPPED      | SKIPPED                   | SKIPPED                      |
+-----------------------------+----------------+--------------+---------------------------+------------------------------+
| Fedora 41 (ARM)             | PASS           | SKIPPED      | SKIPPED                   | SKIPPED                      |
+-----------------------------+----------------+--------------+---------------------------+------------------------------+
| Ubuntu 20.04 (ARM)          | PASS           | SKIPPED      | SKIPPED                   | SKIPPED                      |
+-----------------------------+----------------+--------------+---------------------------+------------------------------+
| 32-bit Ubuntu 22.04.4 (ARM) | PASS           | SKIPPED      | SKIPPED                   | SKIPPED                      |
+-----------------------------+----------------+--------------+---------------------------+------------------------------+
| Ubuntu 20.04 ARM SVE        | SKIPPED        | PASS         | SKIPPED                   | SKIPPED                      |
+-----------------------------+----------------+--------------+---------------------------+------------------------------+


Fedora 40 (ARM Clang)
	Kernel: Depends on container host
	Compiler: clang 18.1.8 (Fedora 18.1.8-1.fc40)

Fedora 40 (ARM)
	Kernel: Depends on container host
	Compiler: gcc 14.2.1 20240912 (Red Hat 14.2.1-3)

Debian 12 (arm)
	Kernel: Depends on container host
	Compiler: gcc (Debian 12.2.0-14) 12.2.0

Debian 11 (Buster) (ARM)
	Kernel: Depends on container host
	Compiler: gcc (Debian 10.2.1-6) 10.2.1 20210110

CentOS Stream 9 (ARM)
	Kernel: Depends on container host
	Compiler: gcc 11.5.0 20240719 (Red Hat 11.5.0-2)

Ubuntu 24.04 (ARM)
	Kernel: Depends on container host
	Compiler: gcc (Ubuntu 13.3.0-6ubuntu2~24.04) 13.3.0

RHEL9 (ARM)
	Kernel: Depends on container host
	Compiler: gcc 11.5.0 20240719 (Red Hat 11.5.0-2)

Ubuntu 22.04 (ARM)
	Kernel: Depends on container host
	Compiler: gcc (Ubuntu 11.4.0-1ubuntu1~22.04) 11.4.0

Fedora 41 (ARM Clang)
	Kernel: Depends on container host
	Compiler: clang 19.1.5 (Fedora 19.1.5-1.fc41)

Fedora 41 (ARM)
	Kernel: Depends on container host
	Compiler: gcc 14.2.1 20240912 (Red Hat 14.2.1-3)

Ubuntu 20.04 (ARM)
	Kernel: Depends on container host
	Compiler: gcc (Ubuntu 9.4.0-1ubuntu1~20.04.2) 9.4.0

32-bit Ubuntu 22.04.4 (ARM)
	Kernel: 5.15.83+ aarch64
	Compiler: gcc (Ubuntu 11.4.0-1ubuntu1~22.04) 11.4.0

Ubuntu 20.04 ARM SVE
	Kernel: Depends on container host
	Compiler: gcc (Ubuntu 10.5.0-1ubuntu1~20.04) 10.5.0

To view detailed results, visit:
https://lab.dpdk.org/results/dashboard/patchsets/32299/

UNH-IOL DPDK Community Lab

To manage your email subscriptions, visit: 
https://lab.dpdk.org/results/dashboard/preferences/subscriptions/