From mboxrd@z Thu Jan  1 00:00:00 1970
Return-Path: <test-report-bounces@dpdk.org>
Received: from mails.dpdk.org (mails.dpdk.org [217.70.189.124])
	by inbox.dpdk.org (Postfix) with ESMTP id EFC984606F
	for <public@inbox.dpdk.org>; Mon, 13 Jan 2025 14:31:31 +0100 (CET)
Received: from mails.dpdk.org (localhost [127.0.0.1])
	by mails.dpdk.org (Postfix) with ESMTP id C805940A80;
	Mon, 13 Jan 2025 14:31:31 +0100 (CET)
Received: from mail-il1-f226.google.com (mail-il1-f226.google.com
 [209.85.166.226])
 by mails.dpdk.org (Postfix) with ESMTP id 153D2402A7
 for <test-report@dpdk.org>; Mon, 13 Jan 2025 14:31:30 +0100 (CET)
Received: by mail-il1-f226.google.com with SMTP id
 e9e14a558f8ab-3a9caa3726fso13614085ab.1
 for <test-report@dpdk.org>; Mon, 13 Jan 2025 05:31:29 -0800 (PST)
DKIM-Signature: v=1; a=rsa-sha256; c=relaxed/relaxed;
 d=iol.unh.edu; s=unh-iol; t=1736775089; x=1737379889; darn=dpdk.org;
 h=references:in-reply-to:cc:to:from:subject:message-id:date:from:to
 :cc:subject:date:message-id:reply-to;
 bh=jCZ6QjZVU+0px9mQYKBKhzlGaweSatIGdRxnqFSO240=;
 b=LpVTaEUTZoYGcf5imL8R61C6wERCmFHljDH9WzIvvWNKC0wYfmmkpQkUnu6QK3zHZB
 7IzdHNIDfmMMUTwYfgTgFXlCeKj7InfHuWmwfKqBpvNnzvHIakeD/akG+xDgVyoCWcWI
 4G7LUaZM3zkPaNwxGbEAtKlgeRckxfekXKLlc=
X-Google-DKIM-Signature: v=1; a=rsa-sha256; c=relaxed/relaxed;
 d=1e100.net; s=20230601; t=1736775089; x=1737379889;
 h=references:in-reply-to:cc:to:from:subject:message-id:date
 :x-gm-message-state:from:to:cc:subject:date:message-id:reply-to;
 bh=jCZ6QjZVU+0px9mQYKBKhzlGaweSatIGdRxnqFSO240=;
 b=ZxIxjIVHVghxWrE08yPlFVPPOYgH6uCEsoT03BYsReFxqy+PhV+jhCTpLbqCIRnZ7q
 IvTLmlPhmuLLQpVXDluy0G+0JECpfAtfuMRb11+qh+pZbQM5MFvd17wollMR6V1gxM1i
 9V8SfmMmbnYkuRoS7+41NcG4HEtRcnY+LwAA/UoFifhENCwgGsNV5kHu6CdlarjTWggF
 /bgNlN1M8MPHawVbSnTzK3cMl1e/TIX0QDxNLF+LxpFIs/K/HDLfOx2Xmi4dTk4quPgl
 DBpTbO3XI/6k8sU3C8IjydRuJWxipyG0JEqSGW4HKxbZ4TjoEKYfIZkKD8qvE8vGQszK
 FQQg==
X-Gm-Message-State: AOJu0Yz7S8MdwWwYqqhvft9fGa07rQU8X4KREniXcQsHUJQW+LI/Dw1V
 curXzgkjP8CCsxbGfUaeg6O6YEMrEmv4izpW0OqHEncg1K2vnge4sJV91cYysRfQH7+EMRdsioz
 1GfdlZARvdWlnaZYxUmtdTQcSMHwWuHgNY7NNKiYM
X-Gm-Gg: ASbGncvzj3/ox7CXdi0yoxeFDamHThHcnV5Nk6JrOxW4e5OZ8K9vshZwLv5KBSbrt/Y
 Ii1VJicdySsrmqBtlAuvn11AsLCW+JgmM6o0+0/sr6kTUbTbpXrSrLrY44s2y1/V4WrGA5oZARq
 naK7O3bZi8DEtQHCKQulhXDGDtZB9FUSKI//HxVVvrhQEHy1Cr0QvQKxtLgs0+KdnQ3Qt9ZZmDf
 05y8rhgpb3u8Ax9oK0EIH5CjZTljIy86/8Ldykmy3Uhc7wvvk0nxzDqCZcJZ8wOMJzUnM8yjaDN
 Md5niw==
X-Google-Smtp-Source: AGHT+IGdc2diesUEcKmDOiAf1T6jK8Ye+tQIu2XRx9o0zV2bkvm6r+RZTK7Qdw/QjUMvBCCXDNcXt75ySEf5
X-Received: by 2002:a05:6e02:2307:b0:3ce:3541:d80f with SMTP id
 e9e14a558f8ab-3ce472faf0amr141537275ab.0.1736775089295; 
 Mon, 13 Jan 2025 05:31:29 -0800 (PST)
Received: from postal.iol.unh.edu (postal.iol.unh.edu. [132.177.123.84])
 by smtp-relay.gmail.com with ESMTPS id
 8926c6da1cb9f-4ea1b5fa2c6sm521547173.8.2025.01.13.05.31.24
 (version=TLS1_2 cipher=ECDHE-ECDSA-AES128-GCM-SHA256 bits=128/128);
 Mon, 13 Jan 2025 05:31:29 -0800 (PST)
X-Relaying-Domain: iol.unh.edu
Date: Mon, 13 Jan 2025 05:31:29 -0800 (PST)
Message-ID: <678515b1.050a0220.1a4783.6036SMTPIN_ADDED_MISSING@mx.google.com>
Received: from [172.17.0.4] (unknown [172.18.0.217])
 by postal.iol.unh.edu (Postfix) with ESMTP id 5D3A16052471;
 Mon, 13 Jan 2025 08:31:24 -0500 (EST)
Subject: |SUCCESS| pw149933 [PATCH] [RFC,v4,1/1] eventdev: add atomic queue t
From: dpdklab@iol.unh.edu
To: Test Report <test-report@dpdk.org>
Cc: dpdk-test-reports@iol.unh.edu
In-Reply-To: <20250113121733.2384990-1-luka.jankovic@ericsson.com>
References: <20250113121733.2384990-1-luka.jankovic@ericsson.com>
Content-Type: text/plain
X-BeenThere: test-report@dpdk.org
X-Mailman-Version: 2.1.29
Precedence: list
List-Id: automatic DPDK test reports <test-report.dpdk.org>
List-Unsubscribe: <https://mails.dpdk.org/options/test-report>,
 <mailto:test-report-request@dpdk.org?subject=unsubscribe>
List-Archive: <http://mails.dpdk.org/archives/test-report/>
List-Post: <mailto:test-report@dpdk.org>
List-Help: <mailto:test-report-request@dpdk.org?subject=help>
List-Subscribe: <https://mails.dpdk.org/listinfo/test-report>,
 <mailto:test-report-request@dpdk.org?subject=subscribe>
Errors-To: test-report-bounces@dpdk.org

Test-Label: iol-sample-apps-testing
Test-Status: SUCCESS
http://dpdk.org/patch/149933

_Testing PASS_

Submitter: Luka Jankovic <luka.jankovic@ericsson.com>
Date: Monday, January 13 2025 12:17:33 
DPDK git baseline: Repo:dpdk
  Branch: master
  CommitID:fd51012de5369679e807be1d6a81d63ef15015ce

149933 --> testing pass

Upstream job id: Template-DTS-Pipeline#206593

Test environment and result as below:

+--------------------+----------------------+----------------------+
|    Environment     | dpdk_fips_validation | compressdev_zlib_pmd |
+====================+======================+======================+
| Ubuntu 20.04       | PASS                 | SKIPPED              |
+--------------------+----------------------+----------------------+
| Ubuntu 22.04 (ARM) | SKIPPED              | PASS                 |
+--------------------+----------------------+----------------------+
| Ubuntu 22.04       | SKIPPED              | PASS                 |
+--------------------+----------------------+----------------------+


Ubuntu 20.04
	Kernel: Depends on container host
	Compiler: gcc (Ubuntu 9.4.0-1ubuntu1~20.04.2) 9.4.0

Ubuntu 22.04 (ARM)
	Kernel: 5.15.0-97-generic
	Compiler: gcc gcc (Ubuntu 11.4.0-1ubuntu1~22.04) 11.4.0

Ubuntu 22.04
	Kernel: 5.15.0-100-generic
	Compiler: gcc gcc (Ubuntu 11.4.0-1ubuntu1~22.04) 11.4.0

To view detailed results, visit:
https://lab.dpdk.org/results/dashboard/patchsets/32305/

UNH-IOL DPDK Community Lab

To manage your email subscriptions, visit: 
https://lab.dpdk.org/results/dashboard/preferences/subscriptions/