From mboxrd@z Thu Jan  1 00:00:00 1970
Return-Path: <test-report-bounces@dpdk.org>
Received: from mails.dpdk.org (mails.dpdk.org [217.70.189.124])
	by inbox.dpdk.org (Postfix) with ESMTP id B69A64606F
	for <public@inbox.dpdk.org>; Mon, 13 Jan 2025 15:49:33 +0100 (CET)
Received: from mails.dpdk.org (localhost [127.0.0.1])
	by mails.dpdk.org (Postfix) with ESMTP id C5BE940A80;
	Mon, 13 Jan 2025 15:49:32 +0100 (CET)
Received: from mail-io1-f99.google.com (mail-io1-f99.google.com
 [209.85.166.99]) by mails.dpdk.org (Postfix) with ESMTP id 9F887402A7
 for <test-report@dpdk.org>; Mon, 13 Jan 2025 15:49:31 +0100 (CET)
Received: by mail-io1-f99.google.com with SMTP id
 ca18e2360f4ac-844dfe4b136so114144239f.3
 for <test-report@dpdk.org>; Mon, 13 Jan 2025 06:49:31 -0800 (PST)
DKIM-Signature: v=1; a=rsa-sha256; c=relaxed/relaxed;
 d=iol.unh.edu; s=unh-iol; t=1736779771; x=1737384571; darn=dpdk.org;
 h=references:in-reply-to:cc:to:from:subject:message-id:date:from:to
 :cc:subject:date:message-id:reply-to;
 bh=jFnb7asEdkA/rpTLU+ozYotrZpjE6seAdzSv+imGpNI=;
 b=dBwPKy3tHbk18vyQSXOFU/27hj0gXuNkR1HMzrcrXWpGLCA3XtMRxBEdu8UXe70SeV
 AJrViRSSOmHjJFH1i3MXAis0g2d2DdYKjiSOh3mUy1LAWUiioWJToeQNGBVCe476lgsr
 SpE6zXpeHDsrKZvxJ1Q6VgJHebkmOT/AL1kO0=
X-Google-DKIM-Signature: v=1; a=rsa-sha256; c=relaxed/relaxed;
 d=1e100.net; s=20230601; t=1736779771; x=1737384571;
 h=references:in-reply-to:cc:to:from:subject:message-id:date
 :x-gm-message-state:from:to:cc:subject:date:message-id:reply-to;
 bh=jFnb7asEdkA/rpTLU+ozYotrZpjE6seAdzSv+imGpNI=;
 b=HdY5J2Sb1EYF2VFz/4zSfn3fAG4zZfnnTgkRqkZs6bLFPM4oCLKHVtElm3gmteTmnB
 i1D8iuBXtEROtvxSn4p/OX/ON5eRD7vTZHrgdK1nen3aL2jfW7g0Lstk6bXmXm3w/VXm
 1z2tVa5yuLwO7bzsxb9EGp5Prv7OieCa/HeO052FNemdtEmTtF0ALjNZLydTX51CtnVf
 Ig9crXPPEI36IBwFPAezjy3LahwUW2ZzoLmOJMViJ3y6VhSY4FO2r084RztmmU+G2jR9
 V5zHuOcb0Ytnv/mT4wA4Kd2p1cdUAnHFbOPwog6n7jle/KSRMRG9fGUDbTDMdaihdy0Y
 7nkA==
X-Gm-Message-State: AOJu0Yxk7cmr4h3zvwUAOYUG9ABQ8zA6NJqZLcqtb8kimGdeTDEUnQN9
 7u0YU0gImIl2gJmJPPXLlOspUKNfYuwUotxwC3YcCuuDmG/aXlQEaQwn0AdW1+EYybChE2kBLOH
 utAgepq8kpQskrZjasNTrji49+1qpfSBC5g+tOkbr
X-Gm-Gg: ASbGncuXaaZfy7vc0q+ZPNbGrmncO8bZZZkWTfYJ3cc6/ZMnx8vFtnvkWqOPXX1khmK
 AHmyk0JEEv1DffHlnrO6QJVmtm9paSo8sEvVMWpzDZNDr4XO3HZKXTILTlxUNyINwcJdXcLkRKb
 a0EIghM2K0Vs+1Gvypm2dKdhVy8tJ9u2zdQTNU3Fy+CQwWMdj0wBcZFHTrxzad0q2CLbcKVP32M
 e3eCY6gfYOuEst2kIm+C7n0xv0e4yXWbSJcGxEr/AEW1YhwCkNqXKlUsZmMj3GN4HTY64Zplyvt
 n9NgSQ==
X-Google-Smtp-Source: AGHT+IFWEUkDGnL7FcGlJJda3ZntnLUBRtvneWYWVvr4DJZ236zDCwBsWCJH5Tl6ZWs5SOQ00c8zhOQOH4Pe
X-Received: by 2002:a05:6602:3e99:b0:849:a5ef:bc8b with SMTP id
 ca18e2360f4ac-84ce00952b8mr2131686139f.4.1736779770827; 
 Mon, 13 Jan 2025 06:49:30 -0800 (PST)
Received: from postal.iol.unh.edu (postal.iol.unh.edu. [132.177.123.84])
 by smtp-relay.gmail.com with ESMTPS id
 8926c6da1cb9f-4ea1b71a3eesm519857173.54.2025.01.13.06.49.30
 (version=TLS1_2 cipher=ECDHE-ECDSA-AES128-GCM-SHA256 bits=128/128);
 Mon, 13 Jan 2025 06:49:30 -0800 (PST)
X-Relaying-Domain: iol.unh.edu
Date: Mon, 13 Jan 2025 06:49:30 -0800 (PST)
Message-ID: <678527fa.050a0220.15d908.5bdfSMTPIN_ADDED_MISSING@mx.google.com>
Received: from [172.17.0.4] (unknown [172.18.0.217])
 by postal.iol.unh.edu (Postfix) with ESMTP id 445916052471;
 Mon, 13 Jan 2025 09:49:30 -0500 (EST)
Subject: |SUCCESS| pw149933 [PATCH] [RFC,v4,1/1] eventdev: add atomic queue t
From: dpdklab@iol.unh.edu
To: Test Report <test-report@dpdk.org>
Cc: dpdk-test-reports@iol.unh.edu
In-Reply-To: <20250113121733.2384990-1-luka.jankovic@ericsson.com>
References: <20250113121733.2384990-1-luka.jankovic@ericsson.com>
Content-Type: text/plain
X-BeenThere: test-report@dpdk.org
X-Mailman-Version: 2.1.29
Precedence: list
List-Id: automatic DPDK test reports <test-report.dpdk.org>
List-Unsubscribe: <https://mails.dpdk.org/options/test-report>,
 <mailto:test-report-request@dpdk.org?subject=unsubscribe>
List-Archive: <http://mails.dpdk.org/archives/test-report/>
List-Post: <mailto:test-report@dpdk.org>
List-Help: <mailto:test-report-request@dpdk.org?subject=help>
List-Subscribe: <https://mails.dpdk.org/listinfo/test-report>,
 <mailto:test-report-request@dpdk.org?subject=subscribe>
Errors-To: test-report-bounces@dpdk.org

Test-Label: iol-compile-arm64-testing
Test-Status: SUCCESS
http://dpdk.org/patch/149933

_Testing PASS_

Submitter: Luka Jankovic <luka.jankovic@ericsson.com>
Date: Monday, January 13 2025 12:17:33 
DPDK git baseline: Repo:dpdk
  Branch: master
  CommitID:fd51012de5369679e807be1d6a81d63ef15015ce

149933 --> testing pass

Upstream job id: Generic-DPDK-Compile-Meson#350636

Test environment and result as below:

+----------------------------------------+--------------------+
|              Environment               | dpdk_meson_compile |
+========================================+====================+
| RHEL9 (ARM)                            | PASS               |
+----------------------------------------+--------------------+
| Ubuntu 20.04 ARM GCC Cross Compile     | PASS               |
+----------------------------------------+--------------------+
| Ubuntu 20.04 ARM SVE                   | PASS               |
+----------------------------------------+--------------------+
| Fedora 40 (ARM)                        | PASS               |
+----------------------------------------+--------------------+
| Fedora 41 (ARM)                        | PASS               |
+----------------------------------------+--------------------+
| Fedora 40 (ARM Clang)                  | PASS               |
+----------------------------------------+--------------------+
| Debian 12 with MUSDK                   | PASS               |
+----------------------------------------+--------------------+
| Fedora 41 (ARM Clang)                  | PASS               |
+----------------------------------------+--------------------+
| Ubuntu 20.04 (ARM)                     | PASS               |
+----------------------------------------+--------------------+
| Ubuntu 24.04 (ARM)                     | PASS               |
+----------------------------------------+--------------------+
| Ubuntu 22.04 (ARM)                     | PASS               |
+----------------------------------------+--------------------+
| Debian 11 (Buster) (ARM)               | PASS               |
+----------------------------------------+--------------------+
| CentOS Stream 9 (ARM)                  | PASS               |
+----------------------------------------+--------------------+
| Debian 12 (arm)                        | PASS               |
+----------------------------------------+--------------------+
| Ubuntu 20.04 ARM Clang Cross Compile   | PASS               |
+----------------------------------------+--------------------+
| Ubuntu 20.04 aarch32 GCC Cross Compile | PASS               |
+----------------------------------------+--------------------+


RHEL9 (ARM)
	Kernel: Depends on container host
	Compiler: gcc 11.5.0 20240719 (Red Hat 11.5.0-2)

Ubuntu 20.04 ARM GCC Cross Compile
	Kernel: Depends on container host
	Compiler: aarch64-linux-gnu-gcc (Ubuntu 9.4.0-1ubuntu1~20.04.2) 9.4.0

Ubuntu 20.04 ARM SVE
	Kernel: Depends on container host
	Compiler: gcc (Ubuntu 10.5.0-1ubuntu1~20.04) 10.5.0

Fedora 40 (ARM)
	Kernel: Depends on container host
	Compiler: gcc 14.2.1 20240912 (Red Hat 14.2.1-3)

Fedora 41 (ARM)
	Kernel: Depends on container host
	Compiler: gcc 14.2.1 20240912 (Red Hat 14.2.1-3)

Fedora 40 (ARM Clang)
	Kernel: Depends on container host
	Compiler: clang 18.1.8 (Fedora 18.1.8-1.fc40)

Debian 12 with MUSDK
	Kernel: Depends on container host
	Compiler: gcc (Debian 12.2.0-14) 12.2.0

Fedora 41 (ARM Clang)
	Kernel: Depends on container host
	Compiler: clang 19.1.5 (Fedora 19.1.5-1.fc41)

Ubuntu 20.04 (ARM)
	Kernel: Depends on container host
	Compiler: gcc (Ubuntu 9.4.0-1ubuntu1~20.04.2) 9.4.0

Ubuntu 24.04 (ARM)
	Kernel: Depends on container host
	Compiler: gcc (Ubuntu 13.3.0-6ubuntu2~24.04) 13.3.0

Ubuntu 22.04 (ARM)
	Kernel: Depends on container host
	Compiler: gcc (Ubuntu 11.4.0-1ubuntu1~22.04) 11.4.0

Debian 11 (Buster) (ARM)
	Kernel: Depends on container host
	Compiler: gcc (Debian 10.2.1-6) 10.2.1 20210110

CentOS Stream 9 (ARM)
	Kernel: Depends on container host
	Compiler: gcc 11.5.0 20240719 (Red Hat 11.5.0-2)

Debian 12 (arm)
	Kernel: Depends on container host
	Compiler: gcc (Debian 12.2.0-14) 12.2.0

Ubuntu 20.04 ARM Clang Cross Compile
	Kernel: Depends on container host
	Compiler: clang 10.0.0-4ubuntu1

Ubuntu 20.04 aarch32 GCC Cross Compile
	Kernel: Depends on container host
	Compiler: gcc 9.4.0

To view detailed results, visit:
https://lab.dpdk.org/results/dashboard/patchsets/32305/

UNH-IOL DPDK Community Lab

To manage your email subscriptions, visit: 
https://lab.dpdk.org/results/dashboard/preferences/subscriptions/