From mboxrd@z Thu Jan  1 00:00:00 1970
Return-Path: <test-report-bounces@dpdk.org>
Received: from mails.dpdk.org (mails.dpdk.org [217.70.189.124])
	by inbox.dpdk.org (Postfix) with ESMTP id 41F2D46038
	for <public@inbox.dpdk.org>; Mon, 13 Jan 2025 19:46:10 +0100 (CET)
Received: from mails.dpdk.org (localhost [127.0.0.1])
	by mails.dpdk.org (Postfix) with ESMTP id 1D69540288;
	Mon, 13 Jan 2025 19:46:10 +0100 (CET)
Received: from mail-ot1-f98.google.com (mail-ot1-f98.google.com
 [209.85.210.98]) by mails.dpdk.org (Postfix) with ESMTP id C7F334025D
 for <test-report@dpdk.org>; Mon, 13 Jan 2025 19:46:08 +0100 (CET)
Received: by mail-ot1-f98.google.com with SMTP id
 46e09a7af769-71e15d9629bso1426687a34.1
 for <test-report@dpdk.org>; Mon, 13 Jan 2025 10:46:08 -0800 (PST)
DKIM-Signature: v=1; a=rsa-sha256; c=relaxed/relaxed;
 d=iol.unh.edu; s=unh-iol; t=1736793968; x=1737398768; darn=dpdk.org;
 h=references:in-reply-to:cc:to:from:subject:message-id:date:from:to
 :cc:subject:date:message-id:reply-to;
 bh=b0MT+UjXO5DijSoa6XZ5/M/G6Z3wztjnR9snD8J9T1E=;
 b=ON+act9wzmqvdHM6G1AuI3DUErCPLUnCgzgcZDMjpDdxG7XZEUWuFkGrD+AKbB0SLt
 sTElfL2fdSMbN0bhd8INayLwbrx9J8NYjRHphVDAIrZzYTU1w1DSfLethDTZ6el/gw12
 uKfoMCcchNgdoc77iWkcBu33a5xOq4AG5UTD4=
X-Google-DKIM-Signature: v=1; a=rsa-sha256; c=relaxed/relaxed;
 d=1e100.net; s=20230601; t=1736793968; x=1737398768;
 h=references:in-reply-to:cc:to:from:subject:message-id:date
 :x-gm-message-state:from:to:cc:subject:date:message-id:reply-to;
 bh=b0MT+UjXO5DijSoa6XZ5/M/G6Z3wztjnR9snD8J9T1E=;
 b=uGhFOIcW2InKLfIBc4xY5U7bQox/oGY5ALe0jmQj6fVxbN63gz1bKqe81KpITonVe1
 Jbtnq0TvnirM5+0jirfeVMOOzKOzniyRmSKiFV+wDH4KQQT1g/Xrx8WdElkz8NT/5LVV
 x094whw1rPa5C4Maqt46lrQKthTKBnADROLtYk0TKOr3em2baXMJNsGm+EHSe9gHkFsp
 fwNkPO1YJpbRdsHnHmxfZURqcVJUCdQAwg8eX756MJH9rgSyZz46QNsGFLtQgc8N2Y//
 lkFOXemkFJfNOGHxGO6iOHVJ0V+zsy1SSWxUMdHowtx3Tiy2mF8jRSts3N6bMCUvEMZC
 F8ug==
X-Gm-Message-State: AOJu0YyOYcSWuo1cYnD20DSa4/DZNa4nM90HbPsNm3mgn5nt3UHT84Cl
 8tUaAV2JbRntjnyapy3N/d06pc+Y54RnWCJNKmA09UhoChLmBEtu4ha3ix7UWWZsHUUdK9/zOc4
 53bvm3mCEH+TVAtL2hfJHCoTW25vekqbXp5iwTUMW
X-Gm-Gg: ASbGncvOon147rM8o0uUS1SKhmKsr6uGv+NrjxNBE7VcfS7VJNaZ7J0D8O4YOy1VMSo
 79tr4p1lNH9pHu5c/TF5WLzgT8lLCywdqf2HxtN52RUgFV/nofBjmMSFQkJdAb0/jLPjhb4rqM8
 E1ImWI8WSqanR7e/etYCMc6VBEWMCagltxJhZMVVoD8fqupgQTvYKpm/Ee3Abj/hIS0ciQvSnI6
 HPK5iGmIGFwbhg+XBeWRn/rIx450Iyog9pQ8KxBWrkSet/4t6GlsJghXfj7bQKPvf1EyXmMNQC0
 HbjEaw==
X-Google-Smtp-Source: AGHT+IHIKCKEpauYOHBAU4XdRYBS1UxeGAsWcmpwm4KKMN/Ha7bnjwWZzy990U/NedIaqZNI356CEJwzVj8X
X-Received: by 2002:a05:6830:390b:b0:718:1150:a02b with SMTP id
 46e09a7af769-721e2dfcc9dmr13639707a34.1.1736793967793; 
 Mon, 13 Jan 2025 10:46:07 -0800 (PST)
Received: from postal.iol.unh.edu (postal.iol.unh.edu. [132.177.123.84])
 by smtp-relay.gmail.com with ESMTPS id
 46e09a7af769-72318551e00sm123138a34.7.2025.01.13.10.46.07
 (version=TLS1_2 cipher=ECDHE-ECDSA-AES128-GCM-SHA256 bits=128/128);
 Mon, 13 Jan 2025 10:46:07 -0800 (PST)
X-Relaying-Domain: iol.unh.edu
Date: Mon, 13 Jan 2025 10:46:07 -0800 (PST)
Message-ID: <67855f6f.050a0220.3ce497.952fSMTPIN_ADDED_MISSING@mx.google.com>
Received: from [172.21.0.6] (unknown [172.18.0.240])
 by postal.iol.unh.edu (Postfix) with ESMTP id AF72F6052471;
 Mon, 13 Jan 2025 13:46:06 -0500 (EST)
Subject: |SUCCESS| pw149936-149937 [PATCH] [v3,2/2] app/test: add SM4 GCM tes
From: dpdklab@iol.unh.edu
To: Test Report <test-report@dpdk.org>
Cc: dpdk-test-reports@iol.unh.edu
In-Reply-To: <20250113171022.1649181-2-brian.dooley@intel.com>
References: <20250113171022.1649181-2-brian.dooley@intel.com>
Content-Type: text/plain
X-BeenThere: test-report@dpdk.org
X-Mailman-Version: 2.1.29
Precedence: list
List-Id: automatic DPDK test reports <test-report.dpdk.org>
List-Unsubscribe: <https://mails.dpdk.org/options/test-report>,
 <mailto:test-report-request@dpdk.org?subject=unsubscribe>
List-Archive: <http://mails.dpdk.org/archives/test-report/>
List-Post: <mailto:test-report@dpdk.org>
List-Help: <mailto:test-report-request@dpdk.org?subject=help>
List-Subscribe: <https://mails.dpdk.org/listinfo/test-report>,
 <mailto:test-report-request@dpdk.org?subject=subscribe>
Errors-To: test-report-bounces@dpdk.org

Test-Label: iol-unit-amd64-testing
Test-Status: SUCCESS
http://dpdk.org/patch/149937

_Testing PASS_

Submitter: Brian Dooley <brian.dooley@intel.com>
Date: Monday, January 13 2025 17:10:22 
DPDK git baseline: Repo:dpdk
  Branch: master
  CommitID:cdf7f14fae72cdf64bcccff3ed4ab30accdf436e

149936-149937 --> testing pass

Upstream job id: Generic-Unit-Test-DPDK#305440

Test environment and result as below:

+---------------------+----------------+
|     Environment     | dpdk_unit_test |
+=====================+================+
| CentOS Stream 9     | PASS           |
+---------------------+----------------+
| Debian Bullseye     | PASS           |
+---------------------+----------------+
| Fedora 41           | PASS           |
+---------------------+----------------+
| Fedora 40 (Clang)   | PASS           |
+---------------------+----------------+
| Debian 12           | PASS           |
+---------------------+----------------+
| Fedora 40           | PASS           |
+---------------------+----------------+
| RHEL9               | PASS           |
+---------------------+----------------+
| Fedora 41 (Clang)   | PASS           |
+---------------------+----------------+
| Ubuntu 24.04        | PASS           |
+---------------------+----------------+
| Ubuntu 20.04        | PASS           |
+---------------------+----------------+
| RHEL8               | PASS           |
+---------------------+----------------+
| Ubuntu 22.04        | PASS           |
+---------------------+----------------+
| Windows Server 2022 | PASS           |
+---------------------+----------------+


CentOS Stream 9
	Kernel: Depends on container host
	Compiler: gcc 11.5.0 20240719 (Red Hat 11.5.0-2)

Debian Bullseye
	Kernel: Depends on container host
	Compiler: gcc (Debian 10.2.1-6) 10.2.1 20210110

Fedora 41
	Kernel: Depends on container host
	Compiler: gcc 14.2.1 20240912 (Red Hat 14.2.1-3)

Fedora 40 (Clang)
	Kernel: Depends on container host
	Compiler: clang 18.1.8 (Fedora 18.1.8-1.fc40)

Debian 12
	Kernel: Depends on container host
	Compiler: gcc (Debian 12.2.0-14) 12.2.0

Fedora 40
	Kernel: Depends on container host
	Compiler: gcc 14.2.1 20240912 (Red Hat 14.2.1-3)

RHEL9
	Kernel: Depends on container host
	Compiler: gcc 11.5.0 20240719 (Red Hat 11.5.0-2)

Fedora 41 (Clang)
	Kernel: Depends on container host
	Compiler: clang 19.1.5 (Fedora 19.1.5-1.fc41)

Ubuntu 24.04
	Kernel: Depends on container host
	Compiler: gcc (Ubuntu 13.3.0-6ubuntu2~24.04) 13.3.0

Ubuntu 20.04
	Kernel: Depends on container host
	Compiler: gcc (Ubuntu 9.4.0-1ubuntu1~20.04.2) 9.4.0

RHEL8
	Kernel: Depends on container host
	Compiler: gcc 8.5.0 20210514 (Red Hat 8.5.0-22)

Ubuntu 22.04
	Kernel: Depends on container host
	Compiler: gcc (Ubuntu 11.4.0-1ubuntu1~22.04) 11.4.0

Windows Server 2022
	Kernel: 10.0.20348.2031
	Compiler: clang 15.0.7, gcc 14.1.0 (MinGW), and MSVC VS 19.39.33521

To view detailed results, visit:
https://lab.dpdk.org/results/dashboard/patchsets/32308/

UNH-IOL DPDK Community Lab

To manage your email subscriptions, visit: 
https://lab.dpdk.org/results/dashboard/preferences/subscriptions/