From mboxrd@z Thu Jan  1 00:00:00 1970
Return-Path: <test-report-bounces@dpdk.org>
Received: from mails.dpdk.org (mails.dpdk.org [217.70.189.124])
	by inbox.dpdk.org (Postfix) with ESMTP id 24AA646077
	for <public@inbox.dpdk.org>; Mon, 13 Jan 2025 20:07:44 +0100 (CET)
Received: from mails.dpdk.org (localhost [127.0.0.1])
	by mails.dpdk.org (Postfix) with ESMTP id 44C284025D;
	Mon, 13 Jan 2025 20:07:43 +0100 (CET)
Received: from mail-pl1-f228.google.com (mail-pl1-f228.google.com
 [209.85.214.228])
 by mails.dpdk.org (Postfix) with ESMTP id D43A64025A
 for <test-report@dpdk.org>; Mon, 13 Jan 2025 20:07:41 +0100 (CET)
Received: by mail-pl1-f228.google.com with SMTP id
 d9443c01a7336-21619108a6bso80490085ad.3
 for <test-report@dpdk.org>; Mon, 13 Jan 2025 11:07:41 -0800 (PST)
DKIM-Signature: v=1; a=rsa-sha256; c=relaxed/relaxed;
 d=iol.unh.edu; s=unh-iol; t=1736795261; x=1737400061; darn=dpdk.org;
 h=references:in-reply-to:cc:to:from:subject:message-id:date:from:to
 :cc:subject:date:message-id:reply-to;
 bh=ErkL5aHgL/CcElPHwGndYBQFHAV8j7LDRANBLa/HZ3U=;
 b=A8EfnC1mSByYs3ZL+7SibZY+T1WlvtqUDtN1+pSTomLsXPe+cmqeykxN91SDjbW7b1
 SMxKFjuNtVE3IkYiE/5UHsZGmIFQjbE7F9SjhKpm+CxnF8MtV3OedhoNx26Kifqxenv5
 5RvYAB+q/bcXL3EvhV//mkR9QwPfYpa5v5tCk=
X-Google-DKIM-Signature: v=1; a=rsa-sha256; c=relaxed/relaxed;
 d=1e100.net; s=20230601; t=1736795261; x=1737400061;
 h=references:in-reply-to:cc:to:from:subject:message-id:date
 :x-gm-message-state:from:to:cc:subject:date:message-id:reply-to;
 bh=ErkL5aHgL/CcElPHwGndYBQFHAV8j7LDRANBLa/HZ3U=;
 b=hzmxRyTcduK/YAx6PyPZ5KCjDUZz/NNMLKq8OYNlnk7kRnE+CILNdgrU1P6Zs3TIRd
 rFpwB2gyIxZWb/VP4huTVqWb2G5XX1J0bF5q6ckqmTJc4pjeDkDQQUc017c4oZxAxK3D
 KjM5k01em/GK8OdW0tyJubis7iRFigM/bkJ/P7/pPKbKFHvEApYv1LbKjygYsm1nlzPN
 YkpOzxMjphbJWRQx5kLVVjL9VF08HqF5JZeaOMM9YzJZuKvTN0HMzq/Ko5e1v/y371zi
 cSQK5ner1+mvD0S38tCUJAXmCnsd+kCLsB7U4Xz1CKBIiDqi53rBU5Ra6ZwTwfs+LQGl
 JvUQ==
X-Gm-Message-State: AOJu0YyM8Q1RaOOScxKVWk5Ulpv1HF++BtqZFYCoy01qn2YrqDXv7Jy0
 oDpfDz1izC5xFpBFRUS/J/1RMIAP6CRgwS9M8Rys/aB6CBYHYZfo2vH0ir4L2Yrpiy6vwosHTdi
 lHaehYMVztvipRAvy5CszMF/QNDKE79DadQ8QNCrRua/jBjZE5NZW5TVL
X-Gm-Gg: ASbGncsoWiWlCino1bnHAINA2ZbA8eUhuB8B85Vt31/DHxOBFL+674+fWy4tNFIC6LD
 jqR56k3OcAajhGBX8iqu8lw3ze8KlRJ45++tPqGFVgzbi7TWMadzbazYZbXhHsRZfm/t7l0UfNF
 eWCYecBANMh6bKm9u7RpgZYzTrmYrSN1ZiS3EszBtZlJRO5HiQcs8KrcHvxrXmjVZwFoqE0xKuu
 uGl0uRf0EPdojTUgreY3lQG4zWOAfNqGwlvsPu5bcPUikx7HB/2XPX6T7s4Gvi/2SOiFcFavkCf
 IHVSvJTdzWDkdgOa6Q==
X-Google-Smtp-Source: AGHT+IHLJ+A8dj+728cBbwgHpmZvGfFnwYiLIWuUlcluLljASaJFzu0ni4pOIFdgUEC1yS6/S4VzqBDIewCV
X-Received: by 2002:a17:902:e5ce:b0:215:8ca3:3bac with SMTP id
 d9443c01a7336-21a83f4e46fmr293345205ad.16.1736795260687; 
 Mon, 13 Jan 2025 11:07:40 -0800 (PST)
Received: from postal.iol.unh.edu (postal.iol.unh.edu.
 [2606:4100:3880:1234::84]) by smtp-relay.gmail.com with ESMTPS id
 d9443c01a7336-21a9f23690fsm3435755ad.16.2025.01.13.11.07.40
 (version=TLS1_2 cipher=ECDHE-ECDSA-AES128-GCM-SHA256 bits=128/128);
 Mon, 13 Jan 2025 11:07:40 -0800 (PST)
X-Relaying-Domain: iol.unh.edu
Date: Mon, 13 Jan 2025 11:07:40 -0800 (PST)
Message-ID: <6785647c.170a0220.171f0f.9275SMTPIN_ADDED_MISSING@mx.google.com>
Received: from [172.21.0.5] (unknown [172.18.0.240])
 by postal.iol.unh.edu (Postfix) with ESMTP id D459F6052471;
 Mon, 13 Jan 2025 14:07:39 -0500 (EST)
Subject: |SUCCESS| pw149936-149937 [PATCH] [v3,2/2] app/test: add SM4 GCM tes
From: dpdklab@iol.unh.edu
To: Test Report <test-report@dpdk.org>
Cc: dpdk-test-reports@iol.unh.edu
In-Reply-To: <20250113171022.1649181-2-brian.dooley@intel.com>
References: <20250113171022.1649181-2-brian.dooley@intel.com>
Content-Type: text/plain
X-BeenThere: test-report@dpdk.org
X-Mailman-Version: 2.1.29
Precedence: list
List-Id: automatic DPDK test reports <test-report.dpdk.org>
List-Unsubscribe: <https://mails.dpdk.org/options/test-report>,
 <mailto:test-report-request@dpdk.org?subject=unsubscribe>
List-Archive: <http://mails.dpdk.org/archives/test-report/>
List-Post: <mailto:test-report@dpdk.org>
List-Help: <mailto:test-report-request@dpdk.org?subject=help>
List-Subscribe: <https://mails.dpdk.org/listinfo/test-report>,
 <mailto:test-report-request@dpdk.org?subject=subscribe>
Errors-To: test-report-bounces@dpdk.org

Test-Label: iol-abi-testing
Test-Status: SUCCESS
http://dpdk.org/patch/149937

_Testing PASS_

Submitter: Brian Dooley <brian.dooley@intel.com>
Date: Monday, January 13 2025 17:10:22 
DPDK git baseline: Repo:dpdk
  Branch: master
  CommitID:cdf7f14fae72cdf64bcccff3ed4ab30accdf436e

149936-149937 --> testing pass

Upstream job id: Generic-DPDK-Compile-ABI#111879

Test environment and result as below:

+-------------------+----------+
|    Environment    | abi_test |
+===================+==========+
| CentOS Stream 9   | PASS     |
+-------------------+----------+
| Fedora 40 (Clang) | PASS     |
+-------------------+----------+
| Fedora 40         | PASS     |
+-------------------+----------+
| Debian 12         | PASS     |
+-------------------+----------+
| Ubuntu 22.04      | PASS     |
+-------------------+----------+
| Fedora 41 (Clang) | PASS     |
+-------------------+----------+
| Ubuntu 24.04      | PASS     |
+-------------------+----------+
| RHEL9             | PASS     |
+-------------------+----------+
| RHEL8             | PASS     |
+-------------------+----------+
| Fedora 41         | PASS     |
+-------------------+----------+
| openSUSE Leap 15  | PASS     |
+-------------------+----------+


CentOS Stream 9
	Kernel: Depends on container host
	Compiler: gcc 11.5.0 20240719 (Red Hat 11.5.0-2)

Fedora 40 (Clang)
	Kernel: Depends on container host
	Compiler: clang 18.1.8 (Fedora 18.1.8-1.fc40)

Fedora 40
	Kernel: Depends on container host
	Compiler: gcc 14.2.1 20240912 (Red Hat 14.2.1-3)

Debian 12
	Kernel: Depends on container host
	Compiler: gcc (Debian 12.2.0-14) 12.2.0

Ubuntu 22.04
	Kernel: Depends on container host
	Compiler: gcc (Ubuntu 11.4.0-1ubuntu1~22.04) 11.4.0

Fedora 41 (Clang)
	Kernel: Depends on container host
	Compiler: clang 19.1.5 (Fedora 19.1.5-1.fc41)

Ubuntu 24.04
	Kernel: Depends on container host
	Compiler: gcc (Ubuntu 13.3.0-6ubuntu2~24.04) 13.3.0

RHEL9
	Kernel: Depends on container host
	Compiler: gcc 11.5.0 20240719 (Red Hat 11.5.0-2)

RHEL8
	Kernel: Depends on container host
	Compiler: gcc 8.5.0 20210514 (Red Hat 8.5.0-22)

Fedora 41
	Kernel: Depends on container host
	Compiler: gcc 14.2.1 20240912 (Red Hat 14.2.1-3)

openSUSE Leap 15
	Kernel: Depends on container host
	Compiler: gcc (SUSE Linux) 7.5.0

To view detailed results, visit:
https://lab.dpdk.org/results/dashboard/patchsets/32308/

UNH-IOL DPDK Community Lab

To manage your email subscriptions, visit: 
https://lab.dpdk.org/results/dashboard/preferences/subscriptions/