From mboxrd@z Thu Jan  1 00:00:00 1970
Return-Path: <test-report-bounces@dpdk.org>
Received: from mails.dpdk.org (mails.dpdk.org [217.70.189.124])
	by inbox.dpdk.org (Postfix) with ESMTP id 0770B46086
	for <public@inbox.dpdk.org>; Tue, 14 Jan 2025 11:44:50 +0100 (CET)
Received: from mails.dpdk.org (localhost [127.0.0.1])
	by mails.dpdk.org (Postfix) with ESMTP id 01703402A0;
	Tue, 14 Jan 2025 11:44:50 +0100 (CET)
Received: from mail-pl1-f227.google.com (mail-pl1-f227.google.com
 [209.85.214.227])
 by mails.dpdk.org (Postfix) with ESMTP id 5492C4025F
 for <test-report@dpdk.org>; Tue, 14 Jan 2025 11:44:49 +0100 (CET)
Received: by mail-pl1-f227.google.com with SMTP id
 d9443c01a7336-216634dd574so60943735ad.2
 for <test-report@dpdk.org>; Tue, 14 Jan 2025 02:44:49 -0800 (PST)
DKIM-Signature: v=1; a=rsa-sha256; c=relaxed/relaxed;
 d=iol.unh.edu; s=unh-iol; t=1736851488; x=1737456288; darn=dpdk.org;
 h=references:in-reply-to:cc:to:from:subject:message-id:date:from:to
 :cc:subject:date:message-id:reply-to;
 bh=2xGchToUnF5UtxdeR0i3DVFqjm6ml7wq/Eq7qxsIDOs=;
 b=ITi8hpnedudUXvhaLDq1pPNAyRBISF9QqqO/NSlVZATR1thb6PCmxC4Al8IhMiQAWa
 OS6i4XEcP9/imojCaS50Elav/sb1GdLwJuo2mN4OBORYUag2FJQU7Qlg8jFidAiNozRR
 MeOL66qXsLcRhl2Uxs2o7ICo7+U/GgeqIZFHg=
X-Google-DKIM-Signature: v=1; a=rsa-sha256; c=relaxed/relaxed;
 d=1e100.net; s=20230601; t=1736851488; x=1737456288;
 h=references:in-reply-to:cc:to:from:subject:message-id:date
 :x-gm-message-state:from:to:cc:subject:date:message-id:reply-to;
 bh=2xGchToUnF5UtxdeR0i3DVFqjm6ml7wq/Eq7qxsIDOs=;
 b=AM5ABpagcYetkTpev7dFmVblb4ngbzG4RuPmY+yzMfVQVvMPtXeqNliYGAy1Oc0TkR
 yocIqHuRty36em5Q0Gr+nUg1xXStrwZl89yRZ1ZfdOP9bhk2Q6WYulsjZZKjU+/8jhx0
 7O3AAk+3nVss25Qwu47+xshbKQhSGXoKqc1cG1oS0ug6SFl4R4cW+J8zKoPD61If/ykO
 4nhc47U4YZEIUjkBc8m+TzAjDmZvn6Bd3vuaRsfsaadB/ciyl4toT9rJFDymON7LBCNy
 R1NSBOPLHE4pJda7MBgH7GLBn0IDNdfUgTTl1hlMjQG/fG1B0eoGJqalXNZTLKne+Yn9
 4y6g==
X-Gm-Message-State: AOJu0YyRCMsQRuvm6JvyFtKjXD4d+uURLX6KoTGlV8tnvfbsa1Myy7/3
 gCOStyHvLXeB71j5GL+D54gV+uIHujcpPEvXzdFKMkatwjhQFvDoQD9jT04x5I934/eirdThj2D
 g83yLGYf/moP//q/KmKy2WpyU3DqVYRhvyPMcOpXz
X-Gm-Gg: ASbGncuHzK3Ts+lJVKcgXlig5Dho32CuLgHtHQOyMtfMiFCXiPkkNh3DeDhQo5OzAAH
 oNK7NUYr+g6vlkAw78uoHWyvnEKcJF6p++Yf8Dvza00Kvkb5Y39gMMmWTDQMmZo2fQf/QXJ2UVs
 iLsoGN/FftP8yEBuRTGglh34/KI1ANOapM9tCMoUBMaRFYCZBAAnHhOUEUj1np/EaIq/hCqK7LM
 VbbbdCSUi1Zw0p3lG6bIfcFGNxWk3hEw8P2US3uPl9biXdWZDIToo4nIFABsFs3umr+I+hnEekC
 5oqPPg==
X-Google-Smtp-Source: AGHT+IGtTlKt2VP8Alw6XwJwXomGoQKwVZOQYwYbsOHeeaRSoPWdHeDD7+oVqmC0CxabVqHButgTimfzEZbd
X-Received: by 2002:a17:902:ec84:b0:218:a4ea:a786 with SMTP id
 d9443c01a7336-21a8400b2a8mr393194435ad.53.1736851488510; 
 Tue, 14 Jan 2025 02:44:48 -0800 (PST)
Received: from postal.iol.unh.edu (postal.iol.unh.edu. [132.177.123.84])
 by smtp-relay.gmail.com with ESMTPS id
 d9443c01a7336-21a9f236576sm4140465ad.20.2025.01.14.02.44.48
 (version=TLS1_2 cipher=ECDHE-ECDSA-AES128-GCM-SHA256 bits=128/128);
 Tue, 14 Jan 2025 02:44:48 -0800 (PST)
X-Relaying-Domain: iol.unh.edu
Date: Tue, 14 Jan 2025 02:44:48 -0800 (PST)
Message-ID: <67864020.170a0220.202e14.e70fSMTPIN_ADDED_MISSING@mx.google.com>
Received: from [172.21.0.6] (unknown [172.18.0.240])
 by postal.iol.unh.edu (Postfix) with ESMTP id A15416052471;
 Tue, 14 Jan 2025 05:44:47 -0500 (EST)
Subject: |SUCCESS| pw150061-150066 [PATCH] [v4,6/6] lib/vhost: remove check a
From: dpdklab@iol.unh.edu
To: Test Report <test-report@dpdk.org>
Cc: dpdk-test-reports@iol.unh.edu
In-Reply-To: <20250114075033.2027286-7-otilibil@eurecom.fr>
References: <20250114075033.2027286-7-otilibil@eurecom.fr>
Content-Type: text/plain
X-BeenThere: test-report@dpdk.org
X-Mailman-Version: 2.1.29
Precedence: list
List-Id: automatic DPDK test reports <test-report.dpdk.org>
List-Unsubscribe: <https://mails.dpdk.org/options/test-report>,
 <mailto:test-report-request@dpdk.org?subject=unsubscribe>
List-Archive: <http://mails.dpdk.org/archives/test-report/>
List-Post: <mailto:test-report@dpdk.org>
List-Help: <mailto:test-report-request@dpdk.org?subject=help>
List-Subscribe: <https://mails.dpdk.org/listinfo/test-report>,
 <mailto:test-report-request@dpdk.org?subject=subscribe>
Errors-To: test-report-bounces@dpdk.org

Test-Label: iol-abi-testing
Test-Status: SUCCESS
http://dpdk.org/patch/150066

_Testing PASS_

Submitter: Ariel Otilibili-Anieli <otilibil@eurecom.fr>
Date: Tuesday, January 14 2025 07:50:33 
DPDK git baseline: Repo:dpdk
  Branch: master
  CommitID:6a56a98a8a198d386e764be9bea343d69b09c0bf

150061-150066 --> testing pass

Upstream job id: Generic-DPDK-Compile-ABI#112237

Test environment and result as below:

+-------------------+----------+
|    Environment    | abi_test |
+===================+==========+
| Ubuntu 24.04      | PASS     |
+-------------------+----------+
| CentOS Stream 9   | PASS     |
+-------------------+----------+
| Debian 12         | PASS     |
+-------------------+----------+
| Fedora 41 (Clang) | PASS     |
+-------------------+----------+
| Fedora 40 (Clang) | PASS     |
+-------------------+----------+
| Fedora 40         | PASS     |
+-------------------+----------+
| openSUSE Leap 15  | PASS     |
+-------------------+----------+
| Fedora 41         | PASS     |
+-------------------+----------+
| RHEL8             | PASS     |
+-------------------+----------+
| Ubuntu 22.04      | PASS     |
+-------------------+----------+
| RHEL9             | PASS     |
+-------------------+----------+


Ubuntu 24.04
	Kernel: Depends on container host
	Compiler: gcc (Ubuntu 13.3.0-6ubuntu2~24.04) 13.3.0

CentOS Stream 9
	Kernel: Depends on container host
	Compiler: gcc 11.5.0 20240719 (Red Hat 11.5.0-2)

Debian 12
	Kernel: Depends on container host
	Compiler: gcc (Debian 12.2.0-14) 12.2.0

Fedora 41 (Clang)
	Kernel: Depends on container host
	Compiler: clang 19.1.5 (Fedora 19.1.5-1.fc41)

Fedora 40 (Clang)
	Kernel: Depends on container host
	Compiler: clang 18.1.8 (Fedora 18.1.8-1.fc40)

Fedora 40
	Kernel: Depends on container host
	Compiler: gcc 14.2.1 20240912 (Red Hat 14.2.1-3)

openSUSE Leap 15
	Kernel: Depends on container host
	Compiler: gcc (SUSE Linux) 7.5.0

Fedora 41
	Kernel: Depends on container host
	Compiler: gcc 14.2.1 20240912 (Red Hat 14.2.1-3)

RHEL8
	Kernel: Depends on container host
	Compiler: gcc 8.5.0 20210514 (Red Hat 8.5.0-22)

Ubuntu 22.04
	Kernel: Depends on container host
	Compiler: gcc (Ubuntu 11.4.0-1ubuntu1~22.04) 11.4.0

RHEL9
	Kernel: Depends on container host
	Compiler: gcc 11.5.0 20240719 (Red Hat 11.5.0-2)

To view detailed results, visit:
https://lab.dpdk.org/results/dashboard/patchsets/32314/

UNH-IOL DPDK Community Lab

To manage your email subscriptions, visit: 
https://lab.dpdk.org/results/dashboard/preferences/subscriptions/