From mboxrd@z Thu Jan  1 00:00:00 1970
Return-Path: <test-report-bounces@dpdk.org>
Received: from mails.dpdk.org (mails.dpdk.org [217.70.189.124])
	by inbox.dpdk.org (Postfix) with ESMTP id 243EE46077
	for <public@inbox.dpdk.org>; Tue, 14 Jan 2025 20:24:47 +0100 (CET)
Received: from mails.dpdk.org (localhost [127.0.0.1])
	by mails.dpdk.org (Postfix) with ESMTP id F273840299;
	Tue, 14 Jan 2025 20:24:46 +0100 (CET)
Received: from mail-pl1-f227.google.com (mail-pl1-f227.google.com
 [209.85.214.227])
 by mails.dpdk.org (Postfix) with ESMTP id 5819140298
 for <test-report@dpdk.org>; Tue, 14 Jan 2025 20:24:45 +0100 (CET)
Received: by mail-pl1-f227.google.com with SMTP id
 d9443c01a7336-21661be2c2dso103692945ad.1
 for <test-report@dpdk.org>; Tue, 14 Jan 2025 11:24:45 -0800 (PST)
DKIM-Signature: v=1; a=rsa-sha256; c=relaxed/relaxed;
 d=iol.unh.edu; s=unh-iol; t=1736882684; x=1737487484; darn=dpdk.org;
 h=references:in-reply-to:cc:to:from:subject:message-id:date:from:to
 :cc:subject:date:message-id:reply-to;
 bh=FBmCe3djOVVIsZEcZPGKuvy8eAov2ZQlaEB1DY6uRoI=;
 b=BFqq5krOyLcmSZ0dBUpvCoS6szWnjAZFuzvzWCRKBVegK7MUkPP6rhz1NDdeRNWtWG
 Jly0mcBAOJRVTZRay4gLiWmDt5BQwQ2OoLGSpaRQgBPaT+nhaz0y6l/OO2LWUgnPkUlZ
 VdBH+Y6J0I/jovUvEB2uclM27GcAOyX94v/68=
X-Google-DKIM-Signature: v=1; a=rsa-sha256; c=relaxed/relaxed;
 d=1e100.net; s=20230601; t=1736882684; x=1737487484;
 h=references:in-reply-to:cc:to:from:subject:message-id:date
 :x-gm-message-state:from:to:cc:subject:date:message-id:reply-to;
 bh=FBmCe3djOVVIsZEcZPGKuvy8eAov2ZQlaEB1DY6uRoI=;
 b=rmaPUXfLXh13R3IrjegkwOEmGw5hHz6Wsw1nuHKnXF9/FXJv+C3ni2mS2H+XKrt848
 kU8YM7kcT9DVyYad3ugKKRR4OWUYWB1WCaFG5pMBSn1yYSog+01O7B7VkCu9nHWtS9GZ
 8W9gtbulEIE069DEgrsfBjXUS5ssKKxR2UrdOSTmz4/Le0tzZOl+8DJDlDCEgB7SYQRu
 CQOAUGfWdWT5xCF5x6AtgaSCirHigfumbPhFNg1Kftb3GGM94A8Pj6/B5TUkhy3KQRAC
 ykaKQkk5F1Iw4PpWwA+lXCDBbm+g/fsUnzkxCsntHsPci5Bl781mgT5jUzhZrlOYxX/s
 2Q5A==
X-Gm-Message-State: AOJu0Yw8z/PwI9AmDOtRHIr4SvaeIVjcr0MVwIGFdHIZ/gJ5nCw1AOXm
 G1DRGCYG0Dclw4heG+kwna7nQdaW2a8cevQ0plwhltPtKz7ffNlaa/j6yeKCHlHnmIYuWF5QTAf
 JQfdywgRGgnXk71Oq8NPD/xQLdfb2gvHc4gOMgFNIq2qr5aQp+Ufo8I7s
X-Gm-Gg: ASbGncujje7+KvYcJmnCgo8Glyrz4jXJsJwgecsyWcIIuXcPrgctTn3E7gvnWe8Ii0r
 CGbzDDbllOXmvgRXwcanW7WeSFCiZJw6k6nKnw7Al8aX53Vv1+GeHrrs7qw33i+1DeDpq+8v3Ax
 ydgtMQqYQpVY70UjOeSoXAkLmxC+Q5C/MISZ6CB5NXAIJeqLRbedA2/StWLSzBXfJwEJYxNUCLJ
 To/IVL7ovDLbKAMkkjhyDs+oxa1KSxWDbp/HPPeMt02cmgN/y4/nUUPBLLWJ6JutJYKNCv4YmPt
 ev6MTpn9V1qajUu+TQ==
X-Google-Smtp-Source: AGHT+IG6nxU0E/PU2gOQEod78FS7B4xvWfW1YwFpEhUn/UaVN9rF+1TdbOgz25b+UHlPwQ6n/ThaH8mGTytk
X-Received: by 2002:a05:6a20:43a9:b0:1e1:b727:1801 with SMTP id
 adf61e73a8af0-1e88d15a830mr40770597637.27.1736882684492; 
 Tue, 14 Jan 2025 11:24:44 -0800 (PST)
Received: from postal.iol.unh.edu (postal.iol.unh.edu.
 [2606:4100:3880:1234::84]) by smtp-relay.gmail.com with ESMTPS id
 41be03b00d2f7-a317f668cdfsm496300a12.8.2025.01.14.11.24.44
 (version=TLS1_2 cipher=ECDHE-ECDSA-AES128-GCM-SHA256 bits=128/128);
 Tue, 14 Jan 2025 11:24:44 -0800 (PST)
X-Relaying-Domain: iol.unh.edu
Date: Tue, 14 Jan 2025 11:24:44 -0800 (PST)
Message-ID: <6786b9fc.630a0220.1ff558.3004SMTPIN_ADDED_MISSING@mx.google.com>
Received: from [172.21.0.5] (unknown [172.18.0.240])
 by postal.iol.unh.edu (Postfix) with ESMTP id 939636052471;
 Tue, 14 Jan 2025 14:24:43 -0500 (EST)
Subject: |SUCCESS| pw150068-150077 [PATCH] [10/10] net/ixgbe: update base dri
From: dpdklab@iol.unh.edu
To: Test Report <test-report@dpdk.org>
Cc: dpdk-test-reports@iol.unh.edu
In-Reply-To: <20250114101024.159941-11-yuanx.wang@intel.com>
References: <20250114101024.159941-11-yuanx.wang@intel.com>
Content-Type: text/plain
X-BeenThere: test-report@dpdk.org
X-Mailman-Version: 2.1.29
Precedence: list
List-Id: automatic DPDK test reports <test-report.dpdk.org>
List-Unsubscribe: <https://mails.dpdk.org/options/test-report>,
 <mailto:test-report-request@dpdk.org?subject=unsubscribe>
List-Archive: <http://mails.dpdk.org/archives/test-report/>
List-Post: <mailto:test-report@dpdk.org>
List-Help: <mailto:test-report-request@dpdk.org?subject=help>
List-Subscribe: <https://mails.dpdk.org/listinfo/test-report>,
 <mailto:test-report-request@dpdk.org?subject=subscribe>
Errors-To: test-report-bounces@dpdk.org

Test-Label: iol-unit-amd64-testing
Test-Status: SUCCESS
http://dpdk.org/patch/150077

_Testing PASS_

Submitter: Yuan Wang <yuanx.wang@intel.com>
Date: Tuesday, January 14 2025 10:10:20 
DPDK git baseline: Repo:dpdk
  Branch: master
  CommitID:ce85dd8562ad9673eb4fe46b4a8bd3a508e8b32f

150068-150077 --> testing pass

Upstream job id: Generic-Unit-Test-DPDK#305742

Test environment and result as below:

+---------------------+----------------+
|     Environment     | dpdk_unit_test |
+=====================+================+
| Debian 12           | PASS           |
+---------------------+----------------+
| Debian Bullseye     | PASS           |
+---------------------+----------------+
| CentOS Stream 9     | PASS           |
+---------------------+----------------+
| Fedora 40           | PASS           |
+---------------------+----------------+
| Fedora 41           | PASS           |
+---------------------+----------------+
| Fedora 40 (Clang)   | PASS           |
+---------------------+----------------+
| RHEL9               | PASS           |
+---------------------+----------------+
| RHEL8               | PASS           |
+---------------------+----------------+
| Fedora 41 (Clang)   | PASS           |
+---------------------+----------------+
| Ubuntu 20.04        | PASS           |
+---------------------+----------------+
| Ubuntu 24.04        | PASS           |
+---------------------+----------------+
| Ubuntu 22.04        | PASS           |
+---------------------+----------------+
| Windows Server 2022 | PASS           |
+---------------------+----------------+


Debian 12
	Kernel: Depends on container host
	Compiler: gcc (Debian 12.2.0-14) 12.2.0

Debian Bullseye
	Kernel: Depends on container host
	Compiler: gcc (Debian 10.2.1-6) 10.2.1 20210110

CentOS Stream 9
	Kernel: Depends on container host
	Compiler: gcc 11.5.0 20240719 (Red Hat 11.5.0-2)

Fedora 40
	Kernel: Depends on container host
	Compiler: gcc 14.2.1 20240912 (Red Hat 14.2.1-3)

Fedora 41
	Kernel: Depends on container host
	Compiler: gcc 14.2.1 20240912 (Red Hat 14.2.1-3)

Fedora 40 (Clang)
	Kernel: Depends on container host
	Compiler: clang 18.1.8 (Fedora 18.1.8-1.fc40)

RHEL9
	Kernel: Depends on container host
	Compiler: gcc 11.5.0 20240719 (Red Hat 11.5.0-2)

RHEL8
	Kernel: Depends on container host
	Compiler: gcc 8.5.0 20210514 (Red Hat 8.5.0-22)

Fedora 41 (Clang)
	Kernel: Depends on container host
	Compiler: clang 19.1.5 (Fedora 19.1.5-1.fc41)

Ubuntu 20.04
	Kernel: Depends on container host
	Compiler: gcc (Ubuntu 9.4.0-1ubuntu1~20.04.2) 9.4.0

Ubuntu 24.04
	Kernel: Depends on container host
	Compiler: gcc (Ubuntu 13.3.0-6ubuntu2~24.04) 13.3.0

Ubuntu 22.04
	Kernel: Depends on container host
	Compiler: gcc (Ubuntu 11.4.0-1ubuntu1~22.04) 11.4.0

Windows Server 2022
	Kernel: 10.0.20348.2031
	Compiler: clang 15.0.7, gcc 14.1.0 (MinGW), and MSVC VS 19.39.33521

To view detailed results, visit:
https://lab.dpdk.org/results/dashboard/patchsets/32316/

UNH-IOL DPDK Community Lab

To manage your email subscriptions, visit: 
https://lab.dpdk.org/results/dashboard/preferences/subscriptions/