From mboxrd@z Thu Jan  1 00:00:00 1970
Return-Path: <test-report-bounces@dpdk.org>
Received: from mails.dpdk.org (mails.dpdk.org [217.70.189.124])
	by inbox.dpdk.org (Postfix) with ESMTP id 6CCC746085
	for <public@inbox.dpdk.org>; Tue, 14 Jan 2025 23:13:28 +0100 (CET)
Received: from mails.dpdk.org (localhost [127.0.0.1])
	by mails.dpdk.org (Postfix) with ESMTP id 625E140299;
	Tue, 14 Jan 2025 23:13:28 +0100 (CET)
Received: from mail-il1-f227.google.com (mail-il1-f227.google.com
 [209.85.166.227])
 by mails.dpdk.org (Postfix) with ESMTP id 9805F40298
 for <test-report@dpdk.org>; Tue, 14 Jan 2025 23:13:26 +0100 (CET)
Received: by mail-il1-f227.google.com with SMTP id
 e9e14a558f8ab-3a8c7b02d68so39882155ab.3
 for <test-report@dpdk.org>; Tue, 14 Jan 2025 14:13:26 -0800 (PST)
DKIM-Signature: v=1; a=rsa-sha256; c=relaxed/relaxed;
 d=iol.unh.edu; s=unh-iol; t=1736892806; x=1737497606; darn=dpdk.org;
 h=references:in-reply-to:cc:to:from:subject:message-id:date:from:to
 :cc:subject:date:message-id:reply-to;
 bh=Qe6V3MV6qgcubUuubWAGKsn1xT2k1qkAERwKW0kLwXo=;
 b=bHWD6hsOFzBQcGXo7WtPUVhjTDcTTyLTjGvVS8YCkXeimPYVsRNa3O7O+tLag7bwoi
 4tL9VHOcS5R91rh7hZpGKvGC71gso9aHcjCH6hp0Rs//MGzTFQZ3L6ojd9n65UKbWbY4
 dRq7xNBePsHr06tVTNRa08umRgQSP3Mu3/cic=
X-Google-DKIM-Signature: v=1; a=rsa-sha256; c=relaxed/relaxed;
 d=1e100.net; s=20230601; t=1736892806; x=1737497606;
 h=references:in-reply-to:cc:to:from:subject:message-id:date
 :x-gm-message-state:from:to:cc:subject:date:message-id:reply-to;
 bh=Qe6V3MV6qgcubUuubWAGKsn1xT2k1qkAERwKW0kLwXo=;
 b=ri2+wEF/ZYZmnTGjcd93N1q3igcdMKIk93q3bre6Ryu9hTUruxIGc44tO3T9JDmfd9
 PcRaVFR7Y3Kw1XWANljoF73VvNCzsmvIjDCn7/2fItGCfVk/zGwQ8S1U130qQ/ZtHELY
 MHJq8qJc3L4GPz9hh1SWEUQVTrEL5GAKk2wB2ZJyeSrLm2Al/iPsoj4QVHGDxEp/sZq6
 4vgJ8lllFnT07X1HcB3Rh1R3w7xR+mlb++F6ve9et3aQAoKtuMiYdX4mIj0tZCadVSHa
 cjQtipBl5Yd43b092lrXyQGGiAi/T+0dGETRlVqKBa4DDWEw9wWSYnw6G0kDH24cXB3z
 Xv/w==
X-Gm-Message-State: AOJu0YxSJz6YyvYtWglcUS8WIa+bbRZpe+rF6xNPMeJm0vp4rUwq700b
 VWfDzANyjRMetBSEaXkvIGyekPcaAP4UOUsQgQvcJMjor4rYZSU35G3aEdATVFJe+DtWdbP8NNv
 HxKwaycZxHUXpenMDkBo3UiUL2vzNOjmIKkME7v4U
X-Gm-Gg: ASbGncsvl8NMlRletPicmqZvo2jPPHFl4rzHorPnfPXv00Deyos+TcewUaYSFTx3w2n
 oXCGHnRcbqBdSUqS3IzmhykaMVEoJW4IIbiTMXkvUHT12tB12n5U/Y8ux20envRkUOSsKeBSykR
 BOrZ2Zc0ggYarhJnSiI0sI0VwWjoZm4mJJhs/H6bSmPJtxXDAt3N702eQ22nAGLJHUvFt2vellW
 TsgJ/isgSf7gR7/phIcaj2j3coGBNNqsthtth49NivQOsNV3MDPRTSnLypOJe7Ooc3MdZsOJTqL
 SMgxiw==
X-Google-Smtp-Source: AGHT+IFC6TF1xh8jsuz0rR4j5Lna9NHt1jSQCbIHC9Aru/qiE26ZQczAf5/9FI/rTuX8xLXj6dffxa4XfLMl
X-Received: by 2002:a92:cdab:0:b0:3a7:c5cb:8bf3 with SMTP id
 e9e14a558f8ab-3ce3a87d3c3mr208548765ab.9.1736892805924; 
 Tue, 14 Jan 2025 14:13:25 -0800 (PST)
Received: from postal.iol.unh.edu (postal.iol.unh.edu. [132.177.123.84])
 by smtp-relay.gmail.com with ESMTPS id
 e9e14a558f8ab-3ce4adbb944sm6637475ab.23.2025.01.14.14.13.25
 (version=TLS1_2 cipher=ECDHE-ECDSA-AES128-GCM-SHA256 bits=128/128);
 Tue, 14 Jan 2025 14:13:25 -0800 (PST)
X-Relaying-Domain: iol.unh.edu
Date: Tue, 14 Jan 2025 14:13:25 -0800 (PST)
Message-ID: <6786e185.050a0220.88778.1d58SMTPIN_ADDED_MISSING@mx.google.com>
Received: from [172.17.0.4] (unknown [172.18.0.217])
 by postal.iol.unh.edu (Postfix) with ESMTP id 574F56052471;
 Tue, 14 Jan 2025 17:13:25 -0500 (EST)
Subject: |SUCCESS| pw150080 [PATCH] [v2] mbuf: add fast free bulk function
From: dpdklab@iol.unh.edu
To: Test Report <test-report@dpdk.org>
Cc: dpdk-test-reports@iol.unh.edu
In-Reply-To: <20250114163951.125667-1-mb@smartsharesystems.com>
References: <20250114163951.125667-1-mb@smartsharesystems.com>
Content-Type: text/plain
X-BeenThere: test-report@dpdk.org
X-Mailman-Version: 2.1.29
Precedence: list
List-Id: automatic DPDK test reports <test-report.dpdk.org>
List-Unsubscribe: <https://mails.dpdk.org/options/test-report>,
 <mailto:test-report-request@dpdk.org?subject=unsubscribe>
List-Archive: <http://mails.dpdk.org/archives/test-report/>
List-Post: <mailto:test-report@dpdk.org>
List-Help: <mailto:test-report-request@dpdk.org?subject=help>
List-Subscribe: <https://mails.dpdk.org/listinfo/test-report>,
 <mailto:test-report-request@dpdk.org?subject=subscribe>
Errors-To: test-report-bounces@dpdk.org

Test-Label: iol-sample-apps-testing
Test-Status: SUCCESS
http://dpdk.org/patch/150080

_Testing PASS_

Submitter: Morten Brorup <mb@smartsharesystems.com>
Date: Tuesday, January 14 2025 16:39:51 
DPDK git baseline: Repo:dpdk
  Branch: master
  CommitID:fd51012de5369679e807be1d6a81d63ef15015ce

150080 --> testing pass

Upstream job id: ACVP-FIPS-testing#8548

Test environment and result as below:

+--------------------+----------------------+----------------------+
|    Environment     | dpdk_fips_validation | compressdev_zlib_pmd |
+====================+======================+======================+
| Ubuntu 20.04       | PASS                 | SKIPPED              |
+--------------------+----------------------+----------------------+
| Ubuntu 22.04 (ARM) | SKIPPED              | PASS                 |
+--------------------+----------------------+----------------------+
| Ubuntu 22.04       | SKIPPED              | PASS                 |
+--------------------+----------------------+----------------------+


Ubuntu 20.04
	Kernel: Depends on container host
	Compiler: gcc (Ubuntu 9.4.0-1ubuntu1~20.04.2) 9.4.0

Ubuntu 22.04 (ARM)
	Kernel: 5.15.0-97-generic
	Compiler: gcc gcc (Ubuntu 11.4.0-1ubuntu1~22.04) 11.4.0

Ubuntu 22.04
	Kernel: 5.15.0-100-generic
	Compiler: gcc gcc (Ubuntu 11.4.0-1ubuntu1~22.04) 11.4.0

To view detailed results, visit:
https://lab.dpdk.org/results/dashboard/patchsets/32319/

UNH-IOL DPDK Community Lab

To manage your email subscriptions, visit: 
https://lab.dpdk.org/results/dashboard/preferences/subscriptions/