From mboxrd@z Thu Jan  1 00:00:00 1970
Return-Path: <test-report-bounces@dpdk.org>
Received: from mails.dpdk.org (mails.dpdk.org [217.70.189.124])
	by inbox.dpdk.org (Postfix) with ESMTP id 0E21E46085
	for <public@inbox.dpdk.org>; Tue, 14 Jan 2025 23:51:11 +0100 (CET)
Received: from mails.dpdk.org (localhost [127.0.0.1])
	by mails.dpdk.org (Postfix) with ESMTP id 0876040299;
	Tue, 14 Jan 2025 23:51:11 +0100 (CET)
Received: from mail-qv1-f97.google.com (mail-qv1-f97.google.com
 [209.85.219.97]) by mails.dpdk.org (Postfix) with ESMTP id 2470E40298
 for <test-report@dpdk.org>; Tue, 14 Jan 2025 23:51:09 +0100 (CET)
Received: by mail-qv1-f97.google.com with SMTP id
 6a1803df08f44-6dd43aa1558so54805796d6.0
 for <test-report@dpdk.org>; Tue, 14 Jan 2025 14:51:09 -0800 (PST)
DKIM-Signature: v=1; a=rsa-sha256; c=relaxed/relaxed;
 d=iol.unh.edu; s=unh-iol; t=1736895068; x=1737499868; darn=dpdk.org;
 h=references:in-reply-to:cc:to:from:subject:message-id:date:from:to
 :cc:subject:date:message-id:reply-to;
 bh=kpO9DUQLQa6cLNLRg/S65Bc7lQQCONynWU6fBQAwOJ8=;
 b=VBsKdNDo0qeNANwUCYXjpYdrHEX1FZrthLy8l+FPk73pGUTr/BUbRHqAs8Yx9iF1wx
 fneqwXE4XYCtpsURr8jZyOZk0103k2vuzAkC/fncHtpvBVeGAy3KzsbePzuqzUwCgw/z
 PbKR3dd3gVnELqnwtJ/YPLC6FsyJZq75BvD8g=
X-Google-DKIM-Signature: v=1; a=rsa-sha256; c=relaxed/relaxed;
 d=1e100.net; s=20230601; t=1736895068; x=1737499868;
 h=references:in-reply-to:cc:to:from:subject:message-id:date
 :x-gm-message-state:from:to:cc:subject:date:message-id:reply-to;
 bh=kpO9DUQLQa6cLNLRg/S65Bc7lQQCONynWU6fBQAwOJ8=;
 b=AYKsFEZV8J6G56YWX1vAfvlF9REFACL/f7cojU73bD4Kz7brzYAcN7wTnRvX1DTjGV
 UzbFFu40+wdlEAigM/5qGiSdNhrg5EsX6cdVj30dOzaw4GtkvqYoHbZqTZ8lhtAqggZG
 bCDFPhTjP2LAu2/QF5phvbMXX9avrOc8K7qAZu1yL9SwoLqC7AyPh2SwND+na8dp0d1w
 NX0nzuwmWM09TvyMoZA1Rxxqce0m6IMBIaEdlMMjqufNrejNwRBOFGbaoSd9m2qGIhBe
 fVEXX4jvIhslETgP5WoWVecsRtpObFuJciNhdO139pMqpUuoTvVpqHa+4z0lX3FQBf2+
 1oYg==
X-Gm-Message-State: AOJu0Yy5jGxaGW3Gmu7qtr9TSuoYYNHJ8rvE1S8jYCwPGhHZ081gy0yg
 1pAvO9i1v9MMEFUVR7L0VZUnoy1RhffUI9uNGAM3p440s2YV9GWr0MVHDqWRNyVyFaeY/84AScH
 OjLsxcYwZPOmgUQpt8KInSPEygvVehhu/PwIc7NMH
X-Gm-Gg: ASbGncvx7asocT4BtnzKurGNaFzajawGZjizPfYrz0vk/p42xHByfPyAGs68UIe94vK
 GIiYGz1wg4oOpCDMG6B8ICx6CBLK4Rkc7omkw9Wul3G/iAayCkAQpoMf+ZFrTkEPflX8YGARhbf
 xa2S8OtZWhwulBVDO/dEl19zU1jtpi2uDcVpeTW+Wqhi0H3K84y74pzpg1MvFrgb2dbG45Hn2nl
 KR2ofb7fyJBLebSteUMx8d5IFQvkldeqhqZpY6ctgD9t6b6mLCf9EZ7TRXn5LrgjGINT6NMm446
 sNS1cA==
X-Google-Smtp-Source: AGHT+IHvGCzuxQQp/J1Cb/FEXPHuZyc5nB3RiUkRU7jDaZD4nZLlhYzcs/ifIvcWPCTzY2CcMuz2Fq1Ualmy
X-Received: by 2002:a05:6214:f28:b0:6d8:963e:b4c3 with SMTP id
 6a1803df08f44-6df9b1ee813mr360247706d6.11.1736895068466; 
 Tue, 14 Jan 2025 14:51:08 -0800 (PST)
Received: from postal.iol.unh.edu (postal.iol.unh.edu. [132.177.123.84])
 by smtp-relay.gmail.com with ESMTPS id
 6a1803df08f44-6dfadc04e5asm6698026d6.35.2025.01.14.14.51.08
 (version=TLS1_2 cipher=ECDHE-ECDSA-AES128-GCM-SHA256 bits=128/128);
 Tue, 14 Jan 2025 14:51:08 -0800 (PST)
X-Relaying-Domain: iol.unh.edu
Date: Tue, 14 Jan 2025 14:51:08 -0800 (PST)
Message-ID: <6786ea5c.050a0220.8f36e.0aceSMTPIN_ADDED_MISSING@mx.google.com>
Received: from [172.21.0.5] (unknown [172.18.0.240])
 by postal.iol.unh.edu (Postfix) with ESMTP id 2585B6052471;
 Tue, 14 Jan 2025 17:51:08 -0500 (EST)
Subject: |SUCCESS| pw150084 [PATCH] [v3] drivers/net: use 64-bit shift and av
From: dpdklab@iol.unh.edu
To: Test Report <test-report@dpdk.org>
Cc: dpdk-test-reports@iol.unh.edu
In-Reply-To: <1736888702-3253-1-git-send-email-andremue@linux.microsoft.com>
References: <1736888702-3253-1-git-send-email-andremue@linux.microsoft.com>
Content-Type: text/plain
X-BeenThere: test-report@dpdk.org
X-Mailman-Version: 2.1.29
Precedence: list
List-Id: automatic DPDK test reports <test-report.dpdk.org>
List-Unsubscribe: <https://mails.dpdk.org/options/test-report>,
 <mailto:test-report-request@dpdk.org?subject=unsubscribe>
List-Archive: <http://mails.dpdk.org/archives/test-report/>
List-Post: <mailto:test-report@dpdk.org>
List-Help: <mailto:test-report-request@dpdk.org?subject=help>
List-Subscribe: <https://mails.dpdk.org/listinfo/test-report>,
 <mailto:test-report-request@dpdk.org?subject=subscribe>
Errors-To: test-report-bounces@dpdk.org

Test-Label: iol-unit-amd64-testing
Test-Status: SUCCESS
http://dpdk.org/patch/150084

_Testing PASS_

Submitter: Andre Muezerie <andremue@linux.microsoft.com>
Date: Tuesday, January 14 2025 21:05:02 
DPDK git baseline: Repo:dpdk
  Branch: master
  CommitID:6a56a98a8a198d386e764be9bea343d69b09c0bf

150084 --> testing pass

Upstream job id: Generic-VM-Unit-Test-DPDK#26868

Test environment and result as below:

+---------------------+----------------+
|     Environment     | dpdk_unit_test |
+=====================+================+
| Fedora 40           | PASS           |
+---------------------+----------------+
| CentOS Stream 9     | PASS           |
+---------------------+----------------+
| Fedora 41 (Clang)   | PASS           |
+---------------------+----------------+
| Debian 12           | PASS           |
+---------------------+----------------+
| Debian Bullseye     | PASS           |
+---------------------+----------------+
| RHEL9               | PASS           |
+---------------------+----------------+
| Fedora 41           | PASS           |
+---------------------+----------------+
| RHEL8               | PASS           |
+---------------------+----------------+
| Ubuntu 22.04        | PASS           |
+---------------------+----------------+
| Fedora 40 (Clang)   | PASS           |
+---------------------+----------------+
| Ubuntu 20.04        | PASS           |
+---------------------+----------------+
| Ubuntu 24.04        | PASS           |
+---------------------+----------------+
| Windows Server 2022 | PASS           |
+---------------------+----------------+


Fedora 40
	Kernel: Depends on container host
	Compiler: gcc 14.2.1 20240912 (Red Hat 14.2.1-3)

CentOS Stream 9
	Kernel: Depends on container host
	Compiler: gcc 11.5.0 20240719 (Red Hat 11.5.0-2)

Fedora 41 (Clang)
	Kernel: Depends on container host
	Compiler: clang 19.1.5 (Fedora 19.1.5-1.fc41)

Debian 12
	Kernel: Depends on container host
	Compiler: gcc (Debian 12.2.0-14) 12.2.0

Debian Bullseye
	Kernel: Depends on container host
	Compiler: gcc (Debian 10.2.1-6) 10.2.1 20210110

RHEL9
	Kernel: Depends on container host
	Compiler: gcc 11.5.0 20240719 (Red Hat 11.5.0-2)

Fedora 41
	Kernel: Depends on container host
	Compiler: gcc 14.2.1 20240912 (Red Hat 14.2.1-3)

RHEL8
	Kernel: Depends on container host
	Compiler: gcc 8.5.0 20210514 (Red Hat 8.5.0-22)

Ubuntu 22.04
	Kernel: Depends on container host
	Compiler: gcc (Ubuntu 11.4.0-1ubuntu1~22.04) 11.4.0

Fedora 40 (Clang)
	Kernel: Depends on container host
	Compiler: clang 18.1.8 (Fedora 18.1.8-1.fc40)

Ubuntu 20.04
	Kernel: Depends on container host
	Compiler: gcc (Ubuntu 9.4.0-1ubuntu1~20.04.2) 9.4.0

Ubuntu 24.04
	Kernel: Depends on container host
	Compiler: gcc (Ubuntu 13.3.0-6ubuntu2~24.04) 13.3.0

Windows Server 2022
	Kernel: 10.0.20348.2031
	Compiler: clang 15.0.7, gcc 14.1.0 (MinGW), and MSVC VS 19.39.33521

To view detailed results, visit:
https://lab.dpdk.org/results/dashboard/patchsets/32322/

UNH-IOL DPDK Community Lab

To manage your email subscriptions, visit: 
https://lab.dpdk.org/results/dashboard/preferences/subscriptions/