From mboxrd@z Thu Jan  1 00:00:00 1970
Return-Path: <test-report-bounces@dpdk.org>
Received: from mails.dpdk.org (mails.dpdk.org [217.70.189.124])
	by inbox.dpdk.org (Postfix) with ESMTP id 141B84608F
	for <public@inbox.dpdk.org>; Wed, 15 Jan 2025 11:46:46 +0100 (CET)
Received: from mails.dpdk.org (localhost [127.0.0.1])
	by mails.dpdk.org (Postfix) with ESMTP id 0BFC34025F;
	Wed, 15 Jan 2025 11:46:46 +0100 (CET)
Received: from mail-yb1-f228.google.com (mail-yb1-f228.google.com
 [209.85.219.228])
 by mails.dpdk.org (Postfix) with ESMTP id 7FDF74003C
 for <test-report@dpdk.org>; Wed, 15 Jan 2025 11:46:45 +0100 (CET)
Received: by mail-yb1-f228.google.com with SMTP id
 3f1490d57ef6-e455bf1f4d3so9299411276.2
 for <test-report@dpdk.org>; Wed, 15 Jan 2025 02:46:45 -0800 (PST)
DKIM-Signature: v=1; a=rsa-sha256; c=relaxed/relaxed;
 d=iol.unh.edu; s=unh-iol; t=1736938005; x=1737542805; darn=dpdk.org;
 h=references:in-reply-to:cc:to:from:subject:message-id:date:from:to
 :cc:subject:date:message-id:reply-to;
 bh=HdYfzIFNtPqUV/gw7P9eUYs4rLCSAzaW7thyJ5gdULE=;
 b=ivfkTGdO1mdK+fZqdXDIc6uPvZJ6xByDRNTEap2BbEYvmoTNb77OanMx3Fmsea1EFE
 A9CQ5Srx6S37RsfWtCO827XR0E5BhLQEGWucGEiI6uS8nHugfWIj/fs0cNQ6MUK/HA23
 sdsZXCVL1hhT5wo8iErSUnaVzh3WEQREdnSk8=
X-Google-DKIM-Signature: v=1; a=rsa-sha256; c=relaxed/relaxed;
 d=1e100.net; s=20230601; t=1736938005; x=1737542805;
 h=references:in-reply-to:cc:to:from:subject:message-id:date
 :x-gm-message-state:from:to:cc:subject:date:message-id:reply-to;
 bh=HdYfzIFNtPqUV/gw7P9eUYs4rLCSAzaW7thyJ5gdULE=;
 b=YYits8oN+Mg1Faz7YYUiLk9bzEIjY9Kb+nJ7MmcvJyDeRIGS3K9Z0Zbz5GhS23h8zf
 +WPZLgRI1Dm1TKaCOEcvYSuS6FQEWtZvb8qh+BdmBU8Uxx81R+NXtFANsHsMdxZ9XHtI
 +u3GXP/qXk8sKcm2S6rnGIzSOAEMdvP9zxkUqWG+c5hgyzYPJBeY0rDKyAbyQC5gMnjK
 Wz8zA06tMDy8D+cYnddEIE+L0cbglxRSuZt2B2hkU6AStM4gdnEiYNQOaVCQMczwka8Y
 IzDp3fp8Iw2UY2IY9sCk9dwl3vVhKNqD92B4YxKN7P2u9QpUAVpHi2dtNB73yfTmsK/T
 tE1Q==
X-Gm-Message-State: AOJu0Yw5yUD+RUaeNEY104iVJTzt8CIMTSTiHIt+Y467cfFOBBemCUUP
 25W3p0t52SAcCiLQqv3NN+IMWADNbhTMNgJvGkO0n/0R0XLKW6gGXdJbWMBIuqwOkZHy+We5X96
 eaSDbn9o6uB9zzmK0hEyRavhwrqQHNFATwMt/yXGz
X-Gm-Gg: ASbGncsTK7fH+05p3QRcnD0kFJYpTqKmPVJB7F4UrGql4b8fvBo/fG3cdrs3+xeTrHu
 JXsdQSDgAKCj7CFpg/BvJwE4IAizzOObK2DuEvPr46t960p/WFWv9kPczH71DiZ7t32wETE+Q0K
 +9G/t+ljzWGScWKNU2rMFmiWMYTBqS3ZRSpEbttcbJsga3uEznqZS0bQZb44LYxQq8LLt06zeAp
 UZJTSwLKnBtCL6jTHboAA3m7uvo/g1EO/UuTp0Gk0rzl+jS36KoA6LuAPTewAqzRV2Nzz1UTMep
 UodTHA==
X-Google-Smtp-Source: AGHT+IF3TEwxkLxHlXqkN6H3sKg6gI62fBU9KvA2LdtvhLWMcx17DI1t4YjFC6UUyuNxNmU+73L89EItMnB+
X-Received: by 2002:a05:690c:6813:b0:6ef:a4bc:8bc9 with SMTP id
 00721157ae682-6f53124c5d2mr231001177b3.21.1736938004832; 
 Wed, 15 Jan 2025 02:46:44 -0800 (PST)
Received: from postal.iol.unh.edu (postal.iol.unh.edu. [132.177.123.84])
 by smtp-relay.gmail.com with ESMTPS id
 00721157ae682-6f546dc5ddbsm6765727b3.46.2025.01.15.02.46.44
 (version=TLS1_2 cipher=ECDHE-ECDSA-AES128-GCM-SHA256 bits=128/128);
 Wed, 15 Jan 2025 02:46:44 -0800 (PST)
X-Relaying-Domain: iol.unh.edu
Date: Wed, 15 Jan 2025 02:46:44 -0800 (PST)
Message-ID: <67879214.050a0220.233309.03c1SMTPIN_ADDED_MISSING@mx.google.com>
Received: from [172.21.0.5] (unknown [172.18.0.240])
 by postal.iol.unh.edu (Postfix) with ESMTP id 6E19D6052471;
 Wed, 15 Jan 2025 05:46:44 -0500 (EST)
Subject: |WARNING| pw150090 [PATCH] [v2] net/i40e/base: fix the debug print f
From: dpdklab@iol.unh.edu
To: Test Report <test-report@dpdk.org>
Cc: dpdk-test-reports@iol.unh.edu
In-Reply-To: <20250115074417.396909-1-jaroslaw.ilgiewicz@intel.com>
References: <20250115074417.396909-1-jaroslaw.ilgiewicz@intel.com>
Content-Type: text/plain
X-BeenThere: test-report@dpdk.org
X-Mailman-Version: 2.1.29
Precedence: list
List-Id: automatic DPDK test reports <test-report.dpdk.org>
List-Unsubscribe: <https://mails.dpdk.org/options/test-report>,
 <mailto:test-report-request@dpdk.org?subject=unsubscribe>
List-Archive: <http://mails.dpdk.org/archives/test-report/>
List-Post: <mailto:test-report@dpdk.org>
List-Help: <mailto:test-report-request@dpdk.org?subject=help>
List-Subscribe: <https://mails.dpdk.org/listinfo/test-report>,
 <mailto:test-report-request@dpdk.org?subject=subscribe>
Errors-To: test-report-bounces@dpdk.org

Test-Label: iol-compile-amd64-testing
Test-Status: WARNING
http://dpdk.org/patch/150090

_Testing issues_

Submitter: Jaroslaw Ilgiewicz <jaroslaw.ilgiewicz@intel.com>
Date: Wednesday, January 15 2025 07:44:17 
DPDK git baseline: Repo:dpdk
  Branch: master
  CommitID:ce85dd8562ad9673eb4fe46b4a8bd3a508e8b32f

150090 --> testing issues

Upstream job id: Generic-DPDK-Compile-Meson#351303

Test environment and result as below:

+---------------------+--------------------+------------------+-------------------+-----------------------+-------------------+----------------------+
|     Environment     | dpdk_meson_compile | dpdk_compile_ovs | dpdk_compile_spdk | dpdk_win_llvm_compile | dpdk_msvc_compile | dpdk_mingw64_compile |
+=====================+====================+==================+===================+=======================+===================+======================+
| CentOS Stream 9     | PASS               | PASS             | PASS              | SKIPPED               | SKIPPED           | SKIPPED              |
+---------------------+--------------------+------------------+-------------------+-----------------------+-------------------+----------------------+
| Debian 12           | PASS               | PASS             | PASS              | SKIPPED               | SKIPPED           | SKIPPED              |
+---------------------+--------------------+------------------+-------------------+-----------------------+-------------------+----------------------+
| Debian Bullseye     | PASS               | PASS             | PASS              | SKIPPED               | SKIPPED           | SKIPPED              |
+---------------------+--------------------+------------------+-------------------+-----------------------+-------------------+----------------------+
| Fedora 40           | PASS               | PASS             | PASS              | SKIPPED               | SKIPPED           | SKIPPED              |
+---------------------+--------------------+------------------+-------------------+-----------------------+-------------------+----------------------+
| Fedora 40 (Clang)   | PASS               | PASS             | PASS              | SKIPPED               | SKIPPED           | SKIPPED              |
+---------------------+--------------------+------------------+-------------------+-----------------------+-------------------+----------------------+
| Fedora 41 (Clang)   | PASS               | PASS             | PASS              | SKIPPED               | SKIPPED           | SKIPPED              |
+---------------------+--------------------+------------------+-------------------+-----------------------+-------------------+----------------------+
| Fedora 41           | PASS               | PASS             | PASS              | SKIPPED               | SKIPPED           | SKIPPED              |
+---------------------+--------------------+------------------+-------------------+-----------------------+-------------------+----------------------+
| RHEL8               | PASS               | PASS             | SKIPPED           | SKIPPED               | SKIPPED           | SKIPPED              |
+---------------------+--------------------+------------------+-------------------+-----------------------+-------------------+----------------------+
| openSUSE Leap 15    | PASS               | SKIPPED          | SKIPPED           | SKIPPED               | SKIPPED           | SKIPPED              |
+---------------------+--------------------+------------------+-------------------+-----------------------+-------------------+----------------------+
| RHEL9               | PASS               | PASS             | SKIPPED           | SKIPPED               | SKIPPED           | SKIPPED              |
+---------------------+--------------------+------------------+-------------------+-----------------------+-------------------+----------------------+
| Ubuntu 20.04        | PASS               | WARN             | SKIPPED           | SKIPPED               | SKIPPED           | SKIPPED              |
+---------------------+--------------------+------------------+-------------------+-----------------------+-------------------+----------------------+
| Ubuntu 22.04        | PASS               | PASS             | PASS              | SKIPPED               | SKIPPED           | SKIPPED              |
+---------------------+--------------------+------------------+-------------------+-----------------------+-------------------+----------------------+
| Ubuntu 24.04        | PASS               | PASS             | PASS              | SKIPPED               | SKIPPED           | SKIPPED              |
+---------------------+--------------------+------------------+-------------------+-----------------------+-------------------+----------------------+
| Alpine              | PASS               | PASS             | SKIPPED           | SKIPPED               | SKIPPED           | SKIPPED              |
+---------------------+--------------------+------------------+-------------------+-----------------------+-------------------+----------------------+
| FreeBSD 13.4        | PASS               | SKIPPED          | SKIPPED           | SKIPPED               | SKIPPED           | SKIPPED              |
+---------------------+--------------------+------------------+-------------------+-----------------------+-------------------+----------------------+
| FreeBSD 14.2        | PASS               | SKIPPED          | SKIPPED           | SKIPPED               | SKIPPED           | SKIPPED              |
+---------------------+--------------------+------------------+-------------------+-----------------------+-------------------+----------------------+
| Windows Server 2022 | SKIPPED            | SKIPPED          | SKIPPED           | PASS                  | PASS              | PASS                 |
+---------------------+--------------------+------------------+-------------------+-----------------------+-------------------+----------------------+

==== 20 line log output for Ubuntu 20.04 (dpdk_compile_ovs): ====
 --- Failed to get log output --- 
==== End log output ====

CentOS Stream 9
	Kernel: Depends on container host
	Compiler: gcc 11.5.0 20240719 (Red Hat 11.5.0-2)

Debian 12
	Kernel: Depends on container host
	Compiler: gcc (Debian 12.2.0-14) 12.2.0

Debian Bullseye
	Kernel: Depends on container host
	Compiler: gcc (Debian 10.2.1-6) 10.2.1 20210110

Fedora 40
	Kernel: Depends on container host
	Compiler: gcc 14.2.1 20240912 (Red Hat 14.2.1-3)

Fedora 40 (Clang)
	Kernel: Depends on container host
	Compiler: clang 18.1.8 (Fedora 18.1.8-1.fc40)

Fedora 41 (Clang)
	Kernel: Depends on container host
	Compiler: clang 19.1.5 (Fedora 19.1.5-1.fc41)

Fedora 41
	Kernel: Depends on container host
	Compiler: gcc 14.2.1 20240912 (Red Hat 14.2.1-3)

RHEL8
	Kernel: Depends on container host
	Compiler: gcc 8.5.0 20210514 (Red Hat 8.5.0-22)

openSUSE Leap 15
	Kernel: Depends on container host
	Compiler: gcc (SUSE Linux) 7.5.0

RHEL9
	Kernel: Depends on container host
	Compiler: gcc 11.5.0 20240719 (Red Hat 11.5.0-2)

Ubuntu 20.04
	Kernel: Depends on container host
	Compiler: gcc (Ubuntu 9.4.0-1ubuntu1~20.04.2) 9.4.0

Ubuntu 22.04
	Kernel: Depends on container host
	Compiler: gcc (Ubuntu 11.4.0-1ubuntu1~22.04) 11.4.0

Ubuntu 24.04
	Kernel: Depends on container host
	Compiler: gcc (Ubuntu 13.3.0-6ubuntu2~24.04) 13.3.0

Alpine
	Kernel: Depends on container host
	Compiler: gcc (Alpine 14.2.0) 14.2.0

FreeBSD 13.4
	Kernel: 13.4-RELEASE-p1
	Compiler: clang 18.1.6

FreeBSD 14.2
	Kernel: 14.2-RELEASE
	Compiler: clang 18.1.6

Windows Server 2022
	Kernel: 10.0.20348.2031
	Compiler: clang 15.0.7, gcc 14.1.0 (MinGW), and MSVC VS 19.39.33521

To view detailed results, visit:
https://lab.dpdk.org/results/dashboard/patchsets/32325/

UNH-IOL DPDK Community Lab

To manage your email subscriptions, visit: 
https://lab.dpdk.org/results/dashboard/preferences/subscriptions/