From mboxrd@z Thu Jan  1 00:00:00 1970
Return-Path: <test-report-bounces@dpdk.org>
Received: from mails.dpdk.org (mails.dpdk.org [217.70.189.124])
	by inbox.dpdk.org (Postfix) with ESMTP id 6D5394608D
	for <public@inbox.dpdk.org>; Wed, 15 Jan 2025 17:12:56 +0100 (CET)
Received: from mails.dpdk.org (localhost [127.0.0.1])
	by mails.dpdk.org (Postfix) with ESMTP id 6318F402B5;
	Wed, 15 Jan 2025 17:12:56 +0100 (CET)
Received: from mail-pl1-f225.google.com (mail-pl1-f225.google.com
 [209.85.214.225])
 by mails.dpdk.org (Postfix) with ESMTP id 1A9BA40298
 for <test-report@dpdk.org>; Wed, 15 Jan 2025 17:12:55 +0100 (CET)
Received: by mail-pl1-f225.google.com with SMTP id
 d9443c01a7336-21bc1512a63so60758995ad.1
 for <test-report@dpdk.org>; Wed, 15 Jan 2025 08:12:55 -0800 (PST)
DKIM-Signature: v=1; a=rsa-sha256; c=relaxed/relaxed;
 d=iol.unh.edu; s=unh-iol; t=1736957574; x=1737562374; darn=dpdk.org;
 h=references:in-reply-to:cc:to:from:subject:message-id:date:from:to
 :cc:subject:date:message-id:reply-to;
 bh=wco8rCWVbS4M3/vjzsmmRAqoY9X+2/YoP/YA7ur5M8w=;
 b=iT6MxsgdfNs9oTYOdMlEVXKMK2Lj9Ei3JApAvtT+JHJshrJTXxyuumz+6U55dMcesZ
 hqN3kcTI5e9R3hD7VVgHHCJXROQyViBtXTHbaFSnt0BUKWl2GsD1aNgToPC5o1rdTdJC
 FOaavSV36Q2RJ87Bufx74DitESp2dXBKr+Z14=
X-Google-DKIM-Signature: v=1; a=rsa-sha256; c=relaxed/relaxed;
 d=1e100.net; s=20230601; t=1736957574; x=1737562374;
 h=references:in-reply-to:cc:to:from:subject:message-id:date
 :x-gm-message-state:from:to:cc:subject:date:message-id:reply-to;
 bh=wco8rCWVbS4M3/vjzsmmRAqoY9X+2/YoP/YA7ur5M8w=;
 b=SrC5Nym1R4pZ6sXpnc4/qc/xICF986DuFgbeTaoARRc9c64r4IrZnrKZnH8oOW2Yls
 Z0vRg8eHe+T+VHVnquTkj5rAY8pbQzRQbIwvQGqujC1upFxafPVPwUh1cYhINu0r2Q6Y
 ISyEtNrkGe68IcbPxDyXLd1J4sduQXAcqXr5BrJStz+67BkXo0AvxbUo/RaGUotNBEoT
 NPi5rFRO0/pI4rTV1QjGvAxYvan5k8SCFYiGXUpKCloVk7ta9AdE6ks1oVvAN1zDMPeS
 lIfIshC+dsn4onVcBug8+Zx+e29h9h3LVfIRwOnW2/Mggrj+hVNzCFOcdAN7jShaitvk
 7OqQ==
X-Gm-Message-State: AOJu0YwFNd2YVTENYynQUhU53FmcRtSfzauXRuoDhQKC5sEi3X5AIIxW
 9vjJplPnwEhoL6LnPkwhg7bLY3ujzTDrH994TjGxom1Wnc8ejHdhWd+SkPTkPkgSjmpuXgfQilx
 bd9KFMH2fxWVwgYGoaIwidKZhCwMsXlo3RVx0VakG
X-Gm-Gg: ASbGnct/07XBn/EBRd5E65y8PQPu91IFFvb12SyV6lhMBC9xTP+Sn4pnYUjO5dQD8i7
 fOy1KJhTRNmkX2o7c4Bf+GqPweuY63QN7RxUQeBWPOmgQt+U+OdKyFl+wd/lzM3CSf3R/t6MiE6
 a/ehQ47qj+PjkzG7uaGHyblhpxdmV6221hY7uiqBQHxjJLjtTHnevvibCgKI/6akP2QWuAzKv5p
 MX9Zx4F8BH6mgMT6Lu3kUrqR7Z1otE7Phcf2pFtbGTTZ7g98SJj2iQsETdSaPp6mecUEDwx2LTT
 GBPLsw==
X-Google-Smtp-Source: AGHT+IEOQextGAyeFqhwb1E80pGYqDwFlr8EuhtMFB5rw9ZhnV0HtRZh2smPj5mWUWGv7B5gzbsNWLGjak5l
X-Received: by 2002:a17:903:11d0:b0:21a:8769:2fec with SMTP id
 d9443c01a7336-21a87693dcemr474785085ad.10.1736957574205; 
 Wed, 15 Jan 2025 08:12:54 -0800 (PST)
Received: from postal.iol.unh.edu (postal.iol.unh.edu. [132.177.123.84])
 by smtp-relay.gmail.com with ESMTPS id
 d9443c01a7336-21a9f235f0bsm5670835ad.13.2025.01.15.08.12.54
 (version=TLS1_2 cipher=ECDHE-ECDSA-AES128-GCM-SHA256 bits=128/128);
 Wed, 15 Jan 2025 08:12:54 -0800 (PST)
X-Relaying-Domain: iol.unh.edu
Date: Wed, 15 Jan 2025 08:12:54 -0800 (PST)
Message-ID: <6787de86.170a0220.c4d35.8732SMTPIN_ADDED_MISSING@mx.google.com>
Received: from [172.21.0.8] (unknown [172.18.0.240])
 by postal.iol.unh.edu (Postfix) with ESMTP id 554AD6052471;
 Wed, 15 Jan 2025 11:12:53 -0500 (EST)
Subject: |SUCCESS| pw150099-150102 [PATCH] [v2,4/4] vhost: improve RARP handl
From: dpdklab@iol.unh.edu
To: Test Report <test-report@dpdk.org>
Cc: dpdk-test-reports@iol.unh.edu
In-Reply-To: <20250115125938.2699577-5-maxime.coquelin@redhat.com>
References: <20250115125938.2699577-5-maxime.coquelin@redhat.com>
Content-Type: text/plain
X-BeenThere: test-report@dpdk.org
X-Mailman-Version: 2.1.29
Precedence: list
List-Id: automatic DPDK test reports <test-report.dpdk.org>
List-Unsubscribe: <https://mails.dpdk.org/options/test-report>,
 <mailto:test-report-request@dpdk.org?subject=unsubscribe>
List-Archive: <http://mails.dpdk.org/archives/test-report/>
List-Post: <mailto:test-report@dpdk.org>
List-Help: <mailto:test-report-request@dpdk.org?subject=help>
List-Subscribe: <https://mails.dpdk.org/listinfo/test-report>,
 <mailto:test-report-request@dpdk.org?subject=subscribe>
Errors-To: test-report-bounces@dpdk.org

Test-Label: iol-abi-testing
Test-Status: SUCCESS
http://dpdk.org/patch/150102

_Testing PASS_

Submitter: Maxime Coquelin <maxime.coquelin@redhat.com>
Date: Wednesday, January 15 2025 12:59:38 
DPDK git baseline: Repo:dpdk
  Branch: master
  CommitID:07604f264417959d76aa9fcb8cb0c3665f62f0d3

150099-150102 --> testing pass

Upstream job id: Generic-DPDK-Compile-ABI#112413

Test environment and result as below:

+-------------------+----------+
|    Environment    | abi_test |
+===================+==========+
| CentOS Stream 9   | PASS     |
+-------------------+----------+
| Fedora 40 (Clang) | PASS     |
+-------------------+----------+
| Fedora 40         | PASS     |
+-------------------+----------+
| Debian 12         | PASS     |
+-------------------+----------+
| Fedora 41 (Clang) | PASS     |
+-------------------+----------+
| openSUSE Leap 15  | PASS     |
+-------------------+----------+
| Fedora 41         | PASS     |
+-------------------+----------+
| RHEL9             | PASS     |
+-------------------+----------+
| Ubuntu 22.04      | PASS     |
+-------------------+----------+
| RHEL8             | PASS     |
+-------------------+----------+
| Ubuntu 24.04      | PASS     |
+-------------------+----------+


CentOS Stream 9
	Kernel: Depends on container host
	Compiler: gcc 11.5.0 20240719 (Red Hat 11.5.0-2)

Fedora 40 (Clang)
	Kernel: Depends on container host
	Compiler: clang 18.1.8 (Fedora 18.1.8-1.fc40)

Fedora 40
	Kernel: Depends on container host
	Compiler: gcc 14.2.1 20240912 (Red Hat 14.2.1-3)

Debian 12
	Kernel: Depends on container host
	Compiler: gcc (Debian 12.2.0-14) 12.2.0

Fedora 41 (Clang)
	Kernel: Depends on container host
	Compiler: clang 19.1.5 (Fedora 19.1.5-1.fc41)

openSUSE Leap 15
	Kernel: Depends on container host
	Compiler: gcc (SUSE Linux) 7.5.0

Fedora 41
	Kernel: Depends on container host
	Compiler: gcc 14.2.1 20240912 (Red Hat 14.2.1-3)

RHEL9
	Kernel: Depends on container host
	Compiler: gcc 11.5.0 20240719 (Red Hat 11.5.0-2)

Ubuntu 22.04
	Kernel: Depends on container host
	Compiler: gcc (Ubuntu 11.4.0-1ubuntu1~22.04) 11.4.0

RHEL8
	Kernel: Depends on container host
	Compiler: gcc 8.5.0 20210514 (Red Hat 8.5.0-22)

Ubuntu 24.04
	Kernel: Depends on container host
	Compiler: gcc (Ubuntu 13.3.0-6ubuntu2~24.04) 13.3.0

To view detailed results, visit:
https://lab.dpdk.org/results/dashboard/patchsets/32330/

UNH-IOL DPDK Community Lab

To manage your email subscriptions, visit: 
https://lab.dpdk.org/results/dashboard/preferences/subscriptions/