From mboxrd@z Thu Jan  1 00:00:00 1970
Return-Path: <test-report-bounces@dpdk.org>
Received: from mails.dpdk.org (mails.dpdk.org [217.70.189.124])
	by inbox.dpdk.org (Postfix) with ESMTP id 4A3F846093
	for <public@inbox.dpdk.org>; Wed, 15 Jan 2025 17:55:31 +0100 (CET)
Received: from mails.dpdk.org (localhost [127.0.0.1])
	by mails.dpdk.org (Postfix) with ESMTP id 37D7D402B5;
	Wed, 15 Jan 2025 17:55:31 +0100 (CET)
Received: from mail-qv1-f100.google.com (mail-qv1-f100.google.com
 [209.85.219.100])
 by mails.dpdk.org (Postfix) with ESMTP id AB64640298
 for <test-report@dpdk.org>; Wed, 15 Jan 2025 17:55:29 +0100 (CET)
Received: by mail-qv1-f100.google.com with SMTP id
 6a1803df08f44-6d8e8445219so398176d6.0
 for <test-report@dpdk.org>; Wed, 15 Jan 2025 08:55:29 -0800 (PST)
DKIM-Signature: v=1; a=rsa-sha256; c=relaxed/relaxed;
 d=iol.unh.edu; s=unh-iol; t=1736960129; x=1737564929; darn=dpdk.org;
 h=references:in-reply-to:cc:to:from:subject:message-id:date:from:to
 :cc:subject:date:message-id:reply-to;
 bh=A6qyE/cNAdLa7tLSreEYirrq1VOeqeJYxKf7OTzFY1k=;
 b=P8RTMR+jHoDEeuLw2BKeOk27l7SOSg0NpleMbUbYOgizeOLnP/FEUd4v4MqhzzIc1y
 IgD2H5njAw9V31QbIOjllRoDOi7XNnwHT2Wf/6uAxFJFzfdOm+2wEE/j8lL/PvRD8jCo
 7JADJ0eXwYmLbokeg6ClhNcEZ10K6FApi0w6Y=
X-Google-DKIM-Signature: v=1; a=rsa-sha256; c=relaxed/relaxed;
 d=1e100.net; s=20230601; t=1736960129; x=1737564929;
 h=references:in-reply-to:cc:to:from:subject:message-id:date
 :x-gm-message-state:from:to:cc:subject:date:message-id:reply-to;
 bh=A6qyE/cNAdLa7tLSreEYirrq1VOeqeJYxKf7OTzFY1k=;
 b=qQpYZAqAr3S3qYe7BRDZSmMwpY4WQd/Kh52ELHmm8nvT2voW3pLc60IyQnT/lDIWm3
 m7uk5RZAUJYbv5qB7cq0RzzdziI/TIzeuEDoB7iVPVd3YVpt666yTrvezolhOjU62LBb
 TmNRSwq5vBYt0HMy+rAXBOpa89NynDmTMkgNNhgSQd2CpelM7lDy1d/zyTDmbunGO1Ub
 CkR2NvJtOKybha8/eqSG2uYH7ojfgv9A634WOYQOl5/qzIf1TDhw/y4sOrVACADx3arO
 A//WZZGIwMRxvqC3m8e1gpKW8RgCbdiB545S4T5odDdD54pudIr8/K3hRsywnkLymAmB
 cAHQ==
X-Gm-Message-State: AOJu0Yy1SOru6awBrthONhV07kXeno3W7v/dYZj/Acof2MyUTIVt3R/U
 LJKvBH9EBHFZd9Rlm+mtBYg5VpSGmBgK8a45TKJmWFi4H7cWm+p8Lx9sLMLoBDWTTKWnwVYDEPZ
 cj7Q4CbhsHqyK1pCWJcMUAIsdeT5yPRdk4htdO82j
X-Gm-Gg: ASbGncsUGBpVidrN7nJH9RtfCZQghM2hAgR8fqX/CYfu8vWYto/xqSWj+bAUfM3m2ba
 nf/WUOYnk0t6Kw1jpEYp4SF1ipSt7hgd022KsbFFFeqvZHcSgYpBBSVpegzR8Kr6zn0OkA5Q+bs
 4Wk5erl75qeTcH5PnUNAfIZN+jWcgj0glLAYIbmvD5lmxHm/sryoVTMzZisaBPZznoYXIr9Ze6G
 efQbRaCTgjG4hx2lvGbdzgLzX44gjj7DRXE+GBTxNH+wSwEkBs45B2t0USxuKe/kK4UPlM6PPHZ
 4YQQWA==
X-Google-Smtp-Source: AGHT+IGBSmRttzKxwKJPRMXj4Ky9WhrKlxh4kAku5cTVkVrEeoc99qRtJAvKIYL+Xrdp7Gy51fER2ZQ1aKi3
X-Received: by 2002:a05:6214:2421:b0:6cb:ee08:c1e8 with SMTP id
 6a1803df08f44-6df9b22de77mr494350736d6.23.1736960129030; 
 Wed, 15 Jan 2025 08:55:29 -0800 (PST)
Received: from postal.iol.unh.edu (postal.iol.unh.edu. [132.177.123.84])
 by smtp-relay.gmail.com with ESMTPS id
 6a1803df08f44-6dfadc0592fsm7948016d6.40.2025.01.15.08.55.28
 (version=TLS1_2 cipher=ECDHE-ECDSA-AES128-GCM-SHA256 bits=128/128);
 Wed, 15 Jan 2025 08:55:29 -0800 (PST)
X-Relaying-Domain: iol.unh.edu
Date: Wed, 15 Jan 2025 08:55:29 -0800 (PST)
Message-ID: <6787e881.d40a0220.3b3415.8554SMTPIN_ADDED_MISSING@mx.google.com>
Received: from [172.21.0.7] (unknown [172.18.0.240])
 by postal.iol.unh.edu (Postfix) with ESMTP id AD59F6052471;
 Wed, 15 Jan 2025 11:55:28 -0500 (EST)
Subject: |WARNING| pw150099-150102 [PATCH] [v2,4/4] vhost: improve RARP handl
From: dpdklab@iol.unh.edu
To: Test Report <test-report@dpdk.org>
Cc: dpdk-test-reports@iol.unh.edu
In-Reply-To: <20250115125938.2699577-5-maxime.coquelin@redhat.com>
References: <20250115125938.2699577-5-maxime.coquelin@redhat.com>
Content-Type: text/plain
X-BeenThere: test-report@dpdk.org
X-Mailman-Version: 2.1.29
Precedence: list
List-Id: automatic DPDK test reports <test-report.dpdk.org>
List-Unsubscribe: <https://mails.dpdk.org/options/test-report>,
 <mailto:test-report-request@dpdk.org?subject=unsubscribe>
List-Archive: <http://mails.dpdk.org/archives/test-report/>
List-Post: <mailto:test-report@dpdk.org>
List-Help: <mailto:test-report-request@dpdk.org?subject=help>
List-Subscribe: <https://mails.dpdk.org/listinfo/test-report>,
 <mailto:test-report-request@dpdk.org?subject=subscribe>
Errors-To: test-report-bounces@dpdk.org

Test-Label: iol-compile-amd64-testing
Test-Status: WARNING
http://dpdk.org/patch/150102

_Testing issues_

Submitter: Maxime Coquelin <maxime.coquelin@redhat.com>
Date: Wednesday, January 15 2025 12:59:38 
DPDK git baseline: Repo:dpdk
  Branch: master
  CommitID:07604f264417959d76aa9fcb8cb0c3665f62f0d3

150099-150102 --> testing issues

Upstream job id: Windows-Compile-DPDK-Native#25874

Test environment and result as below:

+---------------------+--------------------+------------------+-------------------+-----------------------+-------------------+----------------------+
|     Environment     | dpdk_meson_compile | dpdk_compile_ovs | dpdk_compile_spdk | dpdk_win_llvm_compile | dpdk_msvc_compile | dpdk_mingw64_compile |
+=====================+====================+==================+===================+=======================+===================+======================+
| CentOS Stream 9     | PASS               | PASS             | PASS              | SKIPPED               | SKIPPED           | SKIPPED              |
+---------------------+--------------------+------------------+-------------------+-----------------------+-------------------+----------------------+
| Debian Bullseye     | PASS               | PASS             | PASS              | SKIPPED               | SKIPPED           | SKIPPED              |
+---------------------+--------------------+------------------+-------------------+-----------------------+-------------------+----------------------+
| Fedora 40 (Clang)   | PASS               | PASS             | PASS              | SKIPPED               | SKIPPED           | SKIPPED              |
+---------------------+--------------------+------------------+-------------------+-----------------------+-------------------+----------------------+
| Debian 12           | PASS               | PASS             | PASS              | SKIPPED               | SKIPPED           | SKIPPED              |
+---------------------+--------------------+------------------+-------------------+-----------------------+-------------------+----------------------+
| Fedora 41           | PASS               | PASS             | PASS              | SKIPPED               | SKIPPED           | SKIPPED              |
+---------------------+--------------------+------------------+-------------------+-----------------------+-------------------+----------------------+
| Fedora 41 (Clang)   | PASS               | PASS             | PASS              | SKIPPED               | SKIPPED           | SKIPPED              |
+---------------------+--------------------+------------------+-------------------+-----------------------+-------------------+----------------------+
| openSUSE Leap 15    | PASS               | SKIPPED          | SKIPPED           | SKIPPED               | SKIPPED           | SKIPPED              |
+---------------------+--------------------+------------------+-------------------+-----------------------+-------------------+----------------------+
| RHEL9               | PASS               | PASS             | SKIPPED           | SKIPPED               | SKIPPED           | SKIPPED              |
+---------------------+--------------------+------------------+-------------------+-----------------------+-------------------+----------------------+
| Ubuntu 20.04        | PASS               | WARN             | SKIPPED           | SKIPPED               | SKIPPED           | SKIPPED              |
+---------------------+--------------------+------------------+-------------------+-----------------------+-------------------+----------------------+
| RHEL8               | PASS               | PASS             | SKIPPED           | SKIPPED               | SKIPPED           | SKIPPED              |
+---------------------+--------------------+------------------+-------------------+-----------------------+-------------------+----------------------+
| Ubuntu 24.04        | PASS               | PASS             | PASS              | SKIPPED               | SKIPPED           | SKIPPED              |
+---------------------+--------------------+------------------+-------------------+-----------------------+-------------------+----------------------+
| Ubuntu 22.04        | PASS               | PASS             | PASS              | SKIPPED               | SKIPPED           | SKIPPED              |
+---------------------+--------------------+------------------+-------------------+-----------------------+-------------------+----------------------+
| FreeBSD 13.4        | PASS               | SKIPPED          | SKIPPED           | SKIPPED               | SKIPPED           | SKIPPED              |
+---------------------+--------------------+------------------+-------------------+-----------------------+-------------------+----------------------+
| Alpine              | PASS               | PASS             | SKIPPED           | SKIPPED               | SKIPPED           | SKIPPED              |
+---------------------+--------------------+------------------+-------------------+-----------------------+-------------------+----------------------+
| FreeBSD 14.2        | PASS               | SKIPPED          | SKIPPED           | SKIPPED               | SKIPPED           | SKIPPED              |
+---------------------+--------------------+------------------+-------------------+-----------------------+-------------------+----------------------+
| Fedora 40           | PASS               | PASS             | PASS              | SKIPPED               | SKIPPED           | SKIPPED              |
+---------------------+--------------------+------------------+-------------------+-----------------------+-------------------+----------------------+
| Windows Server 2022 | SKIPPED            | SKIPPED          | SKIPPED           | PASS                  | PASS              | PASS                 |
+---------------------+--------------------+------------------+-------------------+-----------------------+-------------------+----------------------+

==== 20 line log output for Ubuntu 20.04 (dpdk_compile_ovs): ====
 --- Failed to get log output --- 
==== End log output ====

CentOS Stream 9
	Kernel: Depends on container host
	Compiler: gcc 11.5.0 20240719 (Red Hat 11.5.0-2)

Debian Bullseye
	Kernel: Depends on container host
	Compiler: gcc (Debian 10.2.1-6) 10.2.1 20210110

Fedora 40 (Clang)
	Kernel: Depends on container host
	Compiler: clang 18.1.8 (Fedora 18.1.8-1.fc40)

Debian 12
	Kernel: Depends on container host
	Compiler: gcc (Debian 12.2.0-14) 12.2.0

Fedora 41
	Kernel: Depends on container host
	Compiler: gcc 14.2.1 20240912 (Red Hat 14.2.1-3)

Fedora 41 (Clang)
	Kernel: Depends on container host
	Compiler: clang 19.1.5 (Fedora 19.1.5-1.fc41)

openSUSE Leap 15
	Kernel: Depends on container host
	Compiler: gcc (SUSE Linux) 7.5.0

RHEL9
	Kernel: Depends on container host
	Compiler: gcc 11.5.0 20240719 (Red Hat 11.5.0-2)

Ubuntu 20.04
	Kernel: Depends on container host
	Compiler: gcc (Ubuntu 9.4.0-1ubuntu1~20.04.2) 9.4.0

RHEL8
	Kernel: Depends on container host
	Compiler: gcc 8.5.0 20210514 (Red Hat 8.5.0-22)

Ubuntu 24.04
	Kernel: Depends on container host
	Compiler: gcc (Ubuntu 13.3.0-6ubuntu2~24.04) 13.3.0

Ubuntu 22.04
	Kernel: Depends on container host
	Compiler: gcc (Ubuntu 11.4.0-1ubuntu1~22.04) 11.4.0

FreeBSD 13.4
	Kernel: 13.4-RELEASE-p1
	Compiler: clang 18.1.6

Alpine
	Kernel: Depends on container host
	Compiler: gcc (Alpine 14.2.0) 14.2.0

FreeBSD 14.2
	Kernel: 14.2-RELEASE
	Compiler: clang 18.1.6

Fedora 40
	Kernel: Depends on container host
	Compiler: gcc 14.2.1 20240912 (Red Hat 14.2.1-3)

Windows Server 2022
	Kernel: 10.0.20348.2031
	Compiler: clang 15.0.7, gcc 14.1.0 (MinGW), and MSVC VS 19.39.33521

To view detailed results, visit:
https://lab.dpdk.org/results/dashboard/patchsets/32330/

UNH-IOL DPDK Community Lab

To manage your email subscriptions, visit: 
https://lab.dpdk.org/results/dashboard/preferences/subscriptions/