From mboxrd@z Thu Jan  1 00:00:00 1970
Return-Path: <test-report-bounces@dpdk.org>
Received: from mails.dpdk.org (mails.dpdk.org [217.70.189.124])
	by inbox.dpdk.org (Postfix) with ESMTP id 8266246093
	for <public@inbox.dpdk.org>; Wed, 15 Jan 2025 18:25:06 +0100 (CET)
Received: from mails.dpdk.org (localhost [127.0.0.1])
	by mails.dpdk.org (Postfix) with ESMTP id 7C77A402DA;
	Wed, 15 Jan 2025 18:25:06 +0100 (CET)
Received: from mail-pl1-f225.google.com (mail-pl1-f225.google.com
 [209.85.214.225])
 by mails.dpdk.org (Postfix) with ESMTP id BD54D40298
 for <test-report@dpdk.org>; Wed, 15 Jan 2025 18:25:05 +0100 (CET)
Received: by mail-pl1-f225.google.com with SMTP id
 d9443c01a7336-216728b1836so124769455ad.0
 for <test-report@dpdk.org>; Wed, 15 Jan 2025 09:25:05 -0800 (PST)
DKIM-Signature: v=1; a=rsa-sha256; c=relaxed/relaxed;
 d=iol.unh.edu; s=unh-iol; t=1736961905; x=1737566705; darn=dpdk.org;
 h=references:in-reply-to:cc:to:from:subject:message-id:date:from:to
 :cc:subject:date:message-id:reply-to;
 bh=m6m2bhnqiPCT0UlD6lIkFSNlALF0bM+utZ7+Sk3YbFM=;
 b=dN7qtvaG5FKBqSkAVJ0RtI18YNZQ46QgR1SQX2vP3ksIRPBOUHCN7mw7Hry05FnE4K
 bJQ/ayIwuClgL+tUCwz5HZ8RL1S0cOVhftEx+A70qjEgcpOZM/au1UT6MLVRlq5EPaV1
 VomjwEGDuCWCnJVhC8XCj2xXs+tUhbxWfZtxE=
X-Google-DKIM-Signature: v=1; a=rsa-sha256; c=relaxed/relaxed;
 d=1e100.net; s=20230601; t=1736961905; x=1737566705;
 h=references:in-reply-to:cc:to:from:subject:message-id:date
 :x-gm-message-state:from:to:cc:subject:date:message-id:reply-to;
 bh=m6m2bhnqiPCT0UlD6lIkFSNlALF0bM+utZ7+Sk3YbFM=;
 b=c6m5R3u0hzhuHxzVqDJU2xin5rDRj0j6qdmPS15eULZ9gWzkq63KsRtexUaBame8I9
 pLE8qeL8ljr+Uf+XpjeAHCbmUGxlSmzPqaooICxIX/jJY23cGXJAxrnTwPFmaXxRGHCg
 iizugwJOfwEe7xjfDLPe9Qx9oYYsLFNxi8jufGS+h8cFw5YFgAPM8gVS/mQLwsuvM2cQ
 T1JSPcSnJ1dUiNfA92tKC+ZOs/iwTtHjFHE6m4mxCfwq8ka033hQje6oZEPedWQXkUvP
 yPj9OQ6vQGyZxQdO4kE8jrvMStpaJZanixEteSzSc2uiIsnDato6OLbdfO5r5IirE5Kf
 InCQ==
X-Gm-Message-State: AOJu0YxGwNaja3G9kw/ZwwNU+208kkWKv6e6BbzHXhPrOOjOcDz0rvuh
 kd/buYIFeMRV057PHh0/ebb86CgHwDzKGGNpgxKNxhEQfPsIg1wK42SrYcPwc+Mgw4Yd8GJmCar
 VPzp1/d6tgXXKq2o0Ob91MFh/lZ3Lf4Fs4PA5h+gRLoiAzOGb0q2ybNxP
X-Gm-Gg: ASbGncuGrhTud68fh91S0ZOVWDoV/y0oUYzWnSQ/JHzMmrUevUgwJBMAw540WlGUzAN
 UTDlopLMhr6tlfjtr0j5ZreGysJBkJeWlkeP9tp2PBMXzfXLrTc2rYhfpDhbvXsuIS2auZrlfP3
 4oCiQYYqt5UITe+O1g7eqpUHR9ySiJqmGM/riQwH0VGmsHNBMiHC99uqS4aniHkcl0nVLb8NwXu
 O1Izoopz6RqVyrauPyMkJ3/rSWOBtq0Be1aVvOjKMi+A4M+segOXzbkcwphfxfMSpsPvidlmukg
 vRwWc5BK2nHutjPuVQ==
X-Google-Smtp-Source: AGHT+IFwG6J7RyrtGyjF9ILBeKQsCCXyH74c7vvUuplvH0cKP/isdqqQS4br/YqNnK8o3lqEyXqsAeH2DsZu
X-Received: by 2002:a17:902:d2d2:b0:215:b9a6:5cb9 with SMTP id
 d9443c01a7336-21a83f439b0mr459796685ad.5.1736961904842; 
 Wed, 15 Jan 2025 09:25:04 -0800 (PST)
Received: from postal.iol.unh.edu (postal.iol.unh.edu.
 [2606:4100:3880:1234::84]) by smtp-relay.gmail.com with ESMTPS id
 d9443c01a7336-21a9f38dd98sm5262555ad.94.2025.01.15.09.25.04
 (version=TLS1_2 cipher=ECDHE-ECDSA-AES128-GCM-SHA256 bits=128/128);
 Wed, 15 Jan 2025 09:25:04 -0800 (PST)
X-Relaying-Domain: iol.unh.edu
Date: Wed, 15 Jan 2025 09:25:04 -0800 (PST)
Message-ID: <6787ef70.170a0220.b394.5efbSMTPIN_ADDED_MISSING@mx.google.com>
Received: from [172.21.0.6] (unknown [172.18.0.240])
 by postal.iol.unh.edu (Postfix) with ESMTP id 06E3A6052471;
 Wed, 15 Jan 2025 12:25:04 -0500 (EST)
Subject: |SUCCESS| pw150099-150102 [PATCH] [v2,4/4] vhost: improve RARP handl
From: dpdklab@iol.unh.edu
To: Test Report <test-report@dpdk.org>
Cc: dpdk-test-reports@iol.unh.edu
In-Reply-To: <20250115125938.2699577-5-maxime.coquelin@redhat.com>
References: <20250115125938.2699577-5-maxime.coquelin@redhat.com>
Content-Type: text/plain
X-BeenThere: test-report@dpdk.org
X-Mailman-Version: 2.1.29
Precedence: list
List-Id: automatic DPDK test reports <test-report.dpdk.org>
List-Unsubscribe: <https://mails.dpdk.org/options/test-report>,
 <mailto:test-report-request@dpdk.org?subject=unsubscribe>
List-Archive: <http://mails.dpdk.org/archives/test-report/>
List-Post: <mailto:test-report@dpdk.org>
List-Help: <mailto:test-report-request@dpdk.org?subject=help>
List-Subscribe: <https://mails.dpdk.org/listinfo/test-report>,
 <mailto:test-report-request@dpdk.org?subject=subscribe>
Errors-To: test-report-bounces@dpdk.org

Test-Label: iol-sample-apps-testing
Test-Status: SUCCESS
http://dpdk.org/patch/150102

_Testing PASS_

Submitter: Maxime Coquelin <maxime.coquelin@redhat.com>
Date: Wednesday, January 15 2025 12:59:38 
DPDK git baseline: Repo:dpdk
  Branch: master
  CommitID:07604f264417959d76aa9fcb8cb0c3665f62f0d3

150099-150102 --> testing pass

Upstream job id: ACVP-FIPS-testing#8561

Test environment and result as below:

+--------------------+----------------------+----------------------+
|    Environment     | compressdev_zlib_pmd | dpdk_fips_validation |
+====================+======================+======================+
| Ubuntu 22.04 (ARM) | PASS                 | SKIPPED              |
+--------------------+----------------------+----------------------+
| Ubuntu 22.04       | PASS                 | SKIPPED              |
+--------------------+----------------------+----------------------+
| Ubuntu 20.04       | SKIPPED              | PASS                 |
+--------------------+----------------------+----------------------+


Ubuntu 22.04 (ARM)
	Kernel: 5.15.0-97-generic
	Compiler: gcc gcc (Ubuntu 11.4.0-1ubuntu1~22.04) 11.4.0

Ubuntu 22.04
	Kernel: 5.15.0-100-generic
	Compiler: gcc gcc (Ubuntu 11.4.0-1ubuntu1~22.04) 11.4.0

Ubuntu 20.04
	Kernel: Depends on container host
	Compiler: gcc (Ubuntu 9.4.0-1ubuntu1~20.04.2) 9.4.0

To view detailed results, visit:
https://lab.dpdk.org/results/dashboard/patchsets/32330/

UNH-IOL DPDK Community Lab

To manage your email subscriptions, visit: 
https://lab.dpdk.org/results/dashboard/preferences/subscriptions/