From mboxrd@z Thu Jan  1 00:00:00 1970
Return-Path: <test-report-bounces@dpdk.org>
Received: from mails.dpdk.org (mails.dpdk.org [217.70.189.124])
	by inbox.dpdk.org (Postfix) with ESMTP id C110246096
	for <public@inbox.dpdk.org>; Thu, 16 Jan 2025 12:26:12 +0100 (CET)
Received: from mails.dpdk.org (localhost [127.0.0.1])
	by mails.dpdk.org (Postfix) with ESMTP id BDA2C402C2;
	Thu, 16 Jan 2025 12:26:12 +0100 (CET)
Received: from mail-qv1-f97.google.com (mail-qv1-f97.google.com
 [209.85.219.97]) by mails.dpdk.org (Postfix) with ESMTP id A957B4025F
 for <test-report@dpdk.org>; Thu, 16 Jan 2025 12:26:11 +0100 (CET)
Received: by mail-qv1-f97.google.com with SMTP id
 6a1803df08f44-6d8a3e99e32so8261076d6.2
 for <test-report@dpdk.org>; Thu, 16 Jan 2025 03:26:11 -0800 (PST)
DKIM-Signature: v=1; a=rsa-sha256; c=relaxed/relaxed;
 d=iol.unh.edu; s=unh-iol; t=1737026771; x=1737631571; darn=dpdk.org;
 h=references:in-reply-to:cc:to:from:subject:message-id:date:from:to
 :cc:subject:date:message-id:reply-to;
 bh=VJ0g9oDMISdHLVKBlgLT++yFSMVITUtfo5AQV0g1kDc=;
 b=FSjH0KeG6nFZz2Z27goDJk6QKh0LaqKJQev+5EN7nPg4Q+XJiuBo3F60cImhw8QXkv
 lBw6WYWshSQcj5xfMgK390T0EJ90Bm+YU9dkeqxc6ZtoewpXjpW+oQKk6nLdyc3VVcY6
 wegapD6aCrZcDr+izQowCGPrCOFJNnTHpDcXE=
X-Google-DKIM-Signature: v=1; a=rsa-sha256; c=relaxed/relaxed;
 d=1e100.net; s=20230601; t=1737026771; x=1737631571;
 h=references:in-reply-to:cc:to:from:subject:message-id:date
 :x-gm-message-state:from:to:cc:subject:date:message-id:reply-to;
 bh=VJ0g9oDMISdHLVKBlgLT++yFSMVITUtfo5AQV0g1kDc=;
 b=g4MgvEj77U/iNdWCxcURCoGVwAOFDkASx+OmMo9Xa+flNrd6L5u6WggbTrCnXi2DlV
 evNm35vl37wqjo5D8ZQPUlbVk8Smg+pI1CxQHSgtWdm6gvvfzijeimHLaZ+z2qyHk66p
 2p4tLd6PUrFRE88mndgaoxCP//WxiIj0N89j873wQH86SwAp+MreJY8kcE5K9smAgHt8
 wHsX6tq2bIMkPv+z0oeTLoxXDxKIh9XZmDDBU3lemmbA7rzAGBiPdyYTvKR6TnHN5S49
 2fOF+kIUeP/kPAPB7CQkbyM/ONOTJOlHSCtN/ZcTyUV7CeRm0/xeMo2+bsrv26dWipW7
 9pXw==
X-Gm-Message-State: AOJu0YyZGuqf6wFbxMdA1LbsUTZ10vLGVN3sVKqifkAA0Ro27RrMND9k
 0buiVFPQ0DJAv8oXYJjWJGphWzsLpD/Z5zjuNEXo7XR25Z9I0qZpqnwd0tzdeG5YlDrT8F2KPSE
 MyehIbSKdyvXYGHzZqDw5svaN+71jWeoMepieYO5q
X-Gm-Gg: ASbGncu1m/C84x9lZ3WI131mBTn33FqN7c1hGbmuoZbVFE5MVxadACnGpUkGBonB+/k
 EjGP6W6Lqa7Q6v88ycYJahBiuFQxSh5szJZemxoPWPjPYCs3oUWvmnhbuiq0vlcpHX4e5kKLGkk
 ousEmWrkjL70yXfkygiMj08aXrYQysclQ/jjA8c2lKS9Fsnp+nOkLveXjXH98pzRXWe6m0aXojc
 4KcHRzo2QlVjPN142QWnWw/1/TZNG0sT6qZ/a6ReRV3ukOClm/sIT9iccxPDazlhQv8AhUci9lS
 FK4WiQ==
X-Google-Smtp-Source: AGHT+IFriKkSWitgpdaVRFAUyL9QvmBpNFCo/TrP4Aw4e+MshjNbjCi+OV/Q0OwJSED4dx7ETDRH58uK1754
X-Received: by 2002:a05:6214:e83:b0:6d4:3437:d858 with SMTP id
 6a1803df08f44-6df9b22e404mr509951326d6.25.1737026771065; 
 Thu, 16 Jan 2025 03:26:11 -0800 (PST)
Received: from postal.iol.unh.edu (postal.iol.unh.edu. [132.177.123.84])
 by smtp-relay.gmail.com with ESMTPS id
 6a1803df08f44-6dfadc04e5asm8711316d6.35.2025.01.16.03.26.10
 (version=TLS1_2 cipher=ECDHE-ECDSA-AES128-GCM-SHA256 bits=128/128);
 Thu, 16 Jan 2025 03:26:11 -0800 (PST)
X-Relaying-Domain: iol.unh.edu
Date: Thu, 16 Jan 2025 03:26:11 -0800 (PST)
Message-ID: <6788ecd3.050a0220.8f36e.df8dSMTPIN_ADDED_MISSING@mx.google.com>
Received: from [172.21.0.5] (unknown [172.18.0.240])
 by postal.iol.unh.edu (Postfix) with ESMTP id B03C26052471;
 Thu, 16 Jan 2025 06:26:10 -0500 (EST)
Subject: |SUCCESS| pw150122-150136 [PATCH] [v7,15/15] net/zxdh: mtu update op
From: dpdklab@iol.unh.edu
To: Test Report <test-report@dpdk.org>
Cc: dpdk-test-reports@iol.unh.edu
In-Reply-To: <20250116021100.2767122-16-wang.junlong1@zte.com.cn>
References: <20250116021100.2767122-16-wang.junlong1@zte.com.cn>
Content-Type: text/plain
X-BeenThere: test-report@dpdk.org
X-Mailman-Version: 2.1.29
Precedence: list
List-Id: automatic DPDK test reports <test-report.dpdk.org>
List-Unsubscribe: <https://mails.dpdk.org/options/test-report>,
 <mailto:test-report-request@dpdk.org?subject=unsubscribe>
List-Archive: <http://mails.dpdk.org/archives/test-report/>
List-Post: <mailto:test-report@dpdk.org>
List-Help: <mailto:test-report-request@dpdk.org?subject=help>
List-Subscribe: <https://mails.dpdk.org/listinfo/test-report>,
 <mailto:test-report-request@dpdk.org?subject=subscribe>
Errors-To: test-report-bounces@dpdk.org

Test-Label: iol-unit-amd64-testing
Test-Status: SUCCESS
http://dpdk.org/patch/150136

_Testing PASS_

Submitter: Junlong Wang <wang.junlong1@zte.com.cn>
Date: Thursday, January 16 2025 02:11:00 
DPDK git baseline: Repo:dpdk
  Branch: master
  CommitID:167adc84d05c732af3c47dd569f152fa4ba234d6

150122-150136 --> testing pass

Upstream job id: Generic-Unit-Test-DPDK#306423

Test environment and result as below:

+---------------------+----------------+
|     Environment     | dpdk_unit_test |
+=====================+================+
| CentOS Stream 9     | PASS           |
+---------------------+----------------+
| Fedora 40           | PASS           |
+---------------------+----------------+
| Fedora 40 (Clang)   | PASS           |
+---------------------+----------------+
| Debian 12           | PASS           |
+---------------------+----------------+
| Debian Bullseye     | PASS           |
+---------------------+----------------+
| RHEL9               | PASS           |
+---------------------+----------------+
| RHEL8               | PASS           |
+---------------------+----------------+
| Ubuntu 22.04        | PASS           |
+---------------------+----------------+
| Fedora 41           | PASS           |
+---------------------+----------------+
| Fedora 41 (Clang)   | PASS           |
+---------------------+----------------+
| Ubuntu 20.04        | PASS           |
+---------------------+----------------+
| Ubuntu 24.04        | PASS           |
+---------------------+----------------+
| Windows Server 2022 | PASS           |
+---------------------+----------------+


CentOS Stream 9
	Kernel: Depends on container host
	Compiler: gcc 11.5.0 20240719 (Red Hat 11.5.0-2)

Fedora 40
	Kernel: Depends on container host
	Compiler: gcc 14.2.1 20240912 (Red Hat 14.2.1-3)

Fedora 40 (Clang)
	Kernel: Depends on container host
	Compiler: clang 18.1.8 (Fedora 18.1.8-1.fc40)

Debian 12
	Kernel: Depends on container host
	Compiler: gcc (Debian 12.2.0-14) 12.2.0

Debian Bullseye
	Kernel: Depends on container host
	Compiler: gcc (Debian 10.2.1-6) 10.2.1 20210110

RHEL9
	Kernel: Depends on container host
	Compiler: gcc 11.5.0 20240719 (Red Hat 11.5.0-2)

RHEL8
	Kernel: Depends on container host
	Compiler: gcc 8.5.0 20210514 (Red Hat 8.5.0-22)

Ubuntu 22.04
	Kernel: Depends on container host
	Compiler: gcc (Ubuntu 11.4.0-1ubuntu1~22.04) 11.4.0

Fedora 41
	Kernel: Depends on container host
	Compiler: gcc 14.2.1 20240912 (Red Hat 14.2.1-3)

Fedora 41 (Clang)
	Kernel: Depends on container host
	Compiler: clang 19.1.5 (Fedora 19.1.5-1.fc41)

Ubuntu 20.04
	Kernel: Depends on container host
	Compiler: gcc (Ubuntu 9.4.0-1ubuntu1~20.04.2) 9.4.0

Ubuntu 24.04
	Kernel: Depends on container host
	Compiler: gcc (Ubuntu 13.3.0-6ubuntu2~24.04) 13.3.0

Windows Server 2022
	Kernel: 10.0.20348.2031
	Compiler: clang 15.0.7, gcc 14.1.0 (MinGW), and MSVC VS 19.39.33521

To view detailed results, visit:
https://lab.dpdk.org/results/dashboard/patchsets/32339/

UNH-IOL DPDK Community Lab

To manage your email subscriptions, visit: 
https://lab.dpdk.org/results/dashboard/preferences/subscriptions/