From mboxrd@z Thu Jan  1 00:00:00 1970
Return-Path: <test-report-bounces@dpdk.org>
Received: from mails.dpdk.org (mails.dpdk.org [217.70.189.124])
	by inbox.dpdk.org (Postfix) with ESMTP id 6A4054609E
	for <public@inbox.dpdk.org>; Thu, 16 Jan 2025 14:53:52 +0100 (CET)
Received: from mails.dpdk.org (localhost [127.0.0.1])
	by mails.dpdk.org (Postfix) with ESMTP id 8E5344066A;
	Thu, 16 Jan 2025 14:53:51 +0100 (CET)
Received: from mail-qt1-f227.google.com (mail-qt1-f227.google.com
 [209.85.160.227])
 by mails.dpdk.org (Postfix) with ESMTP id 86FB840668
 for <test-report@dpdk.org>; Thu, 16 Jan 2025 14:53:50 +0100 (CET)
Received: by mail-qt1-f227.google.com with SMTP id
 d75a77b69052e-467a3f1e667so6275231cf.0
 for <test-report@dpdk.org>; Thu, 16 Jan 2025 05:53:50 -0800 (PST)
DKIM-Signature: v=1; a=rsa-sha256; c=relaxed/relaxed;
 d=iol.unh.edu; s=unh-iol; t=1737035630; x=1737640430; darn=dpdk.org;
 h=references:in-reply-to:cc:to:from:subject:message-id:date:from:to
 :cc:subject:date:message-id:reply-to;
 bh=U6oIZlDhOD7YJLI4pbxsRbJxP47NFw9u2nSNL+iigxE=;
 b=h6PfVT6SM/lyoKt1EIOuxBIzEEo6NZg9wq9/NqNjTq7Dxccfszy80B4AZGDmlQKX9p
 eeHe7h2Rx0rhBu+mQ3v2yPTkDbZ1WCXITWoy5bT9Jc0m9fMtOYRADTfkZCx9/BBeY+V8
 /9DWXbEptfWpd9cyPxTuSfXvymB19v+ZsGUdM=
X-Google-DKIM-Signature: v=1; a=rsa-sha256; c=relaxed/relaxed;
 d=1e100.net; s=20230601; t=1737035630; x=1737640430;
 h=references:in-reply-to:cc:to:from:subject:message-id:date
 :x-gm-message-state:from:to:cc:subject:date:message-id:reply-to;
 bh=U6oIZlDhOD7YJLI4pbxsRbJxP47NFw9u2nSNL+iigxE=;
 b=HtEYZ+yv9rEh2MbwYTP/GBtBwKOPWKHNakqWWbMWDJYh/GF7wr5b0zqYxZxdDQG1TE
 J+wPSRbji96BD9JArodXIDVlCUdY7vfBixE80uIcE0eGJr5j8VykhPAOZQME6keffF/e
 pG0hbiKMjquW0xHF//Fgibas25ox+zzwCUVhKBC7i0fuo9yCF9SCjr1/FdX5/VzQ8/jD
 jbzHN8Agja4Sv8Wm0/e1NrxEYX7UG33HYlhxHv5HwlmTlgsWlVdUwRo0lI0xE1VV1z35
 gvU3Mre8/OzntpdM24TGG827t9vmULyFmoHftUs39Wt9GT6UO2YN/G5CjofcuJ9gu4tn
 khqA==
X-Gm-Message-State: AOJu0Yy6Q2E2e7grb8We2+pFne1SmC/BttHfSYgBp8DXVe5+nTOkOfNA
 oHs3tW8pxhC9k+dqXy5tVKscYACsxNRNB8hJVbc9kOxlkHtnbZUwmoi7g5SJ7Im/qRNvWJ9jG2W
 DXJIwS+ZnlSIktF3pjgI86pd+vOrflVUT7S2q/NZoffnl+kOuA1TNUc2n
X-Gm-Gg: ASbGnctbyxjn5q/yH7dmwB7q8iCYbPDgPB/NMUJeigba8uNL/Ov0P+UutZ0+GByyDdg
 JcVFCMncM/Qkzw4yE6Ha17M2g+ikGx3fBcYvbdpdDu+BERD7ILWVqgYf1OvWBFV6BUMF0ngiUc+
 J6o+XLwpt2hOh6wjrwJTWok/cAkKDSmMrnTI8io1YopAdi3GlDJv13dkYY6SW/C05s2w4Pto+lT
 hLNbB7G3GMfu8bcDM11fxR+nFLj4QtpJOD1KiO9KvhgSMQLJQz9esjIok0L0ptdy5vrRmbplLoC
 kUKUaODSyXJT+9XbCQ==
X-Google-Smtp-Source: AGHT+IG18fBrw6/SKJzNrbH8qXiUyWpz/UoetD3yLZTSssDBRt5Vqr9pGxHhyY7K6cG++wi7UQODzprrKwhC
X-Received: by 2002:a05:622a:2505:b0:467:67db:ef7f with SMTP id
 d75a77b69052e-46c710e172dmr606615771cf.39.1737035629872; 
 Thu, 16 Jan 2025 05:53:49 -0800 (PST)
Received: from postal.iol.unh.edu (postal.iol.unh.edu.
 [2606:4100:3880:1234::84]) by smtp-relay.gmail.com with ESMTPS id
 d75a77b69052e-46c873f0233sm4399051cf.16.2025.01.16.05.53.49
 (version=TLS1_2 cipher=ECDHE-ECDSA-AES128-GCM-SHA256 bits=128/128);
 Thu, 16 Jan 2025 05:53:49 -0800 (PST)
X-Relaying-Domain: iol.unh.edu
Date: Thu, 16 Jan 2025 05:53:49 -0800 (PST)
Message-ID: <67890f6d.050a0220.397042.16dfSMTPIN_ADDED_MISSING@mx.google.com>
Received: from [172.21.0.6] (unknown [172.18.0.240])
 by postal.iol.unh.edu (Postfix) with ESMTP id 81A756052471;
 Thu, 16 Jan 2025 08:53:49 -0500 (EST)
Subject: |SUCCESS| pw150141-150142 [PATCH] [v2,2/2] ethdev: fix some function
From: dpdklab@iol.unh.edu
To: Test Report <test-report@dpdk.org>
Cc: dpdk-test-reports@iol.unh.edu
In-Reply-To: <20250116114034.9858-3-lihuisong@huawei.com>
References: <20250116114034.9858-3-lihuisong@huawei.com>
Content-Type: text/plain
X-BeenThere: test-report@dpdk.org
X-Mailman-Version: 2.1.29
Precedence: list
List-Id: automatic DPDK test reports <test-report.dpdk.org>
List-Unsubscribe: <https://mails.dpdk.org/options/test-report>,
 <mailto:test-report-request@dpdk.org?subject=unsubscribe>
List-Archive: <http://mails.dpdk.org/archives/test-report/>
List-Post: <mailto:test-report@dpdk.org>
List-Help: <mailto:test-report-request@dpdk.org?subject=help>
List-Subscribe: <https://mails.dpdk.org/listinfo/test-report>,
 <mailto:test-report-request@dpdk.org?subject=subscribe>
Errors-To: test-report-bounces@dpdk.org

Test-Label: iol-unit-amd64-testing
Test-Status: SUCCESS
http://dpdk.org/patch/150142

_Testing PASS_

Submitter: Huisong Li <lihuisong@huawei.com>
Date: Thursday, January 16 2025 11:40:34 
DPDK git baseline: Repo:dpdk
  Branch: master
  CommitID:167adc84d05c732af3c47dd569f152fa4ba234d6

150141-150142 --> testing pass

Upstream job id: Generic-VM-Unit-Test-DPDK#26895

Test environment and result as below:

+---------------------+----------------+
|     Environment     | dpdk_unit_test |
+=====================+================+
| Debian Bullseye     | PASS           |
+---------------------+----------------+
| CentOS Stream 9     | PASS           |
+---------------------+----------------+
| Debian 12           | PASS           |
+---------------------+----------------+
| Fedora 40           | PASS           |
+---------------------+----------------+
| RHEL8               | PASS           |
+---------------------+----------------+
| Fedora 41           | PASS           |
+---------------------+----------------+
| Fedora 41 (Clang)   | PASS           |
+---------------------+----------------+
| Fedora 40 (Clang)   | PASS           |
+---------------------+----------------+
| RHEL9               | PASS           |
+---------------------+----------------+
| Ubuntu 22.04        | PASS           |
+---------------------+----------------+
| Ubuntu 20.04        | PASS           |
+---------------------+----------------+
| Ubuntu 24.04        | PASS           |
+---------------------+----------------+
| Windows Server 2022 | PASS           |
+---------------------+----------------+


Debian Bullseye
	Kernel: Depends on container host
	Compiler: gcc (Debian 10.2.1-6) 10.2.1 20210110

CentOS Stream 9
	Kernel: Depends on container host
	Compiler: gcc 11.5.0 20240719 (Red Hat 11.5.0-2)

Debian 12
	Kernel: Depends on container host
	Compiler: gcc (Debian 12.2.0-14) 12.2.0

Fedora 40
	Kernel: Depends on container host
	Compiler: gcc 14.2.1 20240912 (Red Hat 14.2.1-3)

RHEL8
	Kernel: Depends on container host
	Compiler: gcc 8.5.0 20210514 (Red Hat 8.5.0-22)

Fedora 41
	Kernel: Depends on container host
	Compiler: gcc 14.2.1 20240912 (Red Hat 14.2.1-3)

Fedora 41 (Clang)
	Kernel: Depends on container host
	Compiler: clang 19.1.5 (Fedora 19.1.5-1.fc41)

Fedora 40 (Clang)
	Kernel: Depends on container host
	Compiler: clang 18.1.8 (Fedora 18.1.8-1.fc40)

RHEL9
	Kernel: Depends on container host
	Compiler: gcc 11.5.0 20240719 (Red Hat 11.5.0-2)

Ubuntu 22.04
	Kernel: Depends on container host
	Compiler: gcc (Ubuntu 11.4.0-1ubuntu1~22.04) 11.4.0

Ubuntu 20.04
	Kernel: Depends on container host
	Compiler: gcc (Ubuntu 9.4.0-1ubuntu1~20.04.2) 9.4.0

Ubuntu 24.04
	Kernel: Depends on container host
	Compiler: gcc (Ubuntu 13.3.0-6ubuntu2~24.04) 13.3.0

Windows Server 2022
	Kernel: 10.0.20348.2031
	Compiler: clang 15.0.7, gcc 14.1.0 (MinGW), and MSVC VS 19.39.33521

To view detailed results, visit:
https://lab.dpdk.org/results/dashboard/patchsets/32342/

UNH-IOL DPDK Community Lab

To manage your email subscriptions, visit: 
https://lab.dpdk.org/results/dashboard/preferences/subscriptions/