From mboxrd@z Thu Jan  1 00:00:00 1970
Return-Path: <test-report-bounces@dpdk.org>
Received: from mails.dpdk.org (mails.dpdk.org [217.70.189.124])
	by inbox.dpdk.org (Postfix) with ESMTP id C743E46030
	for <public@inbox.dpdk.org>; Thu, 16 Jan 2025 16:23:48 +0100 (CET)
Received: from mails.dpdk.org (localhost [127.0.0.1])
	by mails.dpdk.org (Postfix) with ESMTP id B873540696;
	Thu, 16 Jan 2025 16:23:48 +0100 (CET)
Received: from mail-pl1-f226.google.com (mail-pl1-f226.google.com
 [209.85.214.226])
 by mails.dpdk.org (Postfix) with ESMTP id 7185C40695
 for <test-report@dpdk.org>; Thu, 16 Jan 2025 16:23:47 +0100 (CET)
Received: by mail-pl1-f226.google.com with SMTP id
 d9443c01a7336-216426b0865so19206335ad.0
 for <test-report@dpdk.org>; Thu, 16 Jan 2025 07:23:47 -0800 (PST)
DKIM-Signature: v=1; a=rsa-sha256; c=relaxed/relaxed;
 d=iol.unh.edu; s=unh-iol; t=1737041026; x=1737645826; darn=dpdk.org;
 h=references:in-reply-to:cc:to:from:subject:message-id:date:from:to
 :cc:subject:date:message-id:reply-to;
 bh=nYkyLstXFyoXmHk2JUfUc6OGTMz2jGxTz85EEGTOJOw=;
 b=Xdq9nlwfUCsmPkRkVnfx6XheOKIjsuY4Qcu7quuBzB1GaM0yzVpZUXNQinJOhVIntm
 M03Vr0QxvpwjsXSbsjaiZ/8g9xGHw7ePlKqp4AjhAvAMx2YnadxUI5tq0AfCte6TzHXj
 Onlw7XRzaOH/DIULqHrOCZpkUzwAizZeipq+8=
X-Google-DKIM-Signature: v=1; a=rsa-sha256; c=relaxed/relaxed;
 d=1e100.net; s=20230601; t=1737041026; x=1737645826;
 h=references:in-reply-to:cc:to:from:subject:message-id:date
 :x-gm-message-state:from:to:cc:subject:date:message-id:reply-to;
 bh=nYkyLstXFyoXmHk2JUfUc6OGTMz2jGxTz85EEGTOJOw=;
 b=NS1h137QkCWhSBY9mESAvbpGEoD8KBhpYfYjSo8DQHEP1nzdH3DqxyZHoR4qxss0U4
 uSh5PLi81MttA7p8+nOc64htD3Rw1R3wQ/RkdL4mlkedWqCL1kBhFLlJJ9Sm/aUJu6W5
 4L85ryNRXGVdFpELAmba6O86m3u9J90FdIu2CovqquOnirHzOYq+y+4BHN4DsLE7Zfqy
 ruTgr3/J0GwQxQgIMLTnZx6wKFtOmkfJrQ+OsZUs1fUb3MgYN/VW5llj4s5fnRj5+xYl
 sjIRPxAqKZHB+ETpnFmXKNmTipZp2hr17IEZXjhK4ytTjoAw/YbHzhMcOFpWDGhQRorb
 +BnQ==
X-Gm-Message-State: AOJu0YyBUVD6t+NYOfDJWVzQSDCkYwXnpizRqCXOpyLE1JfPMSMVAC/H
 7kXWn7X06TvYIbG3agosmQ1XDW0SdELcre8z038Ndi3j1/05lwqnbOWU1QEEi1DaSXf487c0yPP
 MSef9N0ocI68KwzdCGdxKkMlUtJSXpNMvpm8vYrDo
X-Gm-Gg: ASbGncvf8r9srxwEOuhH8EeZfMpI16J5ceA6cDG15HBrI7VugV2t00v85pqKv+i74Z2
 rvbz2DUg6T3l/5/y8H5XGeFq4AmXtGwHuvM4UxcYtyeB5nnK/4aPe7qOVIxN8IbwNlTnusug333
 Xif/nNyqTlXTgNGlNT9as/zQWNIuDL1eV9TT3ZFZTZeKnnQOSS2VaIrhx7W77mPSq82kCUcCzcn
 I4eOeJJltqdJyk1+ddJ8ROc3tBGWF3Ur4f9lgRsQUD29zWo9OgX6zd/3/v+j6shIgtb6kD9O/DV
 OBv+7Q==
X-Google-Smtp-Source: AGHT+IHkr4Qlx+L/RmJa8F5ukPGPzEkS0BGBQnfvKDGv55fnVjGCKMXxq6JOjq0wsY5t977hbBVbcVn5sY8Y
X-Received: by 2002:a17:903:41c4:b0:215:7cde:7fa3 with SMTP id
 d9443c01a7336-21a83f626e8mr482560865ad.25.1737041026474; 
 Thu, 16 Jan 2025 07:23:46 -0800 (PST)
Received: from postal.iol.unh.edu (postal.iol.unh.edu. [132.177.123.84])
 by smtp-relay.gmail.com with ESMTPS id
 d9443c01a7336-21c2d3efcfbsm72765ad.88.2025.01.16.07.23.46
 (version=TLS1_2 cipher=ECDHE-ECDSA-AES128-GCM-SHA256 bits=128/128);
 Thu, 16 Jan 2025 07:23:46 -0800 (PST)
X-Relaying-Domain: iol.unh.edu
Date: Thu, 16 Jan 2025 07:23:46 -0800 (PST)
Message-ID: <67892482.170a0220.17c7f6.0790SMTPIN_ADDED_MISSING@mx.google.com>
Received: from [172.17.0.4] (unknown [172.18.0.217])
 by postal.iol.unh.edu (Postfix) with ESMTP id 9BF536052471;
 Thu, 16 Jan 2025 10:23:45 -0500 (EST)
Subject: |SUCCESS| pw150143-150144 [PATCH] [v1,2/2] dts: add verify to match 
From: dpdklab@iol.unh.edu
To: Test Report <test-report@dpdk.org>
Cc: dpdk-test-reports@iol.unh.edu
In-Reply-To: <20250116131615.196053-3-thomas.wilks@arm.com>
References: <20250116131615.196053-3-thomas.wilks@arm.com>
Content-Type: text/plain
X-BeenThere: test-report@dpdk.org
X-Mailman-Version: 2.1.29
Precedence: list
List-Id: automatic DPDK test reports <test-report.dpdk.org>
List-Unsubscribe: <https://mails.dpdk.org/options/test-report>,
 <mailto:test-report-request@dpdk.org?subject=unsubscribe>
List-Archive: <http://mails.dpdk.org/archives/test-report/>
List-Post: <mailto:test-report@dpdk.org>
List-Help: <mailto:test-report-request@dpdk.org?subject=help>
List-Subscribe: <https://mails.dpdk.org/listinfo/test-report>,
 <mailto:test-report-request@dpdk.org?subject=subscribe>
Errors-To: test-report-bounces@dpdk.org

Test-Label: iol-abi-testing
Test-Status: SUCCESS
http://dpdk.org/patch/150144

_Testing PASS_

Submitter: Thomas Wilks <thomas.wilks@arm.com>
Date: Thursday, January 16 2025 13:16:15 
DPDK git baseline: Repo:dpdk
  Branch: master
  CommitID:154303b06ab29e040000f0536961601d952e2974

150143-150144 --> testing pass

Upstream job id: Generic-DPDK-Compile-ABI#112592

Test environment and result as below:

+-------------------+----------+
|    Environment    | abi_test |
+===================+==========+
| CentOS Stream 9   | PASS     |
+-------------------+----------+
| Fedora 40         | PASS     |
+-------------------+----------+
| Fedora 40 (Clang) | PASS     |
+-------------------+----------+
| Debian 12         | PASS     |
+-------------------+----------+
| Ubuntu 22.04      | PASS     |
+-------------------+----------+
| Fedora 41 (Clang) | PASS     |
+-------------------+----------+
| RHEL9             | PASS     |
+-------------------+----------+
| Fedora 41         | PASS     |
+-------------------+----------+
| openSUSE Leap 15  | PASS     |
+-------------------+----------+
| RHEL8             | PASS     |
+-------------------+----------+
| Ubuntu 24.04      | PASS     |
+-------------------+----------+


CentOS Stream 9
	Kernel: Depends on container host
	Compiler: gcc 11.5.0 20240719 (Red Hat 11.5.0-2)

Fedora 40
	Kernel: Depends on container host
	Compiler: gcc 14.2.1 20240912 (Red Hat 14.2.1-3)

Fedora 40 (Clang)
	Kernel: Depends on container host
	Compiler: clang 18.1.8 (Fedora 18.1.8-1.fc40)

Debian 12
	Kernel: Depends on container host
	Compiler: gcc (Debian 12.2.0-14) 12.2.0

Ubuntu 22.04
	Kernel: Depends on container host
	Compiler: gcc (Ubuntu 11.4.0-1ubuntu1~22.04) 11.4.0

Fedora 41 (Clang)
	Kernel: Depends on container host
	Compiler: clang 19.1.5 (Fedora 19.1.5-1.fc41)

RHEL9
	Kernel: Depends on container host
	Compiler: gcc 11.5.0 20240719 (Red Hat 11.5.0-2)

Fedora 41
	Kernel: Depends on container host
	Compiler: gcc 14.2.1 20240912 (Red Hat 14.2.1-3)

openSUSE Leap 15
	Kernel: Depends on container host
	Compiler: gcc (SUSE Linux) 7.5.0

RHEL8
	Kernel: Depends on container host
	Compiler: gcc 8.5.0 20210514 (Red Hat 8.5.0-22)

Ubuntu 24.04
	Kernel: Depends on container host
	Compiler: gcc (Ubuntu 13.3.0-6ubuntu2~24.04) 13.3.0

To view detailed results, visit:
https://lab.dpdk.org/results/dashboard/patchsets/32343/

UNH-IOL DPDK Community Lab

To manage your email subscriptions, visit: 
https://lab.dpdk.org/results/dashboard/preferences/subscriptions/