From mboxrd@z Thu Jan  1 00:00:00 1970
Return-Path: <test-report-bounces@dpdk.org>
Received: from mails.dpdk.org (mails.dpdk.org [217.70.189.124])
	by inbox.dpdk.org (Postfix) with ESMTP id 274B4460AC
	for <public@inbox.dpdk.org>; Fri, 17 Jan 2025 18:01:58 +0100 (CET)
Received: from mails.dpdk.org (localhost [127.0.0.1])
	by mails.dpdk.org (Postfix) with ESMTP id 0512140294;
	Fri, 17 Jan 2025 18:01:58 +0100 (CET)
Received: from mail-qt1-f227.google.com (mail-qt1-f227.google.com
 [209.85.160.227])
 by mails.dpdk.org (Postfix) with ESMTP id 59A5A4028F
 for <test-report@dpdk.org>; Fri, 17 Jan 2025 18:01:57 +0100 (CET)
Received: by mail-qt1-f227.google.com with SMTP id
 d75a77b69052e-467a3f1e667so15204871cf.0
 for <test-report@dpdk.org>; Fri, 17 Jan 2025 09:01:57 -0800 (PST)
DKIM-Signature: v=1; a=rsa-sha256; c=relaxed/relaxed;
 d=iol.unh.edu; s=unh-iol; t=1737133316; x=1737738116; darn=dpdk.org;
 h=references:in-reply-to:cc:to:from:subject:message-id:date:from:to
 :cc:subject:date:message-id:reply-to;
 bh=x0IJC1BYLYyGXur4qs4mVyGIYvXO6wsd1mq9qilGpk4=;
 b=bMBuWuQUHceHgQszdKJu/4bKDGL/Qz/e6QtkV1HIXy+/R6rKettxbQ4N7t/BK6mcvU
 QS+eGDeanklVS3LkoLRn4qdb1GkBUsSH6R6QCAELeqIerNZOc6WGzx7HatgMZ1v3l/vc
 pAIDrMV3HV8caOeuy/B9Sr0cjUVloCW0JRFQY=
X-Google-DKIM-Signature: v=1; a=rsa-sha256; c=relaxed/relaxed;
 d=1e100.net; s=20230601; t=1737133316; x=1737738116;
 h=references:in-reply-to:cc:to:from:subject:message-id:date
 :x-gm-message-state:from:to:cc:subject:date:message-id:reply-to;
 bh=x0IJC1BYLYyGXur4qs4mVyGIYvXO6wsd1mq9qilGpk4=;
 b=kKmG6RX1JEFWEYI+lP0GzPfBLB/Gpi38Rh0jDrmlRDZ9qIz4oZj4dwxoe8DrWSrWt1
 YsNQt2M+YIClHG7vET8g9WvyBED5tw4iOh2QoXr/eZV8iZnrZlnUlY4LXH6eVDQMowKt
 cDqds0Xe6X8VLi8vmLt8FORuAG1PH/8Am2JEjlvZq6+WJLwpUOaAOUA9uzeGzjWG8d1t
 JjYfLl+dYB4cD4gRckebn2YgeYudNLrV26u5YrTgcrWfsLfvKwERfxlZgIXfTHop4WN9
 P89M7OOlrs+MKcE+FVOYtelF+3Nnjh7W1bZDWJSvuIDpTbzVLwT1J5pwUtIah8o+bK5h
 epuA==
X-Gm-Message-State: AOJu0Yyyhmzyp+vUPunWlmRkJcjXTtw2kG7Okc8yN84hPUZkhPLi/xHe
 q40xP2yIXXSMJjalA1wntZ33T2RYJQmPU57rVOnXibQcjCRYBJkNA8lcdGTBa6mGXnHg1ziB85x
 emPvM/IBMPcjnmLICgur/uDFLeUDZdAXAGlOSKoEO
X-Gm-Gg: ASbGncvvEf44sVlSVCgSDQYFpOum7rSajrOj1gsy3Gl+x4MlcpVquUoxdxvmjR9MbRG
 /vd2Z8JEgXpRHMR5XU7OsDY8qxJHOxWr7X7i6jJFoDW37gNvNmiKJIfXlFqSBjoRp2qy0yGQf4s
 8bfDs/vbFRHiqoXWLG3AVJJv6D58KJ2E//OTTKVh3tkS2QbUMjxwYDQeC8qSMWYBBEUiuCW+5rZ
 rSaXAWgbJAnDJ44tUcReQyGHNxIKHNxHhkF8uPFCY5y9/T0KJ0zuJ44QpzVT/fxZnuxhwkSOc/3
 cR45uw==
X-Google-Smtp-Source: AGHT+IHMfxQHmKYGbrAPfQOChLTp/pd/S23hL6fCgogF2Jec4GWJEs+dJD2XjLtET4vMgs+Bh+9speSPePUj
X-Received: by 2002:a05:622a:1a25:b0:467:50d0:8866 with SMTP id
 d75a77b69052e-46e12a55b71mr46339741cf.19.1737133315060; 
 Fri, 17 Jan 2025 09:01:55 -0800 (PST)
Received: from postal.iol.unh.edu (postal.iol.unh.edu. [132.177.123.84])
 by smtp-relay.gmail.com with ESMTPS id
 d75a77b69052e-46e102fc971sm1095511cf.8.2025.01.17.09.01.54
 (version=TLS1_2 cipher=ECDHE-ECDSA-AES128-GCM-SHA256 bits=128/128);
 Fri, 17 Jan 2025 09:01:55 -0800 (PST)
X-Relaying-Domain: iol.unh.edu
Date: Fri, 17 Jan 2025 09:01:55 -0800 (PST)
Message-ID: <678a8d03.050a0220.c3e09.808cSMTPIN_ADDED_MISSING@mx.google.com>
Received: from [172.17.0.4] (unknown [172.18.0.217])
 by postal.iol.unh.edu (Postfix) with ESMTP id B80D26052471;
 Fri, 17 Jan 2025 12:01:53 -0500 (EST)
Subject: |SUCCESS| pw150163-150164 [PATCH] [v3,2/2] ethdev: fix some function
From: dpdklab@iol.unh.edu
To: Test Report <test-report@dpdk.org>
Cc: dpdk-test-reports@iol.unh.edu
In-Reply-To: <20250117091210.12419-3-lihuisong@huawei.com>
References: <20250117091210.12419-3-lihuisong@huawei.com>
Content-Type: text/plain
X-BeenThere: test-report@dpdk.org
X-Mailman-Version: 2.1.29
Precedence: list
List-Id: automatic DPDK test reports <test-report.dpdk.org>
List-Unsubscribe: <https://mails.dpdk.org/options/test-report>,
 <mailto:test-report-request@dpdk.org?subject=unsubscribe>
List-Archive: <http://mails.dpdk.org/archives/test-report/>
List-Post: <mailto:test-report@dpdk.org>
List-Help: <mailto:test-report-request@dpdk.org?subject=help>
List-Subscribe: <https://mails.dpdk.org/listinfo/test-report>,
 <mailto:test-report-request@dpdk.org?subject=subscribe>
Errors-To: test-report-bounces@dpdk.org

Test-Label: iol-sample-apps-testing
Test-Status: SUCCESS
http://dpdk.org/patch/150164

_Testing PASS_

Submitter: Huisong Li <lihuisong@huawei.com>
Date: Friday, January 17 2025 09:12:10 
DPDK git baseline: Repo:dpdk
  Branch: master
  CommitID:06e2856620a70000b2a28f0ea715fc247b85fd8d

150163-150164 --> testing pass

Upstream job id: ACVP-FIPS-testing#8589

Test environment and result as below:

+--------------------+----------------------+----------------------+
|    Environment     | compressdev_zlib_pmd | dpdk_fips_validation |
+====================+======================+======================+
| Ubuntu 22.04 (ARM) | PASS                 | SKIPPED              |
+--------------------+----------------------+----------------------+
| Ubuntu 22.04       | PASS                 | SKIPPED              |
+--------------------+----------------------+----------------------+
| Ubuntu 20.04       | SKIPPED              | PASS                 |
+--------------------+----------------------+----------------------+


Ubuntu 22.04 (ARM)
	Kernel: 5.15.0-97-generic
	Compiler: gcc gcc (Ubuntu 11.4.0-1ubuntu1~22.04) 11.4.0

Ubuntu 22.04
	Kernel: 5.15.0-100-generic
	Compiler: gcc gcc (Ubuntu 11.4.0-1ubuntu1~22.04) 11.4.0

Ubuntu 20.04
	Kernel: Depends on container host
	Compiler: gcc (Ubuntu 9.4.0-1ubuntu1~20.04.2) 9.4.0

To view detailed results, visit:
https://lab.dpdk.org/results/dashboard/patchsets/32354/

UNH-IOL DPDK Community Lab

To manage your email subscriptions, visit: 
https://lab.dpdk.org/results/dashboard/preferences/subscriptions/