From mboxrd@z Thu Jan  1 00:00:00 1970
Return-Path: <test-report-bounces@dpdk.org>
Received: from mails.dpdk.org (mails.dpdk.org [217.70.189.124])
	by inbox.dpdk.org (Postfix) with ESMTP id 278C8460AC
	for <public@inbox.dpdk.org>; Fri, 17 Jan 2025 18:49:12 +0100 (CET)
Received: from mails.dpdk.org (localhost [127.0.0.1])
	by mails.dpdk.org (Postfix) with ESMTP id 042EE40B8D;
	Fri, 17 Jan 2025 18:49:12 +0100 (CET)
Received: from mail-pl1-f226.google.com (mail-pl1-f226.google.com
 [209.85.214.226])
 by mails.dpdk.org (Postfix) with ESMTP id 1A3EA40294
 for <test-report@dpdk.org>; Fri, 17 Jan 2025 18:49:11 +0100 (CET)
Received: by mail-pl1-f226.google.com with SMTP id
 d9443c01a7336-2166360285dso49062915ad.1
 for <test-report@dpdk.org>; Fri, 17 Jan 2025 09:49:11 -0800 (PST)
DKIM-Signature: v=1; a=rsa-sha256; c=relaxed/relaxed;
 d=iol.unh.edu; s=unh-iol; t=1737136150; x=1737740950; darn=dpdk.org;
 h=references:in-reply-to:cc:to:from:subject:message-id:date:from:to
 :cc:subject:date:message-id:reply-to;
 bh=NPjcYanoh4X8IsQSgicTtBbg1Qc4UPx7ykTBFjFsNtU=;
 b=LsfsKkNifDmfL99GfENQbcpJz/R8CngD96//w7RF5A4nnKjN7HI7+qwNiUX4h0tTj/
 BShZOdfA0f9L6XET7zmyjpV4N2R6Pj/D+hoBi+weWA77S1B6v4ezWvWPKWVWSYzYywNY
 ZBziImqu0BvCCoxaShrHiDpXM5vRVrw+mTy3w=
X-Google-DKIM-Signature: v=1; a=rsa-sha256; c=relaxed/relaxed;
 d=1e100.net; s=20230601; t=1737136150; x=1737740950;
 h=references:in-reply-to:cc:to:from:subject:message-id:date
 :x-gm-message-state:from:to:cc:subject:date:message-id:reply-to;
 bh=NPjcYanoh4X8IsQSgicTtBbg1Qc4UPx7ykTBFjFsNtU=;
 b=UJ9HinPMftK8qGN/dM6PNeghh2MTcrYssa1VORIbC0x8uHk38BAxsHuUJ9zZEqasHY
 TpNfv6jDcJmZHXHaw/Lx83ouofN/wyAdeHAVBHv3yqlH1YRvIvRV2lo6rQ0UzN13oYDH
 JzX601hB2Ann2Ln0VCcdnhl1XXqE0zSr7hltafJEEK2z8NQ0GnUJ7eaD+qfUcIH7bjh/
 BETVE7br0Eg8f4CufFhO0BuA1yeGbXqtn+DYcaFZum7c3J87A06XsEqZLi4a1IlC2jDm
 pz7mPrBTk3NbMi8DUZfizpeBOmIAv/N0s75TcCdib/VK6PHf0rHodZmB5RJ958cXeZfZ
 MLfw==
X-Gm-Message-State: AOJu0YxZOHXweFbNrmZv1bHVrMWB+XuVWlDfGIH/8r7OLcAuHJh6rGD+
 hy5BIaM8XQ4/T9Q2kclbd/eCKeUujDl9Z6oGvk9Trceox677SuiPAxuErzWuuIvy3ePhnIvnToO
 XszgrKXujm6DvlZKhULNlKnie13kglDk1OtR6WftfCHHu/JwuXU/2rygp
X-Gm-Gg: ASbGnctSWau+qwj6jJNYrgYpN+k4n7y0Yghy5f+PjrOnJiukPEE8VqqBUzyZjaY4nvk
 F3jdSF8Mqeofv2ONq9zDTGM3RZEuIwJQ0tjc2LyBs+xR8od30w1M1UKJA2G/S6do/OkbWlhSKZP
 JyS0TwH7wdppA3YGBbTnLslYzIy1Pd6khKsHXBtSsd6SVUlwD0tvU+9xGG8qk81UXm9lHA/B//L
 cp40KojAnA0CRhj7R/Y8UadP1fYzX/gGM/vjGCvrNNR6K7OWs7P/+es6hRC9mCvl+X98yO3pVkK
 a1M4xGnrFn4o+c9R3Q==
X-Google-Smtp-Source: AGHT+IF5Ezwbe87FZSvZg97WNd63BZGirWuEWZaBnZ3OeK5y4BNeTjaDrvTyvVOol76lAEab8JfJFTDxa9Qq
X-Received: by 2002:a05:6a20:2450:b0:1e1:aef4:9ce8 with SMTP id
 adf61e73a8af0-1eb215902e2mr6417701637.28.1737136150199; 
 Fri, 17 Jan 2025 09:49:10 -0800 (PST)
Received: from postal.iol.unh.edu (postal.iol.unh.edu.
 [2606:4100:3880:1234::84]) by smtp-relay.gmail.com with ESMTPS id
 d2e1a72fcca58-72dab815ce5sm165953b3a.6.2025.01.17.09.49.10
 (version=TLS1_2 cipher=ECDHE-ECDSA-AES128-GCM-SHA256 bits=128/128);
 Fri, 17 Jan 2025 09:49:10 -0800 (PST)
X-Relaying-Domain: iol.unh.edu
Date: Fri, 17 Jan 2025 09:49:10 -0800 (PST)
Message-ID: <678a9816.050a0220.3d5f13.c287SMTPIN_ADDED_MISSING@mx.google.com>
Received: from [172.21.0.5] (unknown [172.18.0.240])
 by postal.iol.unh.edu (Postfix) with ESMTP id 563856052471;
 Fri, 17 Jan 2025 12:49:09 -0500 (EST)
Subject: |SUCCESS| pw150182-150196 [PATCH] [v3,15/15] net/ngbe: add some ops 
From: dpdklab@iol.unh.edu
To: Test Report <test-report@dpdk.org>
Cc: dpdk-test-reports@iol.unh.edu
In-Reply-To: <20250117114455.15864-16-zaiyuwang@trustnetic.com>
References: <20250117114455.15864-16-zaiyuwang@trustnetic.com>
Content-Type: text/plain
X-BeenThere: test-report@dpdk.org
X-Mailman-Version: 2.1.29
Precedence: list
List-Id: automatic DPDK test reports <test-report.dpdk.org>
List-Unsubscribe: <https://mails.dpdk.org/options/test-report>,
 <mailto:test-report-request@dpdk.org?subject=unsubscribe>
List-Archive: <http://mails.dpdk.org/archives/test-report/>
List-Post: <mailto:test-report@dpdk.org>
List-Help: <mailto:test-report-request@dpdk.org?subject=help>
List-Subscribe: <https://mails.dpdk.org/listinfo/test-report>,
 <mailto:test-report-request@dpdk.org?subject=subscribe>
Errors-To: test-report-bounces@dpdk.org

Test-Label: iol-compile-arm64-testing
Test-Status: SUCCESS
http://dpdk.org/patch/150196

_Testing PASS_

Submitter: Zaiyu Wang <zaiyuwang@trustnetic.com>
Date: Friday, January 17 2025 11:44:53 
DPDK git baseline: Repo:dpdk
  Branch: master
  CommitID:34ea86164bf17a431ec5ef78d7e51e2e9b3fd75e

150182-150196 --> testing pass

Upstream job id: Generic-DPDK-Compile-Meson#352244

Test environment and result as below:

+----------------------------------------+--------------------+
|              Environment               | dpdk_meson_compile |
+========================================+====================+
| RHEL9 (ARM)                            | PASS               |
+----------------------------------------+--------------------+
| Ubuntu 20.04 ARM GCC Cross Compile     | PASS               |
+----------------------------------------+--------------------+
| Ubuntu 20.04 ARM SVE                   | PASS               |
+----------------------------------------+--------------------+
| Debian 12 with MUSDK                   | PASS               |
+----------------------------------------+--------------------+
| Fedora 41 (ARM)                        | PASS               |
+----------------------------------------+--------------------+
| Fedora 40 (ARM)                        | PASS               |
+----------------------------------------+--------------------+
| Fedora 40 (ARM Clang)                  | PASS               |
+----------------------------------------+--------------------+
| Fedora 41 (ARM Clang)                  | PASS               |
+----------------------------------------+--------------------+
| Ubuntu 20.04 (ARM)                     | PASS               |
+----------------------------------------+--------------------+
| Ubuntu 22.04 (ARM)                     | PASS               |
+----------------------------------------+--------------------+
| Ubuntu 24.04 (ARM)                     | PASS               |
+----------------------------------------+--------------------+
| CentOS Stream 9 (ARM)                  | PASS               |
+----------------------------------------+--------------------+
| Debian 11 (Buster) (ARM)               | PASS               |
+----------------------------------------+--------------------+
| Debian 12 (arm)                        | PASS               |
+----------------------------------------+--------------------+
| Ubuntu 20.04 ARM Clang Cross Compile   | PASS               |
+----------------------------------------+--------------------+
| Ubuntu 20.04 aarch32 GCC Cross Compile | PASS               |
+----------------------------------------+--------------------+


RHEL9 (ARM)
	Kernel: Depends on container host
	Compiler: gcc 11.5.0 20240719 (Red Hat 11.5.0-2)

Ubuntu 20.04 ARM GCC Cross Compile
	Kernel: Depends on container host
	Compiler: aarch64-linux-gnu-gcc (Ubuntu 9.4.0-1ubuntu1~20.04.2) 9.4.0

Ubuntu 20.04 ARM SVE
	Kernel: Depends on container host
	Compiler: gcc (Ubuntu 10.5.0-1ubuntu1~20.04) 10.5.0

Debian 12 with MUSDK
	Kernel: Depends on container host
	Compiler: gcc (Debian 12.2.0-14) 12.2.0

Fedora 41 (ARM)
	Kernel: Depends on container host
	Compiler: gcc 14.2.1 20240912 (Red Hat 14.2.1-3)

Fedora 40 (ARM)
	Kernel: Depends on container host
	Compiler: gcc 14.2.1 20240912 (Red Hat 14.2.1-3)

Fedora 40 (ARM Clang)
	Kernel: Depends on container host
	Compiler: clang 18.1.8 (Fedora 18.1.8-1.fc40)

Fedora 41 (ARM Clang)
	Kernel: Depends on container host
	Compiler: clang 19.1.5 (Fedora 19.1.5-1.fc41)

Ubuntu 20.04 (ARM)
	Kernel: Depends on container host
	Compiler: gcc (Ubuntu 9.4.0-1ubuntu1~20.04.2) 9.4.0

Ubuntu 22.04 (ARM)
	Kernel: Depends on container host
	Compiler: gcc (Ubuntu 11.4.0-1ubuntu1~22.04) 11.4.0

Ubuntu 24.04 (ARM)
	Kernel: Depends on container host
	Compiler: gcc (Ubuntu 13.3.0-6ubuntu2~24.04) 13.3.0

CentOS Stream 9 (ARM)
	Kernel: Depends on container host
	Compiler: gcc 11.5.0 20240719 (Red Hat 11.5.0-2)

Debian 11 (Buster) (ARM)
	Kernel: Depends on container host
	Compiler: gcc (Debian 10.2.1-6) 10.2.1 20210110

Debian 12 (arm)
	Kernel: Depends on container host
	Compiler: gcc (Debian 12.2.0-14) 12.2.0

Ubuntu 20.04 ARM Clang Cross Compile
	Kernel: Depends on container host
	Compiler: clang 10.0.0-4ubuntu1

Ubuntu 20.04 aarch32 GCC Cross Compile
	Kernel: Depends on container host
	Compiler: gcc 9.4.0

To view detailed results, visit:
https://lab.dpdk.org/results/dashboard/patchsets/32357/

UNH-IOL DPDK Community Lab

To manage your email subscriptions, visit: 
https://lab.dpdk.org/results/dashboard/preferences/subscriptions/