From mboxrd@z Thu Jan  1 00:00:00 1970
Return-Path: <test-report-bounces@dpdk.org>
Received: from mails.dpdk.org (mails.dpdk.org [217.70.189.124])
	by inbox.dpdk.org (Postfix) with ESMTP id DD1134605D
	for <public@inbox.dpdk.org>; Sat, 18 Jan 2025 00:36:58 +0100 (CET)
Received: from mails.dpdk.org (localhost [127.0.0.1])
	by mails.dpdk.org (Postfix) with ESMTP id C5D6A4028A;
	Sat, 18 Jan 2025 00:36:58 +0100 (CET)
Received: from mail-yb1-f226.google.com (mail-yb1-f226.google.com
 [209.85.219.226])
 by mails.dpdk.org (Postfix) with ESMTP id CCD8F4003C
 for <test-report@dpdk.org>; Sat, 18 Jan 2025 00:36:56 +0100 (CET)
Received: by mail-yb1-f226.google.com with SMTP id
 3f1490d57ef6-e4419a47887so4071087276.0
 for <test-report@dpdk.org>; Fri, 17 Jan 2025 15:36:56 -0800 (PST)
DKIM-Signature: v=1; a=rsa-sha256; c=relaxed/relaxed;
 d=iol.unh.edu; s=unh-iol; t=1737157016; x=1737761816; darn=dpdk.org;
 h=references:in-reply-to:cc:to:from:subject:message-id:date:from:to
 :cc:subject:date:message-id:reply-to;
 bh=jKwERMsyulu2Bh/mOr/9rBLPUI1sVvxsqwOVjygwG5M=;
 b=dj8IfHlasnoR5t6HtHy+OepZFupRSunxJYbxTryxWeZF0S1g1s7gpaWyNozP87M0Eg
 rnVOEJjBZPsWGHESk3RCJi3e2B9rqslZRU02rsKenWSCFE9hcsKX2vzj5vRvJz+LegJS
 mQX2zNm6uWDsLQKtM4jYZ3XVtS4ELHxIRIZP0=
X-Google-DKIM-Signature: v=1; a=rsa-sha256; c=relaxed/relaxed;
 d=1e100.net; s=20230601; t=1737157016; x=1737761816;
 h=references:in-reply-to:cc:to:from:subject:message-id:date
 :x-gm-message-state:from:to:cc:subject:date:message-id:reply-to;
 bh=jKwERMsyulu2Bh/mOr/9rBLPUI1sVvxsqwOVjygwG5M=;
 b=TE5ClTzq8987o/n9Td9/WjYUM6Gv5mpBBKhCFAhELyJofE7f86qiERLalp3XBSqFXV
 Lj3Rq00Ytl4Ef+CYsUyU89GpVmStSE11d1DoKoSFNJDYx3w1e8jsrbCHE227bfxpIklc
 qrhLuWiiItY09CfA5JjhA6ak2DMbI73kRkHOEJi3b4nglzuN07nQA98E/b+E0rz9C+LD
 n5lCJsbONJHN4idjUTG3wtbdJCkU0SpLhYX7cL773sM2+DruHTZFsSxHmfV01x8M5xKK
 SE1gwz9alVk6byoZNiSihs5LpimYMxWAEzu7zRh/zokFHa7IxjP6Tc4mJR73pfKOjhQO
 m5cg==
X-Gm-Message-State: AOJu0Yxj6D1htCVPDyQ9lEK8i1nzmbpYewlS1zyhJvallv42VBlxAMWo
 yLUTObWoq0zAs8EIKkl7P4OlfXIiefUR7FN8kA02g4leXel/rmm2QcHEPzUS8pBQRwRkRHkxQb+
 +4qnUjxHL+jJHXcmJnwmPqs+ml6PNZP7J3BAMpej0
X-Gm-Gg: ASbGncv6mS0PYdl3wSPrCJC4jVNf23P37TpG37cmtet555X2WjECWRhK/O0mc1HnCsz
 qK5EpYhzUke2to2qxKCd4ngrksL6OvZ3HUZLZI+PQiTgIrmIY/ESe+koOzMNUaVuqdeiTvCoUH9
 h5+EBPUlLfos/qwQe9oKqZ12Wjpn6xA9eJoTS9tjPO4z+l0axJIOzn1nyTudfMz38uqcb3XLraQ
 38XWB5tpuz1gDAeHvCuHcLplRCHEHhFab+zuLptB9floniHn8O2VZJzjg6Zl0Ev/l9EwT22D86U
 BNN2Yg==
X-Google-Smtp-Source: AGHT+IEX9hRu7NNen5ybiOTFjrlAGuG/ide3PoAZXVuDEfD4E/C0SYlzdnYGckJiX8v3rEfREBLnynzHuEKe
X-Received: by 2002:a05:6902:2848:b0:e4c:66ab:ed3a with SMTP id
 3f1490d57ef6-e57b103ca0fmr4115866276.2.1737157016110; 
 Fri, 17 Jan 2025 15:36:56 -0800 (PST)
Received: from postal.iol.unh.edu (postal.iol.unh.edu. [132.177.123.84])
 by smtp-relay.gmail.com with ESMTPS id
 3f1490d57ef6-e57ab41d1dbsm206286276.24.2025.01.17.15.36.56
 (version=TLS1_2 cipher=ECDHE-ECDSA-AES128-GCM-SHA256 bits=128/128);
 Fri, 17 Jan 2025 15:36:56 -0800 (PST)
X-Relaying-Domain: iol.unh.edu
Date: Fri, 17 Jan 2025 15:36:56 -0800 (PST)
Message-ID: <678ae998.250a0220.8f501.e693SMTPIN_ADDED_MISSING@mx.google.com>
Received: from [172.17.0.4] (unknown [172.18.0.217])
 by postal.iol.unh.edu (Postfix) with ESMTP id BBCAE6052471;
 Fri, 17 Jan 2025 18:36:55 -0500 (EST)
Subject: |WARNING| pw150203 [PATCH] drivers/net: fix indication of allocation
From: dpdklab@iol.unh.edu
To: Test Report <test-report@dpdk.org>
Cc: dpdk-test-reports@iol.unh.edu
In-Reply-To: <1737147093-11172-1-git-send-email-andremue@linux.microsoft.com>
References: <1737147093-11172-1-git-send-email-andremue@linux.microsoft.com>
Content-Type: text/plain
X-BeenThere: test-report@dpdk.org
X-Mailman-Version: 2.1.29
Precedence: list
List-Id: automatic DPDK test reports <test-report.dpdk.org>
List-Unsubscribe: <https://mails.dpdk.org/options/test-report>,
 <mailto:test-report-request@dpdk.org?subject=unsubscribe>
List-Archive: <http://mails.dpdk.org/archives/test-report/>
List-Post: <mailto:test-report@dpdk.org>
List-Help: <mailto:test-report-request@dpdk.org?subject=help>
List-Subscribe: <https://mails.dpdk.org/listinfo/test-report>,
 <mailto:test-report-request@dpdk.org?subject=subscribe>
Errors-To: test-report-bounces@dpdk.org

Test-Label: iol-compile-amd64-testing
Test-Status: WARNING
http://dpdk.org/patch/150203

_Testing issues_

Submitter: Andre Muezerie <andremue@linux.microsoft.com>
Date: Friday, January 17 2025 20:51:33 
DPDK git baseline: Repo:dpdk
  Branch: master
  CommitID:06e2856620a70000b2a28f0ea715fc247b85fd8d

150203 --> testing issues

Upstream job id: Windows-Compile-DPDK-Native#25941

Test environment and result as below:

+---------------------+--------------------+------------------+-------------------+-------------------+-----------------------+
|     Environment     | dpdk_meson_compile | dpdk_compile_ovs | dpdk_compile_spdk | dpdk_msvc_compile | dpdk_win_llvm_compile |
+=====================+====================+==================+===================+===================+=======================+
| CentOS Stream 9     | PASS               | PASS             | PASS              | SKIPPED           | SKIPPED               |
+---------------------+--------------------+------------------+-------------------+-------------------+-----------------------+
| Debian Bullseye     | PASS               | PASS             | PASS              | SKIPPED           | SKIPPED               |
+---------------------+--------------------+------------------+-------------------+-------------------+-----------------------+
| Debian 12           | PASS               | PASS             | PASS              | SKIPPED           | SKIPPED               |
+---------------------+--------------------+------------------+-------------------+-------------------+-----------------------+
| Fedora 40 (Clang)   | PASS               | PASS             | PASS              | SKIPPED           | SKIPPED               |
+---------------------+--------------------+------------------+-------------------+-------------------+-----------------------+
| Fedora 40           | PASS               | PASS             | PASS              | SKIPPED           | SKIPPED               |
+---------------------+--------------------+------------------+-------------------+-------------------+-----------------------+
| RHEL8               | PASS               | PASS             | SKIPPED           | SKIPPED           | SKIPPED               |
+---------------------+--------------------+------------------+-------------------+-------------------+-----------------------+
| Fedora 41 (Clang)   | PASS               | PASS             | PASS              | SKIPPED           | SKIPPED               |
+---------------------+--------------------+------------------+-------------------+-------------------+-----------------------+
| Fedora 41           | PASS               | PASS             | PASS              | SKIPPED           | SKIPPED               |
+---------------------+--------------------+------------------+-------------------+-------------------+-----------------------+
| Ubuntu 20.04        | PASS               | WARN             | SKIPPED           | SKIPPED           | SKIPPED               |
+---------------------+--------------------+------------------+-------------------+-------------------+-----------------------+
| RHEL9               | PASS               | PASS             | SKIPPED           | SKIPPED           | SKIPPED               |
+---------------------+--------------------+------------------+-------------------+-------------------+-----------------------+
| Ubuntu 22.04        | PASS               | PASS             | PASS              | SKIPPED           | SKIPPED               |
+---------------------+--------------------+------------------+-------------------+-------------------+-----------------------+
| Ubuntu 24.04        | PASS               | PASS             | PASS              | SKIPPED           | SKIPPED               |
+---------------------+--------------------+------------------+-------------------+-------------------+-----------------------+
| Alpine              | PASS               | PASS             | SKIPPED           | SKIPPED           | SKIPPED               |
+---------------------+--------------------+------------------+-------------------+-------------------+-----------------------+
| FreeBSD 13.4        | PASS               | SKIPPED          | SKIPPED           | SKIPPED           | SKIPPED               |
+---------------------+--------------------+------------------+-------------------+-------------------+-----------------------+
| FreeBSD 14.2        | PASS               | SKIPPED          | SKIPPED           | SKIPPED           | SKIPPED               |
+---------------------+--------------------+------------------+-------------------+-------------------+-----------------------+
| openSUSE Leap 15    | PASS               | SKIPPED          | SKIPPED           | SKIPPED           | SKIPPED               |
+---------------------+--------------------+------------------+-------------------+-------------------+-----------------------+
| Windows Server 2022 | SKIPPED            | SKIPPED          | SKIPPED           | PASS              | PASS                  |
+---------------------+--------------------+------------------+-------------------+-------------------+-----------------------+

==== 20 line log output for Ubuntu 20.04 (dpdk_compile_ovs): ====
 --- Failed to get log output --- 
==== End log output ====

CentOS Stream 9
	Kernel: Depends on container host
	Compiler: gcc 11.5.0 20240719 (Red Hat 11.5.0-2)

Debian Bullseye
	Kernel: Depends on container host
	Compiler: gcc (Debian 10.2.1-6) 10.2.1 20210110

Debian 12
	Kernel: Depends on container host
	Compiler: gcc (Debian 12.2.0-14) 12.2.0

Fedora 40 (Clang)
	Kernel: Depends on container host
	Compiler: clang 18.1.8 (Fedora 18.1.8-1.fc40)

Fedora 40
	Kernel: Depends on container host
	Compiler: gcc 14.2.1 20240912 (Red Hat 14.2.1-3)

RHEL8
	Kernel: Depends on container host
	Compiler: gcc 8.5.0 20210514 (Red Hat 8.5.0-22)

Fedora 41 (Clang)
	Kernel: Depends on container host
	Compiler: clang 19.1.5 (Fedora 19.1.5-1.fc41)

Fedora 41
	Kernel: Depends on container host
	Compiler: gcc 14.2.1 20240912 (Red Hat 14.2.1-3)

Ubuntu 20.04
	Kernel: Depends on container host
	Compiler: gcc (Ubuntu 9.4.0-1ubuntu1~20.04.2) 9.4.0

RHEL9
	Kernel: Depends on container host
	Compiler: gcc 11.5.0 20240719 (Red Hat 11.5.0-2)

Ubuntu 22.04
	Kernel: Depends on container host
	Compiler: gcc (Ubuntu 11.4.0-1ubuntu1~22.04) 11.4.0

Ubuntu 24.04
	Kernel: Depends on container host
	Compiler: gcc (Ubuntu 13.3.0-6ubuntu2~24.04) 13.3.0

Alpine
	Kernel: Depends on container host
	Compiler: gcc (Alpine 14.2.0) 14.2.0

FreeBSD 13.4
	Kernel: 13.4-RELEASE-p1
	Compiler: clang 18.1.6

FreeBSD 14.2
	Kernel: 14.2-RELEASE
	Compiler: clang 18.1.6

openSUSE Leap 15
	Kernel: Depends on container host
	Compiler: gcc (SUSE Linux) 7.5.0

Windows Server 2022
	Kernel: 10.0.20348.2031
	Compiler: clang 15.0.7, gcc 14.1.0 (MinGW), and MSVC VS 19.39.33521

To view detailed results, visit:
https://lab.dpdk.org/results/dashboard/patchsets/32363/

UNH-IOL DPDK Community Lab

To manage your email subscriptions, visit: 
https://lab.dpdk.org/results/dashboard/preferences/subscriptions/