From mboxrd@z Thu Jan  1 00:00:00 1970
Return-Path: <test-report-bounces@dpdk.org>
Received: from mails.dpdk.org (mails.dpdk.org [217.70.189.124])
	by inbox.dpdk.org (Postfix) with ESMTP id 7E4E5460B3
	for <public@inbox.dpdk.org>; Sat, 18 Jan 2025 05:50:47 +0100 (CET)
Received: from mails.dpdk.org (localhost [127.0.0.1])
	by mails.dpdk.org (Postfix) with ESMTP id 76E0640609;
	Sat, 18 Jan 2025 05:50:46 +0100 (CET)
Received: from mail-yb1-f226.google.com (mail-yb1-f226.google.com
 [209.85.219.226])
 by mails.dpdk.org (Postfix) with ESMTP id AEABA40263
 for <test-report@dpdk.org>; Sat, 18 Jan 2025 05:50:44 +0100 (CET)
Received: by mail-yb1-f226.google.com with SMTP id
 3f1490d57ef6-e549dd7201cso5005404276.0
 for <test-report@dpdk.org>; Fri, 17 Jan 2025 20:50:44 -0800 (PST)
DKIM-Signature: v=1; a=rsa-sha256; c=relaxed/relaxed;
 d=iol.unh.edu; s=unh-iol; t=1737175844; x=1737780644; darn=dpdk.org;
 h=references:in-reply-to:cc:to:from:subject:message-id:date:from:to
 :cc:subject:date:message-id:reply-to;
 bh=hQgMV5gZVOe2IRYixyOiGSOrLlwuQ5ZCGRlzIjJnhGI=;
 b=YQzMxscqDoZ/YD+r2CfB5mAZwLRU2xrXm50SBZBRAM2zFbNUZcOL1+dwy96XojXx3P
 ifWh1CfM+zL0df7btWiShB4yWlBEEX5xcF6vGCJFEfWtwQGaYXaYoyy5rL6uts7KEhLw
 JXNKz+yQxRHpD2OafJ6+Cg3HjfJKh6BReSa2k=
X-Google-DKIM-Signature: v=1; a=rsa-sha256; c=relaxed/relaxed;
 d=1e100.net; s=20230601; t=1737175844; x=1737780644;
 h=references:in-reply-to:cc:to:from:subject:message-id:date
 :x-gm-message-state:from:to:cc:subject:date:message-id:reply-to;
 bh=hQgMV5gZVOe2IRYixyOiGSOrLlwuQ5ZCGRlzIjJnhGI=;
 b=jA1zt0Oareg8iNb5f0pGKAs66zLsrsZOOYs0Zm3EU6HkGcWhYLV8Ab1tUakLQK0QOs
 ujbLYvA5JQVzOWHbYYW2V6ZYCQpgahNF4j2BObLdioZs9PwySC7/rttrQzx10CJRk7EC
 AEYYp3Se5UNf9xhYQmgBEYAeKHCwrZraxb9Mc69raMwhHpvFr1zOSkLWpdMQIevPGSQi
 PBLLPDnHFsD8JX6TYe55kfSDxSOgrMA0PLmHNQwOvsbYDyUv1OlgibFlbv3qV6OMUppV
 xsYO+ix0hfxtA6DPHF8tqofqubLTUXNg16Ll8dQ4fVgkEZ4c+8sGe1HNg+09TDlQGrJB
 oPWw==
X-Gm-Message-State: AOJu0YxdXkZpFjtBwVi2p0gDo0cX2a0EZtLRSV59ejz5lFgtq7MqUzYm
 YC166610OaWuX/wrj1QdswT1IYJXNdPYJsKWFxm/BxbxqoNE4hSwQaE/UMrLE3Sr2bgmUuLRhpK
 FbuwHcjBzC8r0FgW2uoJfVb5imdchiW2WrkYizIoQK+EGMw4kzhG9tO/s
X-Gm-Gg: ASbGncuMVOUm6p3XOhiRZ7v9OGp8+LbrTkl+Zst9utQWhEYqvp4icFtRFTLVvMtf4rQ
 5mbrLINCGvSNSYv7GeG0QhbrQhj/1/6IhQVB1gS116ELqWzq023J/66Qv8EsmTjVuMIYvThel2Y
 Rbj0qw5cMDz6ac4fOx95kQQmB+5jH8bLP3684YWfZK4IWKo9asmAUMr5mRtv4PIXkWVLCTIgNOs
 xlJANYhyA4+8C6z1wmNnwDQahPBlI3gM7MnxUF4zkRt/VJecWO210chWMFEWSvMcZDY2oEMTdh8
 FTlxgiQKsqJXHNsRTCI6RApw71rCn4o=
X-Google-Smtp-Source: AGHT+IHe6WNgbnxpjvJ2DI2DkQBEdzR1KmFsGyT+Ve9vy6uYu/WmVuN63pL1OmtEMxX4k9AbGErWo6G4h+T2
X-Received: by 2002:a05:690c:c96:b0:6ef:5097:5daa with SMTP id
 00721157ae682-6f6eb93fb4amr46421287b3.34.1737175843973; 
 Fri, 17 Jan 2025 20:50:43 -0800 (PST)
Received: from postal.iol.unh.edu (postal.iol.unh.edu.
 [2606:4100:3880:1234::84]) by smtp-relay.gmail.com with ESMTPS id
 00721157ae682-6f6e63ef020sm1454247b3.4.2025.01.17.20.50.43
 (version=TLS1_2 cipher=ECDHE-ECDSA-AES128-GCM-SHA256 bits=128/128);
 Fri, 17 Jan 2025 20:50:43 -0800 (PST)
X-Relaying-Domain: iol.unh.edu
Date: Fri, 17 Jan 2025 20:50:43 -0800 (PST)
Message-ID: <678b3323.050a0220.1ca0e3.a14bSMTPIN_ADDED_MISSING@mx.google.com>
Received: from [172.17.0.5] (unknown [172.18.0.217])
 by postal.iol.unh.edu (Postfix) with ESMTP id 96B1F6052471;
 Fri, 17 Jan 2025 23:50:43 -0500 (EST)
Subject: |WARNING| pw150205-150206 [PATCH] [v14,3/3] drivers/net: add diagnos
From: dpdklab@iol.unh.edu
To: Test Report <test-report@dpdk.org>
Cc: dpdk-test-reports@iol.unh.edu
In-Reply-To: <1737168373-25364-4-git-send-email-andremue@linux.microsoft.com>
References: <1737168373-25364-4-git-send-email-andremue@linux.microsoft.com>
Content-Type: text/plain
X-BeenThere: test-report@dpdk.org
X-Mailman-Version: 2.1.29
Precedence: list
List-Id: automatic DPDK test reports <test-report.dpdk.org>
List-Unsubscribe: <https://mails.dpdk.org/options/test-report>,
 <mailto:test-report-request@dpdk.org?subject=unsubscribe>
List-Archive: <http://mails.dpdk.org/archives/test-report/>
List-Post: <mailto:test-report@dpdk.org>
List-Help: <mailto:test-report-request@dpdk.org?subject=help>
List-Subscribe: <https://mails.dpdk.org/listinfo/test-report>,
 <mailto:test-report-request@dpdk.org?subject=subscribe>
Errors-To: test-report-bounces@dpdk.org

Test-Label: iol-compile-amd64-testing
Test-Status: WARNING
http://dpdk.org/patch/150206

_Testing issues_

Submitter: Andre Muezerie <andremue@linux.microsoft.com>
Date: Saturday, January 18 2025 02:46:13 
DPDK git baseline: Repo:dpdk
  Branch: master
  CommitID:06e2856620a70000b2a28f0ea715fc247b85fd8d

150205-150206 --> testing issues

Upstream job id: Generic-DPDK-Compile-Meson#352479

Test environment and result as below:

+---------------------+--------------------+------------------+-------------------+-------------------+-----------------------+----------------------+
|     Environment     | dpdk_meson_compile | dpdk_compile_ovs | dpdk_compile_spdk | dpdk_msvc_compile | dpdk_win_llvm_compile | dpdk_mingw64_compile |
+=====================+====================+==================+===================+===================+=======================+======================+
| CentOS Stream 9     | PASS               | PASS             | PASS              | SKIPPED           | SKIPPED               | SKIPPED              |
+---------------------+--------------------+------------------+-------------------+-------------------+-----------------------+----------------------+
| Debian Bullseye     | PASS               | PASS             | PASS              | SKIPPED           | SKIPPED               | SKIPPED              |
+---------------------+--------------------+------------------+-------------------+-------------------+-----------------------+----------------------+
| Debian 12           | PASS               | PASS             | PASS              | SKIPPED           | SKIPPED               | SKIPPED              |
+---------------------+--------------------+------------------+-------------------+-------------------+-----------------------+----------------------+
| Fedora 40           | PASS               | PASS             | PASS              | SKIPPED           | SKIPPED               | SKIPPED              |
+---------------------+--------------------+------------------+-------------------+-------------------+-----------------------+----------------------+
| Fedora 40 (Clang)   | PASS               | PASS             | PASS              | SKIPPED           | SKIPPED               | SKIPPED              |
+---------------------+--------------------+------------------+-------------------+-------------------+-----------------------+----------------------+
| Fedora 41 (Clang)   | PASS               | PASS             | PASS              | SKIPPED           | SKIPPED               | SKIPPED              |
+---------------------+--------------------+------------------+-------------------+-------------------+-----------------------+----------------------+
| Fedora 41           | PASS               | PASS             | PASS              | SKIPPED           | SKIPPED               | SKIPPED              |
+---------------------+--------------------+------------------+-------------------+-------------------+-----------------------+----------------------+
| openSUSE Leap 15    | PASS               | SKIPPED          | SKIPPED           | SKIPPED           | SKIPPED               | SKIPPED              |
+---------------------+--------------------+------------------+-------------------+-------------------+-----------------------+----------------------+
| RHEL8               | PASS               | PASS             | SKIPPED           | SKIPPED           | SKIPPED               | SKIPPED              |
+---------------------+--------------------+------------------+-------------------+-------------------+-----------------------+----------------------+
| RHEL9               | PASS               | PASS             | SKIPPED           | SKIPPED           | SKIPPED               | SKIPPED              |
+---------------------+--------------------+------------------+-------------------+-------------------+-----------------------+----------------------+
| Ubuntu 20.04        | PASS               | WARN             | SKIPPED           | SKIPPED           | SKIPPED               | SKIPPED              |
+---------------------+--------------------+------------------+-------------------+-------------------+-----------------------+----------------------+
| Ubuntu 24.04        | PASS               | PASS             | PASS              | SKIPPED           | SKIPPED               | SKIPPED              |
+---------------------+--------------------+------------------+-------------------+-------------------+-----------------------+----------------------+
| Ubuntu 22.04        | PASS               | PASS             | PASS              | SKIPPED           | SKIPPED               | SKIPPED              |
+---------------------+--------------------+------------------+-------------------+-------------------+-----------------------+----------------------+
| Alpine              | PASS               | PASS             | SKIPPED           | SKIPPED           | SKIPPED               | SKIPPED              |
+---------------------+--------------------+------------------+-------------------+-------------------+-----------------------+----------------------+
| FreeBSD 13.4        | PASS               | SKIPPED          | SKIPPED           | SKIPPED           | SKIPPED               | SKIPPED              |
+---------------------+--------------------+------------------+-------------------+-------------------+-----------------------+----------------------+
| FreeBSD 14.2        | PASS               | SKIPPED          | SKIPPED           | SKIPPED           | SKIPPED               | SKIPPED              |
+---------------------+--------------------+------------------+-------------------+-------------------+-----------------------+----------------------+
| Windows Server 2022 | SKIPPED            | SKIPPED          | SKIPPED           | PASS              | PASS                  | PASS                 |
+---------------------+--------------------+------------------+-------------------+-------------------+-----------------------+----------------------+

==== 20 line log output for Ubuntu 20.04 (dpdk_compile_ovs): ====
 --- Failed to get log output --- 
==== End log output ====

CentOS Stream 9
	Kernel: Depends on container host
	Compiler: gcc 11.5.0 20240719 (Red Hat 11.5.0-2)

Debian Bullseye
	Kernel: Depends on container host
	Compiler: gcc (Debian 10.2.1-6) 10.2.1 20210110

Debian 12
	Kernel: Depends on container host
	Compiler: gcc (Debian 12.2.0-14) 12.2.0

Fedora 40
	Kernel: Depends on container host
	Compiler: gcc 14.2.1 20240912 (Red Hat 14.2.1-3)

Fedora 40 (Clang)
	Kernel: Depends on container host
	Compiler: clang 18.1.8 (Fedora 18.1.8-1.fc40)

Fedora 41 (Clang)
	Kernel: Depends on container host
	Compiler: clang 19.1.5 (Fedora 19.1.5-1.fc41)

Fedora 41
	Kernel: Depends on container host
	Compiler: gcc 14.2.1 20240912 (Red Hat 14.2.1-3)

openSUSE Leap 15
	Kernel: Depends on container host
	Compiler: gcc (SUSE Linux) 7.5.0

RHEL8
	Kernel: Depends on container host
	Compiler: gcc 8.5.0 20210514 (Red Hat 8.5.0-22)

RHEL9
	Kernel: Depends on container host
	Compiler: gcc 11.5.0 20240719 (Red Hat 11.5.0-2)

Ubuntu 20.04
	Kernel: Depends on container host
	Compiler: gcc (Ubuntu 9.4.0-1ubuntu1~20.04.2) 9.4.0

Ubuntu 24.04
	Kernel: Depends on container host
	Compiler: gcc (Ubuntu 13.3.0-6ubuntu2~24.04) 13.3.0

Ubuntu 22.04
	Kernel: Depends on container host
	Compiler: gcc (Ubuntu 11.4.0-1ubuntu1~22.04) 11.4.0

Alpine
	Kernel: Depends on container host
	Compiler: gcc (Alpine 14.2.0) 14.2.0

FreeBSD 13.4
	Kernel: 13.4-RELEASE-p1
	Compiler: clang 18.1.6

FreeBSD 14.2
	Kernel: 14.2-RELEASE
	Compiler: clang 18.1.6

Windows Server 2022
	Kernel: 10.0.20348.2031
	Compiler: clang 15.0.7, gcc 14.1.0 (MinGW), and MSVC VS 19.39.33521

To view detailed results, visit:
https://lab.dpdk.org/results/dashboard/patchsets/32364/

UNH-IOL DPDK Community Lab

To manage your email subscriptions, visit: 
https://lab.dpdk.org/results/dashboard/preferences/subscriptions/