From mboxrd@z Thu Jan  1 00:00:00 1970
Return-Path: <test-report-bounces@dpdk.org>
Received: from mails.dpdk.org (mails.dpdk.org [217.70.189.124])
	by inbox.dpdk.org (Postfix) with ESMTP id 4FB5B460C1
	for <public@inbox.dpdk.org>; Mon, 20 Jan 2025 10:23:32 +0100 (CET)
Received: from mails.dpdk.org (localhost [127.0.0.1])
	by mails.dpdk.org (Postfix) with ESMTP id 4C8A240280;
	Mon, 20 Jan 2025 10:23:32 +0100 (CET)
Received: from mail-qt1-f227.google.com (mail-qt1-f227.google.com
 [209.85.160.227])
 by mails.dpdk.org (Postfix) with ESMTP id C4CC64027A
 for <test-report@dpdk.org>; Mon, 20 Jan 2025 10:23:30 +0100 (CET)
Received: by mail-qt1-f227.google.com with SMTP id
 d75a77b69052e-46b1d40ac6bso37749311cf.0
 for <test-report@dpdk.org>; Mon, 20 Jan 2025 01:23:30 -0800 (PST)
DKIM-Signature: v=1; a=rsa-sha256; c=relaxed/relaxed;
 d=iol.unh.edu; s=unh-iol; t=1737365010; x=1737969810; darn=dpdk.org;
 h=references:in-reply-to:cc:to:from:subject:message-id:date:from:to
 :cc:subject:date:message-id:reply-to;
 bh=8LQ78QdcAM8rbDxeDQocO4oBmabbf0lAyl/1CwUIqsI=;
 b=PtJR4UYY0RWTvPGLxj4GwnUTBqoY+zOKPBD+hIIOcQaRd4SfM/sKFVbwIZuXpnP1X4
 oMz+CKMYGqk23nUiXGR8WILKQHRL1R4/pQaRsDbKMmBSxKqjJc+kt4+hNv02LvyLChje
 HzRpsm2WkOJGntTfvVMP1ZGNt7ev1/5GnUM5U=
X-Google-DKIM-Signature: v=1; a=rsa-sha256; c=relaxed/relaxed;
 d=1e100.net; s=20230601; t=1737365010; x=1737969810;
 h=references:in-reply-to:cc:to:from:subject:message-id:date
 :x-gm-message-state:from:to:cc:subject:date:message-id:reply-to;
 bh=8LQ78QdcAM8rbDxeDQocO4oBmabbf0lAyl/1CwUIqsI=;
 b=N6lqCDRZZOaffNBN0AzIMOMVC4S/hi9fWWhlA8B42ainKK0GIXB6ZxdigUzYrEfxzt
 k86vd2MoGVfbjAv4Wpv6eHalvh7nYkXvgJOnRKoPD8Aj6BDAD4gi6iptl9+71afS5CGF
 uASiESrPzUNYkfFtMDcyn3hDtFMuuvve3w37/M6+z/3tMUfgMQBnL47xnfQEzsF499px
 U5tEJz2q+seTlhHkin8keIB/3h2Wy8oYiDg1yQtlK6RpM3wPu60c7L3vfFXjqT6ZAshx
 VzMT6SPNol3SX5PvBupXLTIGKIAfXDauEx8goX6trFU+WkTIMSppvHXfXQQTss443PeT
 C32g==
X-Gm-Message-State: AOJu0Yx5NuK1kXGMI+rItxqgAe671tdUpgi4nMhhy8pQ6aZY54uQ6hRW
 yygJuLsRV0jGmz8d0kJfWNHlgRd6H5auD8vF1uEPYc3xkuYohdMzg284HchJVovSIpG4YnA3bpi
 ppjCcrcTLqLZSxMGbpnpetp4i9zgUFjM/w/rdk3DI
X-Gm-Gg: ASbGnct33yTZPgr9IsjvDoDGZvfHJRBtYhEkzjBzGUt3y9JKpn52sL/ya9gHHLULgTk
 9LCv/idAK+pUiN+vxoE/x1gwCon9wAJFbOmKP++BasR3Ft9fZx+tLB27sieJrdIW0h0Jf29cweR
 y3u/Df3cLyQFIyHuVmy4N47ezp0YWUVL3YaUejrnUeF2+DEzMFk0CeDcD99JU8cvsCEEwcKVt9h
 FTUSjOsIZToyykrvwi5gzuMoDrCNF0pt8Z5cY3isuuzsyyeIUH2fIeFuFAQUwYOUz2C0Q61DzmX
 HCqIRn82fhlCEL/xRQs=
X-Google-Smtp-Source: AGHT+IG0p/dVxM+mofuGqUwEBqIaVI6+PiHu36eceu3dxDK+BH0hTr40DIlbe9fF5uDZ1CRZEPG1Sd4YhARQ
X-Received: by 2002:a05:622a:1a90:b0:467:531f:10d6 with SMTP id
 d75a77b69052e-46e12e20bb1mr198310761cf.15.1737365010186; 
 Mon, 20 Jan 2025 01:23:30 -0800 (PST)
Received: from postal.iol.unh.edu (postal.iol.unh.edu. [132.177.123.84])
 by smtp-relay.gmail.com with ESMTPS id
 d75a77b69052e-46e103183e2sm2972771cf.12.2025.01.20.01.23.30
 (version=TLS1_2 cipher=ECDHE-ECDSA-AES128-GCM-SHA256 bits=128/128);
 Mon, 20 Jan 2025 01:23:30 -0800 (PST)
X-Relaying-Domain: iol.unh.edu
Date: Mon, 20 Jan 2025 01:23:30 -0800 (PST)
Message-ID: <678e1612.c80a0220.32d942.4348SMTPIN_ADDED_MISSING@mx.google.com>
Received: from [172.21.0.5] (unknown [172.18.0.240])
 by postal.iol.unh.edu (Postfix) with ESMTP id C36FE6052471;
 Mon, 20 Jan 2025 04:23:29 -0500 (EST)
Subject: |SUCCESS| pw150227 [PATCH] [v8] app/testpmd: add attach and detach p
From: dpdklab@iol.unh.edu
To: Test Report <test-report@dpdk.org>
Cc: dpdk-test-reports@iol.unh.edu
In-Reply-To: <20250120064218.32733-1-lihuisong@huawei.com>
References: <20250120064218.32733-1-lihuisong@huawei.com>
Content-Type: text/plain
X-BeenThere: test-report@dpdk.org
X-Mailman-Version: 2.1.29
Precedence: list
List-Id: automatic DPDK test reports <test-report.dpdk.org>
List-Unsubscribe: <https://mails.dpdk.org/options/test-report>,
 <mailto:test-report-request@dpdk.org?subject=unsubscribe>
List-Archive: <http://mails.dpdk.org/archives/test-report/>
List-Post: <mailto:test-report@dpdk.org>
List-Help: <mailto:test-report-request@dpdk.org?subject=help>
List-Subscribe: <https://mails.dpdk.org/listinfo/test-report>,
 <mailto:test-report-request@dpdk.org?subject=subscribe>
Errors-To: test-report-bounces@dpdk.org

Test-Label: iol-abi-testing
Test-Status: SUCCESS
http://dpdk.org/patch/150227

_Testing PASS_

Submitter: Huisong Li <lihuisong@huawei.com>
Date: Monday, January 20 2025 06:42:18 
DPDK git baseline: Repo:dpdk
  Branch: master
  CommitID:bd8b5185d3e9737ab05c8e30155004b63d1a36bc

150227 --> testing pass

Upstream job id: Generic-DPDK-Compile-ABI#112968

Test environment and result as below:

+-------------------+----------+
|    Environment    | abi_test |
+===================+==========+
| Fedora 40 (Clang) | PASS     |
+-------------------+----------+
| openSUSE Leap 15  | PASS     |
+-------------------+----------+
| Fedora 41         | PASS     |
+-------------------+----------+
| CentOS Stream 9   | PASS     |
+-------------------+----------+
| Fedora 41 (Clang) | PASS     |
+-------------------+----------+
| Debian 12         | PASS     |
+-------------------+----------+
| Fedora 40         | PASS     |
+-------------------+----------+
| RHEL9             | PASS     |
+-------------------+----------+
| Ubuntu 22.04      | PASS     |
+-------------------+----------+
| RHEL8             | PASS     |
+-------------------+----------+
| Ubuntu 24.04      | PASS     |
+-------------------+----------+


Fedora 40 (Clang)
	Kernel: Depends on container host
	Compiler: clang 18.1.8 (Fedora 18.1.8-1.fc40)

openSUSE Leap 15
	Kernel: Depends on container host
	Compiler: gcc (SUSE Linux) 7.5.0

Fedora 41
	Kernel: Depends on container host
	Compiler: gcc 14.2.1 20240912 (Red Hat 14.2.1-3)

CentOS Stream 9
	Kernel: Depends on container host
	Compiler: gcc 11.5.0 20240719 (Red Hat 11.5.0-2)

Fedora 41 (Clang)
	Kernel: Depends on container host
	Compiler: clang 19.1.5 (Fedora 19.1.5-1.fc41)

Debian 12
	Kernel: Depends on container host
	Compiler: gcc (Debian 12.2.0-14) 12.2.0

Fedora 40
	Kernel: Depends on container host
	Compiler: gcc 14.2.1 20240912 (Red Hat 14.2.1-3)

RHEL9
	Kernel: Depends on container host
	Compiler: gcc 11.5.0 20240719 (Red Hat 11.5.0-2)

Ubuntu 22.04
	Kernel: Depends on container host
	Compiler: gcc (Ubuntu 11.4.0-1ubuntu1~22.04) 11.4.0

RHEL8
	Kernel: Depends on container host
	Compiler: gcc 8.5.0 20210514 (Red Hat 8.5.0-22)

Ubuntu 24.04
	Kernel: Depends on container host
	Compiler: gcc (Ubuntu 13.3.0-6ubuntu2~24.04) 13.3.0

To view detailed results, visit:
https://lab.dpdk.org/results/dashboard/patchsets/32368/

UNH-IOL DPDK Community Lab

To manage your email subscriptions, visit: 
https://lab.dpdk.org/results/dashboard/preferences/subscriptions/