From mboxrd@z Thu Jan  1 00:00:00 1970
Return-Path: <test-report-bounces@dpdk.org>
Received: from mails.dpdk.org (mails.dpdk.org [217.70.189.124])
	by inbox.dpdk.org (Postfix) with ESMTP id 0E821460C2
	for <public@inbox.dpdk.org>; Mon, 20 Jan 2025 12:34:42 +0100 (CET)
Received: from mails.dpdk.org (localhost [127.0.0.1])
	by mails.dpdk.org (Postfix) with ESMTP id 0B11940653;
	Mon, 20 Jan 2025 12:34:42 +0100 (CET)
Received: from mail-io1-f97.google.com (mail-io1-f97.google.com
 [209.85.166.97]) by mails.dpdk.org (Postfix) with ESMTP id B4F8C4027A
 for <test-report@dpdk.org>; Mon, 20 Jan 2025 12:34:40 +0100 (CET)
Received: by mail-io1-f97.google.com with SMTP id
 ca18e2360f4ac-844df397754so128496939f.2
 for <test-report@dpdk.org>; Mon, 20 Jan 2025 03:34:40 -0800 (PST)
DKIM-Signature: v=1; a=rsa-sha256; c=relaxed/relaxed;
 d=iol.unh.edu; s=unh-iol; t=1737372880; x=1737977680; darn=dpdk.org;
 h=references:in-reply-to:cc:to:from:subject:message-id:date:from:to
 :cc:subject:date:message-id:reply-to;
 bh=NlCtCLeY4q4hfx1Z61cwEulwfrRS55h3PGuLW826rlI=;
 b=caBMea2MLP0hlLINqk6pAMd5fPRSJeE6DD/V5wJMVfIfqT94gFGkdZ8JDBLnt9MkCJ
 V+bQyuLQPaO9ts6wBnoippjCNIR6KM43LpyW2z5ZvZ4umdbIBqE1xq37ugxQ2iWMQVMk
 sAVDQ2DNrbqA/TmIFAQ1790SvCfEaLWB0cep0=
X-Google-DKIM-Signature: v=1; a=rsa-sha256; c=relaxed/relaxed;
 d=1e100.net; s=20230601; t=1737372880; x=1737977680;
 h=references:in-reply-to:cc:to:from:subject:message-id:date
 :x-gm-message-state:from:to:cc:subject:date:message-id:reply-to;
 bh=NlCtCLeY4q4hfx1Z61cwEulwfrRS55h3PGuLW826rlI=;
 b=EL2jsq2wFOeFFs/f92+A1w+y07xCo2+FrTBU84BMG3Rye8c+nKyAM99qiwu0YnyOfZ
 FOJ7+tFKqScANBr0kbHkQlxZWup/BLLMCtG+MgzpuAEB3XnLykRe0aZt+GiIOl+kVYJD
 sCmfArLltCO7IKlkKejnAQOxSRV7F6IenT5X+ndQ5djxK95NEe7D3+f+2KGeIeIkJuKA
 +q61MkOW2AAlBrsm/oB6qIadN+wEDxvE26z4V9+P4iqW9X/zDZ7v4bg7S3Rh6HwyA6F2
 11h9Sb2S8a4aOM3uq7v5MhDjq60E3wF6Zh/V6abS0abhBB+eCk7No72PqOeGhhLlBwWG
 iaNA==
X-Gm-Message-State: AOJu0YxbxRF44rxMmalo+I82Zr52wpa7B13DJt7p+M1czODGjPDNtJ3R
 5MNAdtapt9o1Zk+D3tWkWmMB12qKwHrx0XOI2xakdnXMWrDPzGwHSNfQaQt5+RG7vgGvUDZ8H0p
 hqoKFrW/CCJqhhKCfrKIvoFoCF7r1zhVKfLzUwxX+
X-Gm-Gg: ASbGncvEHdNYiX/HSsHmbl8TEMfoH7NrRxS2oexxkV4BnyauftgfaoVEJ5HcgdcAo1o
 e4n3Cl02ir6AqQEqFJAEfqDZ5A8v5Ldvu1uKYSMBbRapynzpHRyK7J7QL8Zu3dQaejoTZrx/1BG
 AiCbyHhl4HSQZ5V6k7Y+PxFVBdiyg9oYyNQkgZ9WapFNU9V64Ujw5+TCgfLEocBtmhq0I6MsFjc
 kTSj/JwjVGGbx26C0Yd0nylp8ch/2uhVsbZOm3pnb9f8NuWkJcC5vKVOda7ZiUBDrpHKNBHkkZC
 QNVPr0FdFEkPQO11op0=
X-Google-Smtp-Source: AGHT+IHEqCNwvKZ/r2Uts6oP+13Oqax2DPQQkg2/xEJ/N0EQpzFh7T0fBl5aeJAOy6yV5vCcZ4hDVCpHibe+
X-Received: by 2002:a05:6602:14cf:b0:83a:b52b:5cb5 with SMTP id
 ca18e2360f4ac-851b618daf4mr1062297439f.5.1737372879997; 
 Mon, 20 Jan 2025 03:34:39 -0800 (PST)
Received: from postal.iol.unh.edu (postal.iol.unh.edu. [132.177.123.84])
 by smtp-relay.gmail.com with ESMTPS id
 8926c6da1cb9f-4ea75484d5bsm515342173.42.2025.01.20.03.34.39
 (version=TLS1_2 cipher=ECDHE-ECDSA-AES128-GCM-SHA256 bits=128/128);
 Mon, 20 Jan 2025 03:34:39 -0800 (PST)
X-Relaying-Domain: iol.unh.edu
Date: Mon, 20 Jan 2025 03:34:39 -0800 (PST)
Message-ID: <678e34cf.050a0220.196ad3.0b59SMTPIN_ADDED_MISSING@mx.google.com>
Received: from [172.17.0.4] (unknown [172.18.0.217])
 by postal.iol.unh.edu (Postfix) with ESMTP id BEE646052471;
 Mon, 20 Jan 2025 06:34:36 -0500 (EST)
Subject: |SUCCESS| pw150228-150242 [PATCH] [v4,15/15] net/ngbe: add some ops 
From: dpdklab@iol.unh.edu
To: Test Report <test-report@dpdk.org>
Cc: dpdk-test-reports@iol.unh.edu
In-Reply-To: <20250120094242.1844-16-zaiyuwang@trustnetic.com>
References: <20250120094242.1844-16-zaiyuwang@trustnetic.com>
Content-Type: text/plain
X-BeenThere: test-report@dpdk.org
X-Mailman-Version: 2.1.29
Precedence: list
List-Id: automatic DPDK test reports <test-report.dpdk.org>
List-Unsubscribe: <https://mails.dpdk.org/options/test-report>,
 <mailto:test-report-request@dpdk.org?subject=unsubscribe>
List-Archive: <http://mails.dpdk.org/archives/test-report/>
List-Post: <mailto:test-report@dpdk.org>
List-Help: <mailto:test-report-request@dpdk.org?subject=help>
List-Subscribe: <https://mails.dpdk.org/listinfo/test-report>,
 <mailto:test-report-request@dpdk.org?subject=subscribe>
Errors-To: test-report-bounces@dpdk.org

Test-Label: iol-abi-testing
Test-Status: SUCCESS
http://dpdk.org/patch/150242

_Testing PASS_

Submitter: Zaiyu Wang <zaiyuwang@trustnetic.com>
Date: Monday, January 20 2025 09:42:41 
DPDK git baseline: Repo:dpdk
  Branch: master
  CommitID:bd8b5185d3e9737ab05c8e30155004b63d1a36bc

150228-150242 --> testing pass

Upstream job id: Generic-DPDK-Compile-ABI#112981

Test environment and result as below:

+-------------------+----------+
|    Environment    | abi_test |
+===================+==========+
| CentOS Stream 9   | PASS     |
+-------------------+----------+
| Debian 12         | PASS     |
+-------------------+----------+
| Fedora 40 (Clang) | PASS     |
+-------------------+----------+
| Fedora 41 (Clang) | PASS     |
+-------------------+----------+
| Fedora 40         | PASS     |
+-------------------+----------+
| Fedora 41         | PASS     |
+-------------------+----------+
| openSUSE Leap 15  | PASS     |
+-------------------+----------+
| RHEL8             | PASS     |
+-------------------+----------+
| RHEL9             | PASS     |
+-------------------+----------+
| Ubuntu 22.04      | PASS     |
+-------------------+----------+
| Ubuntu 24.04      | PASS     |
+-------------------+----------+


CentOS Stream 9
	Kernel: Depends on container host
	Compiler: gcc 11.5.0 20240719 (Red Hat 11.5.0-2)

Debian 12
	Kernel: Depends on container host
	Compiler: gcc (Debian 12.2.0-14) 12.2.0

Fedora 40 (Clang)
	Kernel: Depends on container host
	Compiler: clang 18.1.8 (Fedora 18.1.8-1.fc40)

Fedora 41 (Clang)
	Kernel: Depends on container host
	Compiler: clang 19.1.5 (Fedora 19.1.5-1.fc41)

Fedora 40
	Kernel: Depends on container host
	Compiler: gcc 14.2.1 20240912 (Red Hat 14.2.1-3)

Fedora 41
	Kernel: Depends on container host
	Compiler: gcc 14.2.1 20240912 (Red Hat 14.2.1-3)

openSUSE Leap 15
	Kernel: Depends on container host
	Compiler: gcc (SUSE Linux) 7.5.0

RHEL8
	Kernel: Depends on container host
	Compiler: gcc 8.5.0 20210514 (Red Hat 8.5.0-22)

RHEL9
	Kernel: Depends on container host
	Compiler: gcc 11.5.0 20240719 (Red Hat 11.5.0-2)

Ubuntu 22.04
	Kernel: Depends on container host
	Compiler: gcc (Ubuntu 11.4.0-1ubuntu1~22.04) 11.4.0

Ubuntu 24.04
	Kernel: Depends on container host
	Compiler: gcc (Ubuntu 13.3.0-6ubuntu2~24.04) 13.3.0

To view detailed results, visit:
https://lab.dpdk.org/results/dashboard/patchsets/32369/

UNH-IOL DPDK Community Lab

To manage your email subscriptions, visit: 
https://lab.dpdk.org/results/dashboard/preferences/subscriptions/