From mboxrd@z Thu Jan  1 00:00:00 1970
Return-Path: <test-report-bounces@dpdk.org>
Received: from mails.dpdk.org (mails.dpdk.org [217.70.189.124])
	by inbox.dpdk.org (Postfix) with ESMTP id 593E0460C4
	for <public@inbox.dpdk.org>; Mon, 20 Jan 2025 15:23:57 +0100 (CET)
Received: from mails.dpdk.org (localhost [127.0.0.1])
	by mails.dpdk.org (Postfix) with ESMTP id 5213540E3A;
	Mon, 20 Jan 2025 15:23:57 +0100 (CET)
Received: from mail-yb1-f227.google.com (mail-yb1-f227.google.com
 [209.85.219.227])
 by mails.dpdk.org (Postfix) with ESMTP id 5DB024021E
 for <test-report@dpdk.org>; Mon, 20 Jan 2025 15:23:55 +0100 (CET)
Received: by mail-yb1-f227.google.com with SMTP id
 3f1490d57ef6-e46c6547266so6418860276.3
 for <test-report@dpdk.org>; Mon, 20 Jan 2025 06:23:55 -0800 (PST)
DKIM-Signature: v=1; a=rsa-sha256; c=relaxed/relaxed;
 d=iol.unh.edu; s=unh-iol; t=1737383034; x=1737987834; darn=dpdk.org;
 h=references:in-reply-to:cc:to:from:subject:message-id:date:from:to
 :cc:subject:date:message-id:reply-to;
 bh=QCyC4V6seTyHPBz/PBzSiL5GpLv89G8K7LARXF0mvlc=;
 b=fz0bOG3PU5L7K8ICudegTyp3qdBhs/bu4orW0VTPsnblapJmT5Q76tPLFy1prZnTtx
 gGw8FgZk5b/f6yUq9i+lwGr75AYlwtlGxcXAebosqlBijE0uqodf0P8n7c417mP9XuTt
 vp6z38rKaxvMCty2nvtMLuaIsLMXy63Ud/bYQ=
X-Google-DKIM-Signature: v=1; a=rsa-sha256; c=relaxed/relaxed;
 d=1e100.net; s=20230601; t=1737383034; x=1737987834;
 h=references:in-reply-to:cc:to:from:subject:message-id:date
 :x-gm-message-state:from:to:cc:subject:date:message-id:reply-to;
 bh=QCyC4V6seTyHPBz/PBzSiL5GpLv89G8K7LARXF0mvlc=;
 b=S/OGZDZUHAdc41g+uip8yD5wyoWCuUcpZ3ZthNebII8nms3amdm+ZzCwAe1uQwdDww
 9xapTqxg5UN2s0TEQXlvUbV/ElV2z5M3R7gSSVv2y9PZoXSpjazI9ktDGkF9oYjQI18w
 vI/XkcKPZwi3fUFB6iR3yWz/dH2SouNQMGSUfwQUwMf3flkyeNfywo84msym9NAhtIOO
 8jtU5ydaWnsYifRJ/1LF+/C+pXQ06OoM52Dm8w01ip2AgTO8hPNvLOGWBhER1OUKzyEt
 1Zfjctw9ATTqT+bo5kwusICCVNxoWlvNOrZRmB3W11ywbh5BaXsKja8VXfjqBusspEtU
 +dQg==
X-Gm-Message-State: AOJu0YxMP1vza/ZMk66VF+xequ0mPqNvq9RpHK3UPX/2Jjp2ijwL2rpJ
 Ic4LqPw20HywF7Q7ATKPiCXBN+g9Ah8FhFsxKsEEdokKglEKE6+0A7jsv/xOvwclMYtlqNpUgGj
 U1/CHlD1yt4VjX08uWSWPmjuOH94KOoVmfZ2xfQBU
X-Gm-Gg: ASbGncvv3T/RgRzYMQOrlT5wc4esOzWr6sbc0KhBixRrrYLklSGMBb+cJAIqA4GXFAb
 mdYfNA8h67j8TowVaOv9QvEiBA9wBkxK60kg7nc3J03f1YqKLRV2xsiYdU8Ni1LbgdM4lnAYuKI
 h8or5Kx5gOrZDHE7b7qHJSZvT8pQGURUyR/wOWYvXyQEeWz57Pt78hGzm8L88QfE/A3lVVG9gKL
 cKSXZmzR9xBj6EzwVRVEZyrfq3x1ZQpJ3bvUvVVnoXbc01981VXudGqwUftE3dPF0BMW8+Z/VL9
 PIs7qwq2/eB48c26Jgw=
X-Google-Smtp-Source: AGHT+IHGKBWiwK+QH8ldlzRMZOgqQQLnu4cLZP49ndjM0+gKX0LgfFo7c4iBJBq8HRWMeIw4/SuoRs2DjW9E
X-Received: by 2002:a05:690c:a96:b0:6f6:7b02:2568 with SMTP id
 00721157ae682-6f6eb93f010mr113149117b3.32.1737383034774; 
 Mon, 20 Jan 2025 06:23:54 -0800 (PST)
Received: from postal.iol.unh.edu (postal.iol.unh.edu. [132.177.123.84])
 by smtp-relay.gmail.com with ESMTPS id
 00721157ae682-6f6e6706d63sm3645607b3.47.2025.01.20.06.23.54
 (version=TLS1_2 cipher=ECDHE-ECDSA-AES128-GCM-SHA256 bits=128/128);
 Mon, 20 Jan 2025 06:23:54 -0800 (PST)
X-Relaying-Domain: iol.unh.edu
Date: Mon, 20 Jan 2025 06:23:54 -0800 (PST)
Message-ID: <678e5c7a.050a0220.3be7d4.708eSMTPIN_ADDED_MISSING@mx.google.com>
Received: from [172.21.0.6] (unknown [172.18.0.240])
 by postal.iol.unh.edu (Postfix) with ESMTP id 68B646052471;
 Mon, 20 Jan 2025 09:23:54 -0500 (EST)
Subject: |SUCCESS| pw150244-150257 [PATCH] [v6,15/15] net/xsc: add ethdev lin
From: dpdklab@iol.unh.edu
To: Test Report <test-report@dpdk.org>
Cc: dpdk-test-reports@iol.unh.edu
In-Reply-To: <20250120111503.1048479-16-wanry@yunsilicon.com>
References: <20250120111503.1048479-16-wanry@yunsilicon.com>
Content-Type: text/plain
X-BeenThere: test-report@dpdk.org
X-Mailman-Version: 2.1.29
Precedence: list
List-Id: automatic DPDK test reports <test-report.dpdk.org>
List-Unsubscribe: <https://mails.dpdk.org/options/test-report>,
 <mailto:test-report-request@dpdk.org?subject=unsubscribe>
List-Archive: <http://mails.dpdk.org/archives/test-report/>
List-Post: <mailto:test-report@dpdk.org>
List-Help: <mailto:test-report-request@dpdk.org?subject=help>
List-Subscribe: <https://mails.dpdk.org/listinfo/test-report>,
 <mailto:test-report-request@dpdk.org?subject=subscribe>
Errors-To: test-report-bounces@dpdk.org

Test-Label: iol-compile-arm64-testing
Test-Status: SUCCESS
http://dpdk.org/patch/150257

_Testing PASS_

Submitter: WanRenyong <wanry@yunsilicon.com>
Date: Monday, January 20 2025 11:15:05 
DPDK git baseline: Repo:dpdk
  Branch: master
  CommitID:bd8b5185d3e9737ab05c8e30155004b63d1a36bc

150244-150257 --> testing pass

Upstream job id: Generic-DPDK-Compile-Meson#353037

Test environment and result as below:

+----------------------------------------+--------------------+
|              Environment               | dpdk_meson_compile |
+========================================+====================+
| RHEL9 (ARM)                            | PASS               |
+----------------------------------------+--------------------+
| Ubuntu 20.04 ARM GCC Cross Compile     | PASS               |
+----------------------------------------+--------------------+
| Ubuntu 20.04 ARM SVE                   | PASS               |
+----------------------------------------+--------------------+
| Fedora 40 (ARM)                        | PASS               |
+----------------------------------------+--------------------+
| Fedora 40 (ARM Clang)                  | PASS               |
+----------------------------------------+--------------------+
| Fedora 41 (ARM)                        | PASS               |
+----------------------------------------+--------------------+
| Fedora 41 (ARM Clang)                  | PASS               |
+----------------------------------------+--------------------+
| Ubuntu 20.04 (ARM)                     | PASS               |
+----------------------------------------+--------------------+
| Ubuntu 22.04 (ARM)                     | PASS               |
+----------------------------------------+--------------------+
| Ubuntu 24.04 (ARM)                     | PASS               |
+----------------------------------------+--------------------+
| CentOS Stream 9 (ARM)                  | PASS               |
+----------------------------------------+--------------------+
| Debian 11 (Buster) (ARM)               | PASS               |
+----------------------------------------+--------------------+
| Debian 12 (arm)                        | PASS               |
+----------------------------------------+--------------------+
| Ubuntu 20.04 ARM Clang Cross Compile   | PASS               |
+----------------------------------------+--------------------+
| Ubuntu 20.04 aarch32 GCC Cross Compile | PASS               |
+----------------------------------------+--------------------+
| Debian 12 with MUSDK                   | PASS               |
+----------------------------------------+--------------------+


RHEL9 (ARM)
	Kernel: Depends on container host
	Compiler: gcc 11.5.0 20240719 (Red Hat 11.5.0-2)

Ubuntu 20.04 ARM GCC Cross Compile
	Kernel: Depends on container host
	Compiler: aarch64-linux-gnu-gcc (Ubuntu 9.4.0-1ubuntu1~20.04.2) 9.4.0

Ubuntu 20.04 ARM SVE
	Kernel: Depends on container host
	Compiler: gcc (Ubuntu 10.5.0-1ubuntu1~20.04) 10.5.0

Fedora 40 (ARM)
	Kernel: Depends on container host
	Compiler: gcc 14.2.1 20240912 (Red Hat 14.2.1-3)

Fedora 40 (ARM Clang)
	Kernel: Depends on container host
	Compiler: clang 18.1.8 (Fedora 18.1.8-1.fc40)

Fedora 41 (ARM)
	Kernel: Depends on container host
	Compiler: gcc 14.2.1 20240912 (Red Hat 14.2.1-3)

Fedora 41 (ARM Clang)
	Kernel: Depends on container host
	Compiler: clang 19.1.5 (Fedora 19.1.5-1.fc41)

Ubuntu 20.04 (ARM)
	Kernel: Depends on container host
	Compiler: gcc (Ubuntu 9.4.0-1ubuntu1~20.04.2) 9.4.0

Ubuntu 22.04 (ARM)
	Kernel: Depends on container host
	Compiler: gcc (Ubuntu 11.4.0-1ubuntu1~22.04) 11.4.0

Ubuntu 24.04 (ARM)
	Kernel: Depends on container host
	Compiler: gcc (Ubuntu 13.3.0-6ubuntu2~24.04) 13.3.0

CentOS Stream 9 (ARM)
	Kernel: Depends on container host
	Compiler: gcc 11.5.0 20240719 (Red Hat 11.5.0-2)

Debian 11 (Buster) (ARM)
	Kernel: Depends on container host
	Compiler: gcc (Debian 10.2.1-6) 10.2.1 20210110

Debian 12 (arm)
	Kernel: Depends on container host
	Compiler: gcc (Debian 12.2.0-14) 12.2.0

Ubuntu 20.04 ARM Clang Cross Compile
	Kernel: Depends on container host
	Compiler: clang 10.0.0-4ubuntu1

Ubuntu 20.04 aarch32 GCC Cross Compile
	Kernel: Depends on container host
	Compiler: gcc 9.4.0

Debian 12 with MUSDK
	Kernel: Depends on container host
	Compiler: gcc (Debian 12.2.0-14) 12.2.0

To view detailed results, visit:
https://lab.dpdk.org/results/dashboard/patchsets/32371/

UNH-IOL DPDK Community Lab

To manage your email subscriptions, visit: 
https://lab.dpdk.org/results/dashboard/preferences/subscriptions/