From mboxrd@z Thu Jan  1 00:00:00 1970
Return-Path: <test-report-bounces@dpdk.org>
Received: from mails.dpdk.org (mails.dpdk.org [217.70.189.124])
	by inbox.dpdk.org (Postfix) with ESMTP id 19397460C5
	for <public@inbox.dpdk.org>; Mon, 20 Jan 2025 17:05:54 +0100 (CET)
Received: from mails.dpdk.org (localhost [127.0.0.1])
	by mails.dpdk.org (Postfix) with ESMTP id 1B11F40EF0;
	Mon, 20 Jan 2025 17:05:53 +0100 (CET)
Received: from mail-qv1-f98.google.com (mail-qv1-f98.google.com
 [209.85.219.98]) by mails.dpdk.org (Postfix) with ESMTP id 0302740A77
 for <test-report@dpdk.org>; Mon, 20 Jan 2025 17:05:51 +0100 (CET)
Received: by mail-qv1-f98.google.com with SMTP id
 6a1803df08f44-6d8f65ef5abso40294976d6.3
 for <test-report@dpdk.org>; Mon, 20 Jan 2025 08:05:51 -0800 (PST)
DKIM-Signature: v=1; a=rsa-sha256; c=relaxed/relaxed;
 d=iol.unh.edu; s=unh-iol; t=1737389151; x=1737993951; darn=dpdk.org;
 h=references:in-reply-to:cc:to:from:subject:message-id:date:from:to
 :cc:subject:date:message-id:reply-to;
 bh=lzkduep8k12gmEfliaTfkFLqaAoBXXv/EXIVo62aBRc=;
 b=JjjujNwkxheRWERk3DyXbpIEUWe1wRbMGqcYFU53zdbtWvIg49OrHjYIslXFrx3ekC
 9M7rnblh/SFYIfEGobrW+Ab9AVEkkAegcbrQ8/65xBQjVDkvFfP+NBnPT15K+v8HK/hP
 SmfUbL8ucMjb+GrviacUJBb6n1sRdnR2lkLkI=
X-Google-DKIM-Signature: v=1; a=rsa-sha256; c=relaxed/relaxed;
 d=1e100.net; s=20230601; t=1737389151; x=1737993951;
 h=references:in-reply-to:cc:to:from:subject:message-id:date
 :x-gm-message-state:from:to:cc:subject:date:message-id:reply-to;
 bh=lzkduep8k12gmEfliaTfkFLqaAoBXXv/EXIVo62aBRc=;
 b=tpf4RjwjvBsgMLQ1q1BudxiW+s/NC9j7FppmWXiPDSZe5OCQxY6S29pz3eDYpRL3YN
 WnThelzVgXv+4nx538Gw2Lh1sTfXkvOc5xgmQnyrdeu2qj1dosGllQjF03mcKcx9Lf4F
 fqXrIU03T4kfH4gYP6u8D8j6sgSN3uAS90dyIG+5/WD1LmbNxSXAb1z34GdxFHmAQv/2
 wTY4+HEtQXq9xCnr4+FTjCpn0X/1PFz7WuVW2mYqQbFsFurlS0ZErnafsAi4CZJiRoKv
 r4vJTbR2ykMlfIxO2pXyySVOdzZ9tK5lEQm7XcmWk8PgknTQcGFBLx7bnAhg3/iUFV/u
 WAQg==
X-Gm-Message-State: AOJu0Yzo6BROUEyZssrtbvjVQu9kGUp0zXkkgmQNtmyvfePHVyz3CEKw
 l5nvcE1JMjvUfKbBhyRs5ihfCT8VNKP2zyvoMPxGd3+51mEktuiJYk00auCopodEq1KTNB6friu
 6piaKZ8hF2L89KIREGAWyRUZ/vPYkyJxHkfUt1zhtX0vysqEQbFJ5pQc+
X-Gm-Gg: ASbGncv5eh/gvw5+1eNzLafnzlcE1mmX2ylylySqcPkMzvgteHhpzxNBvNBTlfII4TU
 +nrxqn3R6Xeu4V2n00OLvQ3BXUkxjwFfqUKEzl65oMsWc8hlWNvcF41X8//rQF88g0CrpaS02+f
 3huxGV8e5JEx24iZckP7CVZYWGKRO+TTcd2BXGsE0xGUI92ZYBXM5RZHaLk5+vsb10nXSwOEqvb
 c6ohpbXTJTAJ9tbU+ym1GTLM4+7hTYrBSd+bEhgJnwAAnm2gs5Hu5CZzaHo/bbwxGdghNal8+og
 xCJ0TmgY0Wknrp5WVKEC4mYuCfxhjWk=
X-Google-Smtp-Source: AGHT+IFMYUjC2ZUtjClt1dcSTqMa7BPLqBNM/5aAnVM2y6aer9HgUfjA7I7Q9eTzUyZfK4JqpUeyz9/YIuoJ
X-Received: by 2002:ad4:5ca7:0:b0:6d4:1bad:7415 with SMTP id
 6a1803df08f44-6e1b21344d2mr198481696d6.2.1737389151369; 
 Mon, 20 Jan 2025 08:05:51 -0800 (PST)
Received: from postal.iol.unh.edu (postal.iol.unh.edu.
 [2606:4100:3880:1234::84]) by smtp-relay.gmail.com with ESMTPS id
 6a1803df08f44-6e1afc20d2csm5043446d6.28.2025.01.20.08.05.51
 (version=TLS1_2 cipher=ECDHE-ECDSA-AES128-GCM-SHA256 bits=128/128);
 Mon, 20 Jan 2025 08:05:51 -0800 (PST)
X-Relaying-Domain: iol.unh.edu
Date: Mon, 20 Jan 2025 08:05:51 -0800 (PST)
Message-ID: <678e745f.050a0220.35dc7a.03a4SMTPIN_ADDED_MISSING@mx.google.com>
Received: from [172.21.0.5] (unknown [172.18.0.240])
 by postal.iol.unh.edu (Postfix) with ESMTP id 0569C6052471;
 Mon, 20 Jan 2025 11:05:51 -0500 (EST)
Subject: |SUCCESS| pw150260-150284 [PATCH] [v5,25/25] net/intel/common: extra
From: dpdklab@iol.unh.edu
To: Test Report <test-report@dpdk.org>
Cc: dpdk-test-reports@iol.unh.edu
In-Reply-To: <20250120120016.1530274-26-bruce.richardson@intel.com>
References: <20250120120016.1530274-26-bruce.richardson@intel.com>
Content-Type: text/plain
X-BeenThere: test-report@dpdk.org
X-Mailman-Version: 2.1.29
Precedence: list
List-Id: automatic DPDK test reports <test-report.dpdk.org>
List-Unsubscribe: <https://mails.dpdk.org/options/test-report>,
 <mailto:test-report-request@dpdk.org?subject=unsubscribe>
List-Archive: <http://mails.dpdk.org/archives/test-report/>
List-Post: <mailto:test-report@dpdk.org>
List-Help: <mailto:test-report-request@dpdk.org?subject=help>
List-Subscribe: <https://mails.dpdk.org/listinfo/test-report>,
 <mailto:test-report-request@dpdk.org?subject=subscribe>
Errors-To: test-report-bounces@dpdk.org

Test-Label: iol-unit-amd64-testing
Test-Status: SUCCESS
http://dpdk.org/patch/150284

_Testing PASS_

Submitter: Bruce Richardson <bruce.richardson@intel.com>
Date: Monday, January 20 2025 12:00:07 
DPDK git baseline: Repo:dpdk
  Branch: master
  CommitID:6d7e741be18ab1e6ecce46edb2516318305c3c73

150260-150284 --> testing pass

Upstream job id: Generic-VM-Unit-Test-DPDK#26938

Test environment and result as below:

+---------------------+----------------+
|     Environment     | dpdk_unit_test |
+=====================+================+
| Debian 12           | PASS           |
+---------------------+----------------+
| Fedora 40 (Clang)   | PASS           |
+---------------------+----------------+
| Debian Bullseye     | PASS           |
+---------------------+----------------+
| Fedora 40           | PASS           |
+---------------------+----------------+
| CentOS Stream 9     | PASS           |
+---------------------+----------------+
| Fedora 41           | PASS           |
+---------------------+----------------+
| Fedora 41 (Clang)   | PASS           |
+---------------------+----------------+
| Ubuntu 20.04        | PASS           |
+---------------------+----------------+
| Ubuntu 22.04        | PASS           |
+---------------------+----------------+
| RHEL8               | PASS           |
+---------------------+----------------+
| Ubuntu 24.04        | PASS           |
+---------------------+----------------+
| RHEL9               | PASS           |
+---------------------+----------------+
| Windows Server 2022 | PASS           |
+---------------------+----------------+


Debian 12
	Kernel: Depends on container host
	Compiler: gcc (Debian 12.2.0-14) 12.2.0

Fedora 40 (Clang)
	Kernel: Depends on container host
	Compiler: clang 18.1.8 (Fedora 18.1.8-1.fc40)

Debian Bullseye
	Kernel: Depends on container host
	Compiler: gcc (Debian 10.2.1-6) 10.2.1 20210110

Fedora 40
	Kernel: Depends on container host
	Compiler: gcc 14.2.1 20240912 (Red Hat 14.2.1-3)

CentOS Stream 9
	Kernel: Depends on container host
	Compiler: gcc 11.5.0 20240719 (Red Hat 11.5.0-2)

Fedora 41
	Kernel: Depends on container host
	Compiler: gcc 14.2.1 20240912 (Red Hat 14.2.1-3)

Fedora 41 (Clang)
	Kernel: Depends on container host
	Compiler: clang 19.1.5 (Fedora 19.1.5-1.fc41)

Ubuntu 20.04
	Kernel: Depends on container host
	Compiler: gcc (Ubuntu 9.4.0-1ubuntu1~20.04.2) 9.4.0

Ubuntu 22.04
	Kernel: Depends on container host
	Compiler: gcc (Ubuntu 11.4.0-1ubuntu1~22.04) 11.4.0

RHEL8
	Kernel: Depends on container host
	Compiler: gcc 8.5.0 20210514 (Red Hat 8.5.0-22)

Ubuntu 24.04
	Kernel: Depends on container host
	Compiler: gcc (Ubuntu 13.3.0-6ubuntu2~24.04) 13.3.0

RHEL9
	Kernel: Depends on container host
	Compiler: gcc 11.5.0 20240719 (Red Hat 11.5.0-2)

Windows Server 2022
	Kernel: 10.0.20348.2031
	Compiler: clang 15.0.7, gcc 14.1.0 (MinGW), and MSVC VS 19.39.33521

To view detailed results, visit:
https://lab.dpdk.org/results/dashboard/patchsets/32373/

UNH-IOL DPDK Community Lab

To manage your email subscriptions, visit: 
https://lab.dpdk.org/results/dashboard/preferences/subscriptions/