From mboxrd@z Thu Jan  1 00:00:00 1970
Return-Path: <test-report-bounces@dpdk.org>
Received: from mails.dpdk.org (mails.dpdk.org [217.70.189.124])
	by inbox.dpdk.org (Postfix) with ESMTP id 0397F460D9
	for <public@inbox.dpdk.org>; Wed, 22 Jan 2025 03:36:20 +0100 (CET)
Received: from mails.dpdk.org (localhost [127.0.0.1])
	by mails.dpdk.org (Postfix) with ESMTP id 0073B402B2;
	Wed, 22 Jan 2025 03:36:20 +0100 (CET)
Received: from mail-yb1-f227.google.com (mail-yb1-f227.google.com
 [209.85.219.227])
 by mails.dpdk.org (Postfix) with ESMTP id 534E7402A9
 for <test-report@dpdk.org>; Wed, 22 Jan 2025 03:36:18 +0100 (CET)
Received: by mail-yb1-f227.google.com with SMTP id
 3f1490d57ef6-e5372a2fbddso9706161276.3
 for <test-report@dpdk.org>; Tue, 21 Jan 2025 18:36:18 -0800 (PST)
DKIM-Signature: v=1; a=rsa-sha256; c=relaxed/relaxed;
 d=iol.unh.edu; s=unh-iol; t=1737513377; x=1738118177; darn=dpdk.org;
 h=references:in-reply-to:cc:to:from:subject:message-id:date:from:to
 :cc:subject:date:message-id:reply-to;
 bh=cmBmGMWDJcpzx51/h4CAdV267JcjoiywpEzj8t2GoCg=;
 b=GLHOhtr7w22HCgL5cr8hyoacPxuvxj0zhnLNcKV95e5WyTv8We4cuW5qeuDfNGCDnd
 sNATBUgwLjQorBa8rZ7zJ0Uj3tEIYVNpAgu97dixX2RrQVX4h1QK/AVPisHP8mKOthW0
 jNB1iXDMDjZZmB3AbZPOmyGo0LCbWA5eBLVoU=
X-Google-DKIM-Signature: v=1; a=rsa-sha256; c=relaxed/relaxed;
 d=1e100.net; s=20230601; t=1737513377; x=1738118177;
 h=references:in-reply-to:cc:to:from:subject:message-id:date
 :x-gm-message-state:from:to:cc:subject:date:message-id:reply-to;
 bh=cmBmGMWDJcpzx51/h4CAdV267JcjoiywpEzj8t2GoCg=;
 b=rYF20nx7IUVeCdtEz5608SQU+dcb4Y9gPzrI/vpWLxgE5uKFy2LUO9M38TDl4AC1XW
 iWFls0SjxnFCOasZX4J7YZA8rzg65+jbTlmd4UliNFNnYuJF3sBDDe0Ygar7sN1NGR5S
 6rzP3PkwOdMjj6SOd0P4c4R2Yqb3weB2Kj3V2BHJwncOl+a0rMyq4BhMNP88qPsWT2B2
 f/K3IzsADT+SUjGuAOGnqBWQU8bruXuBz27wEVQFAeaDOErT8SwiSnTg2mq1pUBneGjl
 IsnqzHtwSjussTuGeWEe5hz39TmWBhmr/xA1bfRu/TT0FYjvIJH1+9Otlx9AtYmvUYsm
 Kp7Q==
X-Gm-Message-State: AOJu0YzJ2vHURN8lBI8awRi+TVO3jbzl6tlndjQLE9+L7R1OnN/HX1Xf
 qXAxdrLmyNlYI+ICszI/NRBikCPx1JAaE9Mq+YkzNJizWNLI+cmp3ZZ5dMfg+9zh2iKJvarePnR
 HqeBbH+J4DqDumbClH34uGegcF/yW6Jt/z4qJlclrWgLRF3uKrhkRax5m
X-Gm-Gg: ASbGncuAZ+B7tLA6BorrcOo8QW4K48bRszo9d1cSt00P+NPvdOqbwMfmLDk76EPux0H
 dAQdEufTgYe2PlzyK4xcAJiaAB+idu/ypGh63k6P1PF2qinr2wMNjaqIdyw6r4MxNXb60dL4Gx3
 xwvlUaYM30vvQVb4LRPc4dmRDBv/44Y0WH3/0v9RooJb4yLDBtLsK29cOqpcZH7WghkNLWSmIMs
 n7O5usY5vur53qgkEYxUhfLcHI8v+bxdUxUqR7Cu2jXe6jJ4oH4D86KLdVqkGxVlY4m28tjO9tu
 rkJPs/O1cbIIAs8HrcY1IJLYgUrH1fs=
X-Google-Smtp-Source: AGHT+IFCtR76UoXep2vlBawCX5xx6CUkdrQI7o50hOd2WIE4+9n8Ug4ZtzHRJh4pL91uSRkCo5aWfwsVOHBT
X-Received: by 2002:a05:690c:998a:b0:6ef:6d37:1844 with SMTP id
 00721157ae682-6f6eb656c55mr151200637b3.7.1737513377695; 
 Tue, 21 Jan 2025 18:36:17 -0800 (PST)
Received: from postal.iol.unh.edu (postal.iol.unh.edu.
 [2606:4100:3880:1234::84]) by smtp-relay.gmail.com with ESMTPS id
 00721157ae682-6f6e64569c2sm8503837b3.22.2025.01.21.18.36.17
 (version=TLS1_2 cipher=ECDHE-ECDSA-AES128-GCM-SHA256 bits=128/128);
 Tue, 21 Jan 2025 18:36:17 -0800 (PST)
X-Relaying-Domain: iol.unh.edu
Date: Tue, 21 Jan 2025 18:36:17 -0800 (PST)
Message-ID: <679059a1.0d0a0220.e8175.76b8SMTPIN_ADDED_MISSING@mx.google.com>
Received: from [172.21.0.6] (unknown [172.18.0.240])
 by postal.iol.unh.edu (Postfix) with ESMTP id 50D7E6052471;
 Tue, 21 Jan 2025 21:36:17 -0500 (EST)
Subject: |SUCCESS| pw150361-150363 [PATCH] [v16,3/3] drivers/net: add diagnos
From: dpdklab@iol.unh.edu
To: Test Report <test-report@dpdk.org>
Cc: dpdk-test-reports@iol.unh.edu
In-Reply-To: <1737498970-4631-4-git-send-email-andremue@linux.microsoft.com>
References: <1737498970-4631-4-git-send-email-andremue@linux.microsoft.com>
Content-Type: text/plain
X-BeenThere: test-report@dpdk.org
X-Mailman-Version: 2.1.29
Precedence: list
List-Id: automatic DPDK test reports <test-report.dpdk.org>
List-Unsubscribe: <https://mails.dpdk.org/options/test-report>,
 <mailto:test-report-request@dpdk.org?subject=unsubscribe>
List-Archive: <http://mails.dpdk.org/archives/test-report/>
List-Post: <mailto:test-report@dpdk.org>
List-Help: <mailto:test-report-request@dpdk.org?subject=help>
List-Subscribe: <https://mails.dpdk.org/listinfo/test-report>,
 <mailto:test-report-request@dpdk.org?subject=subscribe>
Errors-To: test-report-bounces@dpdk.org

Test-Label: iol-unit-arm64-testing
Test-Status: SUCCESS
http://dpdk.org/patch/150363

_Testing PASS_

Submitter: Andre Muezerie <andremue@linux.microsoft.com>
Date: Tuesday, January 21 2025 22:36:10 
DPDK git baseline: Repo:dpdk
  Branch: master
  CommitID:6d7e741be18ab1e6ecce46edb2516318305c3c73

150361-150363 --> testing pass

Upstream job id: Generic-Unit-Test-DPDK#307942

Test environment and result as below:

+-----------------------------+----------------+------------------------------+--------------+---------------------------+
|         Environment         | dpdk_unit_test | cryptodev_sw_snow3g_autotest | lpm_autotest | cryptodev_sw_zuc_autotest |
+=============================+================+==============================+==============+===========================+
| CentOS Stream 9 (ARM)       | PASS           | SKIPPED                      | SKIPPED      | SKIPPED                   |
+-----------------------------+----------------+------------------------------+--------------+---------------------------+
| Debian 11 (Buster) (ARM)    | PASS           | SKIPPED                      | SKIPPED      | SKIPPED                   |
+-----------------------------+----------------+------------------------------+--------------+---------------------------+
| Debian 12 (arm)             | PASS           | PASS                         | SKIPPED      | PASS                      |
+-----------------------------+----------------+------------------------------+--------------+---------------------------+
| Fedora 40 (ARM)             | PASS           | SKIPPED                      | SKIPPED      | SKIPPED                   |
+-----------------------------+----------------+------------------------------+--------------+---------------------------+
| Fedora 40 (ARM Clang)       | PASS           | SKIPPED                      | SKIPPED      | SKIPPED                   |
+-----------------------------+----------------+------------------------------+--------------+---------------------------+
| Ubuntu 20.04 (ARM)          | PASS           | SKIPPED                      | SKIPPED      | SKIPPED                   |
+-----------------------------+----------------+------------------------------+--------------+---------------------------+
| RHEL9 (ARM)                 | PASS           | SKIPPED                      | SKIPPED      | SKIPPED                   |
+-----------------------------+----------------+------------------------------+--------------+---------------------------+
| Fedora 41 (ARM Clang)       | PASS           | SKIPPED                      | SKIPPED      | SKIPPED                   |
+-----------------------------+----------------+------------------------------+--------------+---------------------------+
| Ubuntu 22.04 (ARM)          | PASS           | SKIPPED                      | SKIPPED      | SKIPPED                   |
+-----------------------------+----------------+------------------------------+--------------+---------------------------+
| Fedora 41 (ARM)             | PASS           | SKIPPED                      | SKIPPED      | SKIPPED                   |
+-----------------------------+----------------+------------------------------+--------------+---------------------------+
| Ubuntu 24.04 (ARM)          | PASS           | SKIPPED                      | SKIPPED      | SKIPPED                   |
+-----------------------------+----------------+------------------------------+--------------+---------------------------+
| 32-bit Ubuntu 22.04.4 (ARM) | PASS           | SKIPPED                      | SKIPPED      | SKIPPED                   |
+-----------------------------+----------------+------------------------------+--------------+---------------------------+
| Ubuntu 20.04 ARM SVE        | SKIPPED        | SKIPPED                      | PASS         | SKIPPED                   |
+-----------------------------+----------------+------------------------------+--------------+---------------------------+


CentOS Stream 9 (ARM)
	Kernel: Depends on container host
	Compiler: gcc 11.5.0 20240719 (Red Hat 11.5.0-2)

Debian 11 (Buster) (ARM)
	Kernel: Depends on container host
	Compiler: gcc (Debian 10.2.1-6) 10.2.1 20210110

Debian 12 (arm)
	Kernel: Depends on container host
	Compiler: gcc (Debian 12.2.0-14) 12.2.0

Fedora 40 (ARM)
	Kernel: Depends on container host
	Compiler: gcc 14.2.1 20240912 (Red Hat 14.2.1-3)

Fedora 40 (ARM Clang)
	Kernel: Depends on container host
	Compiler: clang 18.1.8 (Fedora 18.1.8-1.fc40)

Ubuntu 20.04 (ARM)
	Kernel: Depends on container host
	Compiler: gcc (Ubuntu 9.4.0-1ubuntu1~20.04.2) 9.4.0

RHEL9 (ARM)
	Kernel: Depends on container host
	Compiler: gcc 11.5.0 20240719 (Red Hat 11.5.0-2)

Fedora 41 (ARM Clang)
	Kernel: Depends on container host
	Compiler: clang 19.1.5 (Fedora 19.1.5-1.fc41)

Ubuntu 22.04 (ARM)
	Kernel: Depends on container host
	Compiler: gcc (Ubuntu 11.4.0-1ubuntu1~22.04) 11.4.0

Fedora 41 (ARM)
	Kernel: Depends on container host
	Compiler: gcc 14.2.1 20240912 (Red Hat 14.2.1-3)

Ubuntu 24.04 (ARM)
	Kernel: Depends on container host
	Compiler: gcc (Ubuntu 13.3.0-6ubuntu2~24.04) 13.3.0

32-bit Ubuntu 22.04.4 (ARM)
	Kernel: 5.15.83+ aarch64
	Compiler: gcc (Ubuntu 11.4.0-1ubuntu1~22.04) 11.4.0

Ubuntu 20.04 ARM SVE
	Kernel: Depends on container host
	Compiler: gcc (Ubuntu 10.5.0-1ubuntu1~20.04) 10.5.0

To view detailed results, visit:
https://lab.dpdk.org/results/dashboard/patchsets/32388/

UNH-IOL DPDK Community Lab

To manage your email subscriptions, visit: 
https://lab.dpdk.org/results/dashboard/preferences/subscriptions/