From mboxrd@z Thu Jan  1 00:00:00 1970
Return-Path: <test-report-bounces@dpdk.org>
Received: from mails.dpdk.org (mails.dpdk.org [217.70.189.124])
	by inbox.dpdk.org (Postfix) with ESMTP id D7B89460D2
	for <public@inbox.dpdk.org>; Thu, 23 Jan 2025 19:52:00 +0100 (CET)
Received: from mails.dpdk.org (localhost [127.0.0.1])
	by mails.dpdk.org (Postfix) with ESMTP id C4339402DB;
	Thu, 23 Jan 2025 19:52:00 +0100 (CET)
Received: from mail-ot1-f99.google.com (mail-ot1-f99.google.com
 [209.85.210.99]) by mails.dpdk.org (Postfix) with ESMTP id 9D69340261
 for <test-report@dpdk.org>; Thu, 23 Jan 2025 19:51:59 +0100 (CET)
Received: by mail-ot1-f99.google.com with SMTP id
 46e09a7af769-71e1e051e50so316356a34.0
 for <test-report@dpdk.org>; Thu, 23 Jan 2025 10:51:59 -0800 (PST)
DKIM-Signature: v=1; a=rsa-sha256; c=relaxed/relaxed;
 d=iol.unh.edu; s=unh-iol; t=1737658318; x=1738263118; darn=dpdk.org;
 h=references:in-reply-to:cc:to:from:subject:message-id:date:from:to
 :cc:subject:date:message-id:reply-to;
 bh=BifZrmBB/vFdv+EA4EhSFEk56d+yQHOxZdGYnZ07K7E=;
 b=BdpK91gsJmRPvgg5rnuypPZA4ohSol8mY2nGeBg3S8Mbadhktvi5Wr56L5PSNKawIF
 xO7yb4GbR5nbftgM9xI5M60k037qvDalpLNdqiU2P7PiXvM0TpJhlVZKG/mEYpWnmIfE
 tNFtlMALquJZ6OdQZ7HN7wNPT0dc0zXhgUwhI=
X-Google-DKIM-Signature: v=1; a=rsa-sha256; c=relaxed/relaxed;
 d=1e100.net; s=20230601; t=1737658318; x=1738263118;
 h=references:in-reply-to:cc:to:from:subject:message-id:date
 :x-gm-message-state:from:to:cc:subject:date:message-id:reply-to;
 bh=BifZrmBB/vFdv+EA4EhSFEk56d+yQHOxZdGYnZ07K7E=;
 b=QRdooAYrk0XsgtuCx9diuEPMp7paSClBEeG25XzFMLS/hphSdG8ueOCZtQ1hXFQeYd
 JC1cxQVjBKhoCv6pGkqm5+fgfYE8viiw/BoUP/oh5jt+lm3CGFOo27DR2xGgUbNuC1DC
 +fkiAwHbz0G2+p7Ro9q28/FuSGCQ+5d3l4UMZo9la/ozuPRxoOWxKn4Fd26FgLEmj8zt
 fm6AeXBiG9Ig9xe5ZHIOqKYmGYcyufE6qFDnHBWd/qiGMJoOSA+FxuO9qvG0I3q4uJTP
 kd2ebdh/TGhofrNjHr+jsiIhAkTclRCCzTIgNxnYlpAs+qGW6Jnh3LC8qiBOpSwwTHl/
 7DpQ==
X-Gm-Message-State: AOJu0YyQoq3oafUKSOlSg82VgIeMtbG6JIMfMjgP3cWt43Dkwfz3NLhK
 ZJ6xQTtBLaFJHELTt+ZIzFu7YvGLprpMSb5mIoTkOX3SL0Aq664fabRxvUjbvQerOwhvHpAc4mj
 lXGrlNg/oQz7Bf0ikmebNHQznxDAxXsMSxAs2aZPHw5mMaONb21LCGTwE
X-Gm-Gg: ASbGncsaRBPxS2XGgdnBVNSKEUnx2h5EYwaTouh7qIv679E5RyhM7iteX6IZDRxT9U/
 q6Bc3F3koI/01/l4fmJpk9MltHCUQ9SxQ6HqU+C2vINL5u5lmxRzA7ab9Tx2p5JREYyNaTqhjWY
 xKVRgG4JZxO52rMzPqPGAwSvU/81LxqReofTKFFabrezWJIoSLOJAnf2l1hsLfxcCp8FCpczWLy
 BtGuZNoAQ/BmAYn5wLxgM+v5xPYyyKwDveDqp1UzBn6QqZvmJfOzlY0h56Q/CJ6iYci4AWZcXyE
 BRNWF/ZB2S3OKtrdJQW+oskLKZMaElw=
X-Google-Smtp-Source: AGHT+IFZUzmKmKRm+nrDBwCAZJss0Z6BiwUaDATotrMeP2CEgExBB/Cza1VoJVESP45POPmISs9X2+ZJBjuI
X-Received: by 2002:a05:6830:6999:b0:71d:5f22:aff5 with SMTP id
 46e09a7af769-7249da75157mr17529431a34.10.1737658318605; 
 Thu, 23 Jan 2025 10:51:58 -0800 (PST)
Received: from postal.iol.unh.edu (postal.iol.unh.edu.
 [2606:4100:3880:1234::84]) by smtp-relay.gmail.com with ESMTPS id
 006d021491bc7-5fa3600a5dfsm340681eaf.23.2025.01.23.10.51.58
 (version=TLS1_2 cipher=ECDHE-ECDSA-AES128-GCM-SHA256 bits=128/128);
 Thu, 23 Jan 2025 10:51:58 -0800 (PST)
X-Relaying-Domain: iol.unh.edu
Date: Thu, 23 Jan 2025 10:51:58 -0800 (PST)
Message-ID: <67928fce.4a0a0220.cc196.7621SMTPIN_ADDED_MISSING@mx.google.com>
Received: from [172.17.0.4] (unknown [172.18.0.217])
 by postal.iol.unh.edu (Postfix) with ESMTP id CA4FB6052471;
 Thu, 23 Jan 2025 13:51:57 -0500 (EST)
Subject: |WARNING| pw150410-150424 [PATCH] [v3,15/15] sched: add allocation f
From: dpdklab@iol.unh.edu
To: Test Report <test-report@dpdk.org>
Cc: dpdk-test-reports@iol.unh.edu
In-Reply-To: <20250123163003.23394-16-stephen@networkplumber.org>
References: <20250123163003.23394-16-stephen@networkplumber.org>
Content-Type: text/plain
X-BeenThere: test-report@dpdk.org
X-Mailman-Version: 2.1.29
Precedence: list
List-Id: automatic DPDK test reports <test-report.dpdk.org>
List-Unsubscribe: <https://mails.dpdk.org/options/test-report>,
 <mailto:test-report-request@dpdk.org?subject=unsubscribe>
List-Archive: <http://mails.dpdk.org/archives/test-report/>
List-Post: <mailto:test-report@dpdk.org>
List-Help: <mailto:test-report-request@dpdk.org?subject=help>
List-Subscribe: <https://mails.dpdk.org/listinfo/test-report>,
 <mailto:test-report-request@dpdk.org?subject=subscribe>
Errors-To: test-report-bounces@dpdk.org

Test-Label: iol-compile-amd64-testing
Test-Status: WARNING
http://dpdk.org/patch/150424

_Testing issues_

Submitter: Stephen Hemminger <stephen@networkplumber.org>
Date: Thursday, January 23 2025 16:28:15 
DPDK git baseline: Repo:dpdk
  Branch: master
  CommitID:5b856206c74bbcf19e12cafa15382a7e15b0a1b5

150410-150424 --> testing issues

Upstream job id: Generic-DPDK-Compile-Meson#354260

Test environment and result as below:

+---------------------+--------------------+------------------+-------------------+-----------------------+-------------------+----------------------+
|     Environment     | dpdk_meson_compile | dpdk_compile_ovs | dpdk_compile_spdk | dpdk_win_llvm_compile | dpdk_msvc_compile | dpdk_mingw64_compile |
+=====================+====================+==================+===================+=======================+===================+======================+
| CentOS Stream 9     | PASS               | PASS             | PASS              | SKIPPED               | SKIPPED           | SKIPPED              |
+---------------------+--------------------+------------------+-------------------+-----------------------+-------------------+----------------------+
| Debian Bullseye     | PASS               | PASS             | PASS              | SKIPPED               | SKIPPED           | SKIPPED              |
+---------------------+--------------------+------------------+-------------------+-----------------------+-------------------+----------------------+
| Fedora 40 (Clang)   | PASS               | PASS             | PASS              | SKIPPED               | SKIPPED           | SKIPPED              |
+---------------------+--------------------+------------------+-------------------+-----------------------+-------------------+----------------------+
| Debian 12           | PASS               | PASS             | PASS              | SKIPPED               | SKIPPED           | SKIPPED              |
+---------------------+--------------------+------------------+-------------------+-----------------------+-------------------+----------------------+
| RHEL8               | PASS               | PASS             | SKIPPED           | SKIPPED               | SKIPPED           | SKIPPED              |
+---------------------+--------------------+------------------+-------------------+-----------------------+-------------------+----------------------+
| Fedora 40           | PASS               | PASS             | PASS              | SKIPPED               | SKIPPED           | SKIPPED              |
+---------------------+--------------------+------------------+-------------------+-----------------------+-------------------+----------------------+
| Fedora 41           | PASS               | PASS             | PASS              | SKIPPED               | SKIPPED           | SKIPPED              |
+---------------------+--------------------+------------------+-------------------+-----------------------+-------------------+----------------------+
| Fedora 41 (Clang)   | PASS               | PASS             | PASS              | SKIPPED               | SKIPPED           | SKIPPED              |
+---------------------+--------------------+------------------+-------------------+-----------------------+-------------------+----------------------+
| openSUSE Leap 15    | PASS               | SKIPPED          | SKIPPED           | SKIPPED               | SKIPPED           | SKIPPED              |
+---------------------+--------------------+------------------+-------------------+-----------------------+-------------------+----------------------+
| Ubuntu 24.04        | PASS               | PASS             | PASS              | SKIPPED               | SKIPPED           | SKIPPED              |
+---------------------+--------------------+------------------+-------------------+-----------------------+-------------------+----------------------+
| RHEL9               | PASS               | PASS             | SKIPPED           | SKIPPED               | SKIPPED           | SKIPPED              |
+---------------------+--------------------+------------------+-------------------+-----------------------+-------------------+----------------------+
| Ubuntu 20.04        | PASS               | WARN             | SKIPPED           | SKIPPED               | SKIPPED           | SKIPPED              |
+---------------------+--------------------+------------------+-------------------+-----------------------+-------------------+----------------------+
| Ubuntu 22.04        | PASS               | PASS             | PASS              | SKIPPED               | SKIPPED           | SKIPPED              |
+---------------------+--------------------+------------------+-------------------+-----------------------+-------------------+----------------------+
| FreeBSD 13.4        | PASS               | SKIPPED          | SKIPPED           | SKIPPED               | SKIPPED           | SKIPPED              |
+---------------------+--------------------+------------------+-------------------+-----------------------+-------------------+----------------------+
| FreeBSD 14.2        | PASS               | SKIPPED          | SKIPPED           | SKIPPED               | SKIPPED           | SKIPPED              |
+---------------------+--------------------+------------------+-------------------+-----------------------+-------------------+----------------------+
| Alpine              | PASS               | PASS             | SKIPPED           | SKIPPED               | SKIPPED           | SKIPPED              |
+---------------------+--------------------+------------------+-------------------+-----------------------+-------------------+----------------------+
| Windows Server 2022 | SKIPPED            | SKIPPED          | SKIPPED           | PASS                  | PASS              | PASS                 |
+---------------------+--------------------+------------------+-------------------+-----------------------+-------------------+----------------------+

==== 20 line log output for Ubuntu 20.04 (dpdk_compile_ovs): ====
 --- Failed to get log output --- 
==== End log output ====

CentOS Stream 9
	Kernel: Depends on container host
	Compiler: gcc 11.5.0 20240719 (Red Hat 11.5.0-2)

Debian Bullseye
	Kernel: Depends on container host
	Compiler: gcc (Debian 10.2.1-6) 10.2.1 20210110

Fedora 40 (Clang)
	Kernel: Depends on container host
	Compiler: clang 18.1.8 (Fedora 18.1.8-1.fc40)

Debian 12
	Kernel: Depends on container host
	Compiler: gcc (Debian 12.2.0-14) 12.2.0

RHEL8
	Kernel: Depends on container host
	Compiler: gcc 8.5.0 20210514 (Red Hat 8.5.0-22)

Fedora 40
	Kernel: Depends on container host
	Compiler: gcc 14.2.1 20240912 (Red Hat 14.2.1-3)

Fedora 41
	Kernel: Depends on container host
	Compiler: gcc 14.2.1 20240912 (Red Hat 14.2.1-3)

Fedora 41 (Clang)
	Kernel: Depends on container host
	Compiler: clang 19.1.5 (Fedora 19.1.5-1.fc41)

openSUSE Leap 15
	Kernel: Depends on container host
	Compiler: gcc (SUSE Linux) 7.5.0

Ubuntu 24.04
	Kernel: Depends on container host
	Compiler: gcc (Ubuntu 13.3.0-6ubuntu2~24.04) 13.3.0

RHEL9
	Kernel: Depends on container host
	Compiler: gcc 11.5.0 20240719 (Red Hat 11.5.0-2)

Ubuntu 20.04
	Kernel: Depends on container host
	Compiler: gcc (Ubuntu 9.4.0-1ubuntu1~20.04.2) 9.4.0

Ubuntu 22.04
	Kernel: Depends on container host
	Compiler: gcc (Ubuntu 11.4.0-1ubuntu1~22.04) 11.4.0

FreeBSD 13.4
	Kernel: 13.4-RELEASE-p1
	Compiler: clang 18.1.6

FreeBSD 14.2
	Kernel: 14.2-RELEASE
	Compiler: clang 18.1.6

Alpine
	Kernel: Depends on container host
	Compiler: gcc (Alpine 14.2.0) 14.2.0

Windows Server 2022
	Kernel: 10.0.20348.2031
	Compiler: clang 15.0.7, gcc 14.1.0 (MinGW), and MSVC VS 19.39.33521

To view detailed results, visit:
https://lab.dpdk.org/results/dashboard/patchsets/32402/

UNH-IOL DPDK Community Lab

To manage your email subscriptions, visit: 
https://lab.dpdk.org/results/dashboard/preferences/subscriptions/