From mboxrd@z Thu Jan  1 00:00:00 1970
Return-Path: <test-report-bounces@dpdk.org>
Received: from mails.dpdk.org (mails.dpdk.org [217.70.189.124])
	by inbox.dpdk.org (Postfix) with ESMTP id B64AC46110
	for <public@inbox.dpdk.org>; Fri, 24 Jan 2025 02:15:49 +0100 (CET)
Received: from mails.dpdk.org (localhost [127.0.0.1])
	by mails.dpdk.org (Postfix) with ESMTP id 8A8FE40DF6;
	Fri, 24 Jan 2025 02:15:49 +0100 (CET)
Received: from mail-io1-f99.google.com (mail-io1-f99.google.com
 [209.85.166.99]) by mails.dpdk.org (Postfix) with ESMTP id 78A2C40274
 for <test-report@dpdk.org>; Fri, 24 Jan 2025 02:15:48 +0100 (CET)
Received: by mail-io1-f99.google.com with SMTP id
 ca18e2360f4ac-851c4ee2a37so107496339f.3
 for <test-report@dpdk.org>; Thu, 23 Jan 2025 17:15:48 -0800 (PST)
DKIM-Signature: v=1; a=rsa-sha256; c=relaxed/relaxed;
 d=iol.unh.edu; s=unh-iol; t=1737681347; x=1738286147; darn=dpdk.org;
 h=references:in-reply-to:cc:to:from:subject:message-id:date:from:to
 :cc:subject:date:message-id:reply-to;
 bh=vW8Y16DriUCmGVLAPgqSNa5orzV5ct+4CjHAMj1H/uA=;
 b=R/Ltvw9j6eCVs9IGB/r4jRoo/9jPARub8RIqUt10fIM/PrCAvdTjmrOv2xt1tPRcEp
 iOdaEgdCZw83gjDoVeVK9xTCqB7f4NGkwiSg6U5dZg/xNTgrJtJUhuzf/By3zbJZtwtr
 E2oltVIeD46r9resX9byRB8NiFgC6g7nq+t80=
X-Google-DKIM-Signature: v=1; a=rsa-sha256; c=relaxed/relaxed;
 d=1e100.net; s=20230601; t=1737681347; x=1738286147;
 h=references:in-reply-to:cc:to:from:subject:message-id:date
 :x-gm-message-state:from:to:cc:subject:date:message-id:reply-to;
 bh=vW8Y16DriUCmGVLAPgqSNa5orzV5ct+4CjHAMj1H/uA=;
 b=JKqUQBkjeHnDOPJ0gAmqGG35fZYDQ1fGF+4OQ214JyoPezLKr9gsSGdgXjSkYrcBGe
 9xJyyYxFQ/naEiLYNH0tYBFpVZzgg2Er0mqC5RvUzHFQGZMCLV2fRrDiRRRmZR1yPfRN
 HUc2mMDQ59/iSjt6boqRTT39+UKjRJTOH8uxdgBiGzY2Ff9XnLPJ9wPbfXnIsKSdjdqL
 mIXzT5PTW3RSB8EneulKkteSG8c68BKtzdakAhSmoFC6OMHDEV1L53QlyqAuZGE0TNwP
 SmHHBYy4ioBYt3xsAVzjRTaerExKtiiAkvsO3LQhYYJX4IfVhnJS1e6Bx8rzE2NzlTko
 V/oA==
X-Gm-Message-State: AOJu0Yy2u2tQk5s2q8yJn2hdI9KSHBzzedr4pEZC1JoVruIrnBmZKYYl
 Gz/6EvT+hbLuWGrPaBLzBjGgEnPu16jv3AusnJHcbytpx8CrEPiFOZuSGyUj9xUq9UVCKUCnPYk
 W4MVdLWN9Jq2hJrbsrnqsBjr0qQ/WVQ/rtU48SOSn
X-Gm-Gg: ASbGnctQfHoeOSHFKqYNb9COFEtyHFJZlkP1SwUfF3lG5YK3wt3RYeAHugETorhO6IZ
 9dssvjmXB15FyyyzS255w7K9bKlKuPsBB8sXppdwzKmiE4xl752r+z+fXLEVuw9fnardOnHETp8
 Of0UwD2aJ2+/IpCzF/FW4vHtYTtaPrGwy/fiBFHpgl7ALzv04DnNzfms1TMrQEREXafQ7LLMDK1
 n4JhswRB/0ntBjxtUBcnEtkWgqckbAa/PSUZG5rEG1X30KrVmdB8j/PBySV3ukFqAhyaN5+F0Sr
 E+HPkB/zAi5fPY9qGxo=
X-Google-Smtp-Source: AGHT+IG4NhC/FeQ85SXmEbR8pyKm8qNcb6yNL3cx3CNiOHDgtjUDAGXI8A46+kOt8Osb/j6qlEErRqJ843bg
X-Received: by 2002:a05:6602:36cc:b0:844:c76a:354d with SMTP id
 ca18e2360f4ac-851b6162856mr2297974639f.2.1737681347674; 
 Thu, 23 Jan 2025 17:15:47 -0800 (PST)
Received: from postal.iol.unh.edu (postal.iol.unh.edu. [132.177.123.84])
 by smtp-relay.gmail.com with ESMTPS id
 8926c6da1cb9f-4ec1d4fb437sm41286173.54.2025.01.23.17.15.47
 (version=TLS1_2 cipher=ECDHE-ECDSA-AES128-GCM-SHA256 bits=128/128);
 Thu, 23 Jan 2025 17:15:47 -0800 (PST)
X-Relaying-Domain: iol.unh.edu
Date: Thu, 23 Jan 2025 17:15:47 -0800 (PST)
Message-ID: <6792e9c3.050a0220.45b75.2ae0SMTPIN_ADDED_MISSING@mx.google.com>
Received: from [172.21.0.5] (unknown [172.18.0.240])
 by postal.iol.unh.edu (Postfix) with ESMTP id 319E16052471;
 Thu, 23 Jan 2025 20:15:47 -0500 (EST)
Subject: |SUCCESS| pw150429-150430 [PATCH] [v2,3/3] baseband/acc: add interna
From: dpdklab@iol.unh.edu
To: Test Report <test-report@dpdk.org>
Cc: dpdk-test-reports@iol.unh.edu
In-Reply-To: <20250123225519.2469167-4-nicolas.chautru@intel.com>
References: <20250123225519.2469167-4-nicolas.chautru@intel.com>
Content-Type: text/plain
X-BeenThere: test-report@dpdk.org
X-Mailman-Version: 2.1.29
Precedence: list
List-Id: automatic DPDK test reports <test-report.dpdk.org>
List-Unsubscribe: <https://mails.dpdk.org/options/test-report>,
 <mailto:test-report-request@dpdk.org?subject=unsubscribe>
List-Archive: <http://mails.dpdk.org/archives/test-report/>
List-Post: <mailto:test-report@dpdk.org>
List-Help: <mailto:test-report-request@dpdk.org?subject=help>
List-Subscribe: <https://mails.dpdk.org/listinfo/test-report>,
 <mailto:test-report-request@dpdk.org?subject=subscribe>
Errors-To: test-report-bounces@dpdk.org

Test-Label: iol-sample-apps-testing
Test-Status: SUCCESS
http://dpdk.org/patch/150430

_Testing PASS_

Submitter: Nicolas Chautru <nicolas.chautru@intel.com>
Date: Thursday, January 23 2025 22:55:19 
DPDK git baseline: Repo:dpdk
  Branch: master
  CommitID:07e3bebf3c93750c52ed9be87edd212fbc22da0a

150429-150430 --> testing pass

Upstream job id: ACVP-FIPS-testing#8661

Test environment and result as below:

+--------------------+----------------------+----------------------+
|    Environment     | compressdev_zlib_pmd | dpdk_fips_validation |
+====================+======================+======================+
| Ubuntu 22.04 (ARM) | PASS                 | SKIPPED              |
+--------------------+----------------------+----------------------+
| Ubuntu 22.04       | PASS                 | SKIPPED              |
+--------------------+----------------------+----------------------+
| Ubuntu 20.04       | SKIPPED              | PASS                 |
+--------------------+----------------------+----------------------+


Ubuntu 22.04 (ARM)
	Kernel: 5.15.0-97-generic
	Compiler: gcc gcc (Ubuntu 11.4.0-1ubuntu1~22.04) 11.4.0

Ubuntu 22.04
	Kernel: 5.15.0-100-generic
	Compiler: gcc gcc (Ubuntu 11.4.0-1ubuntu1~22.04) 11.4.0

Ubuntu 20.04
	Kernel: Depends on container host
	Compiler: gcc (Ubuntu 9.4.0-1ubuntu1~20.04.2) 9.4.0

To view detailed results, visit:
https://lab.dpdk.org/results/dashboard/patchsets/32405/

UNH-IOL DPDK Community Lab

To manage your email subscriptions, visit: 
https://lab.dpdk.org/results/dashboard/preferences/subscriptions/