From mboxrd@z Thu Jan  1 00:00:00 1970
Return-Path: <test-report-bounces@dpdk.org>
Received: from mails.dpdk.org (mails.dpdk.org [217.70.189.124])
	by inbox.dpdk.org (Postfix) with ESMTP id 5A32B46110
	for <public@inbox.dpdk.org>; Fri, 24 Jan 2025 02:28:37 +0100 (CET)
Received: from mails.dpdk.org (localhost [127.0.0.1])
	by mails.dpdk.org (Postfix) with ESMTP id 5016B40DF6;
	Fri, 24 Jan 2025 02:28:37 +0100 (CET)
Received: from mail-pj1-f97.google.com (mail-pj1-f97.google.com
 [209.85.216.97]) by mails.dpdk.org (Postfix) with ESMTP id 740BB40274
 for <test-report@dpdk.org>; Fri, 24 Jan 2025 02:28:36 +0100 (CET)
Received: by mail-pj1-f97.google.com with SMTP id
 98e67ed59e1d1-2ee8aa26415so2912716a91.1
 for <test-report@dpdk.org>; Thu, 23 Jan 2025 17:28:36 -0800 (PST)
DKIM-Signature: v=1; a=rsa-sha256; c=relaxed/relaxed;
 d=iol.unh.edu; s=unh-iol; t=1737682115; x=1738286915; darn=dpdk.org;
 h=references:in-reply-to:cc:to:from:subject:message-id:date:from:to
 :cc:subject:date:message-id:reply-to;
 bh=hJNX9erNPm/3RzSWPMpZeve5XzRj2qmb9LrNipu50+c=;
 b=K+owYfUVlXECxFM9ItfqTUHZu+q5XU5tl24x6KuRCaaWpfr7V9QZDioM2rsV06Mhvf
 bPZHgKsG4UkbqetPkMH9e9vjrvNqkOV+OirzJtW6LaJgFkyIDNx+kpjAbwjbtFFvqTPJ
 m1RlDPb/P9K4Q4Dx4WDe3IVKGAikey1qF09jo=
X-Google-DKIM-Signature: v=1; a=rsa-sha256; c=relaxed/relaxed;
 d=1e100.net; s=20230601; t=1737682115; x=1738286915;
 h=references:in-reply-to:cc:to:from:subject:message-id:date
 :x-gm-message-state:from:to:cc:subject:date:message-id:reply-to;
 bh=hJNX9erNPm/3RzSWPMpZeve5XzRj2qmb9LrNipu50+c=;
 b=AK2CWuE7KcqUnRSDb/Y/t9ZPhETklRPoUXGlzr9CkhOSikRhP6nDktdOu4jZrfETKM
 KVeldjWakjMphmJn6I33uSieW2TvLeCrj32etulcQehvHCkhgZZzLWWyWrddJoNVmy9x
 VRqeBKPsrJrM/GttJq0wpEYBD3v/fYwIjHmi57HkjsnGNa0VuWgZpvN07m75hCd4az1s
 GnwHlhYjGF3Ex5Bdw0y2HKZ12dKgMK3vnOU/Mn8XmkxyO21acWsB7g9ikCms9W+5oHEp
 2VIx0H7iQboo60wXvo39Npu221r3rB0Ytu6rq2jq8dlvE4VpaIFiTZ7SQvSQLYOXQkEd
 nE5g==
X-Gm-Message-State: AOJu0YwfM22cTtwYH3kEwjqRLODm03TUKrb/nQ0ZQtJrmiRq8RT5s1vS
 TiLIgWPeDKrF3USCDtFDV3OXWSkhMK/LyiCzI3j2qG+EZOr8M/n8BHmqmARNzfimkOPY6Km5B6P
 Rwa2D/ewZnC1IpOhYJXl6mAoUraV8yBf0eP9jI8dc
X-Gm-Gg: ASbGnctPAezy/21bX38YUXzfM/GWEWEUBdGtiQJsP7YYPbdrjmLbPQ6ImrjtKGEN4PO
 6KcaJod/Wb0dxJDP6y9XqN2hUsHpxCE4DxmZAgZBQA44edrQQ7oUu3voNScwhK9DTCU1LVOeMie
 +q0huFBzoqp0pGI2Y1tqGyexUAyPm5GMJsKXyXD7MzxKp4Aga3lq4yU07hc099GJa6XOhgPjfqV
 yd1O2zhsqHTOrDd4jHd9jN7TD8H6EfzchxjaGNtpcA/d4cXdVcFmH1Me3tp2CYneQfiQONAIDxf
 AAnRQWhlzg4xk1mhRRc=
X-Google-Smtp-Source: AGHT+IF9D4TghE9OUAXtVLKKOYZWXKnIrHKK0D89W89kgSoV9oPWWw7AGyP7sLTw0yP1ODlDtZkG8gcqsIZu
X-Received: by 2002:a05:6a00:4c18:b0:72d:8d98:c250 with SMTP id
 d2e1a72fcca58-72daf9a5535mr41276514b3a.4.1737682115516; 
 Thu, 23 Jan 2025 17:28:35 -0800 (PST)
Received: from postal.iol.unh.edu (postal.iol.unh.edu. [132.177.123.84])
 by smtp-relay.gmail.com with ESMTPS id
 d2e1a72fcca58-72f8a6b1245sm67061b3a.9.2025.01.23.17.28.35
 (version=TLS1_2 cipher=ECDHE-ECDSA-AES128-GCM-SHA256 bits=128/128);
 Thu, 23 Jan 2025 17:28:35 -0800 (PST)
X-Relaying-Domain: iol.unh.edu
Date: Thu, 23 Jan 2025 17:28:35 -0800 (PST)
Message-ID: <6792ecc3.050a0220.e0d2.474eSMTPIN_ADDED_MISSING@mx.google.com>
Received: from [172.21.0.5] (unknown [172.18.0.240])
 by postal.iol.unh.edu (Postfix) with ESMTP id EA7C76052471;
 Thu, 23 Jan 2025 20:28:34 -0500 (EST)
Subject: |SUCCESS| pw150429-150430 [PATCH] [v2,3/3] baseband/acc: add interna
From: dpdklab@iol.unh.edu
To: Test Report <test-report@dpdk.org>
Cc: dpdk-test-reports@iol.unh.edu
In-Reply-To: <20250123225519.2469167-4-nicolas.chautru@intel.com>
References: <20250123225519.2469167-4-nicolas.chautru@intel.com>
Content-Type: text/plain
X-BeenThere: test-report@dpdk.org
X-Mailman-Version: 2.1.29
Precedence: list
List-Id: automatic DPDK test reports <test-report.dpdk.org>
List-Unsubscribe: <https://mails.dpdk.org/options/test-report>,
 <mailto:test-report-request@dpdk.org?subject=unsubscribe>
List-Archive: <http://mails.dpdk.org/archives/test-report/>
List-Post: <mailto:test-report@dpdk.org>
List-Help: <mailto:test-report-request@dpdk.org?subject=help>
List-Subscribe: <https://mails.dpdk.org/listinfo/test-report>,
 <mailto:test-report-request@dpdk.org?subject=subscribe>
Errors-To: test-report-bounces@dpdk.org

Test-Label: iol-unit-arm64-testing
Test-Status: SUCCESS
http://dpdk.org/patch/150430

_Testing PASS_

Submitter: Nicolas Chautru <nicolas.chautru@intel.com>
Date: Thursday, January 23 2025 22:55:19 
DPDK git baseline: Repo:dpdk
  Branch: master
  CommitID:07e3bebf3c93750c52ed9be87edd212fbc22da0a

150429-150430 --> testing pass

Upstream job id: Aarch32-Unit-Test#5033

Test environment and result as below:

+-----------------------------+------------------------------+--------------+---------------------------+----------------+
|         Environment         | cryptodev_sw_snow3g_autotest | lpm_autotest | cryptodev_sw_zuc_autotest | dpdk_unit_test |
+=============================+==============================+==============+===========================+================+
| Debian 12 (arm)             | PASS                         | SKIPPED      | PASS                      | PASS           |
+-----------------------------+------------------------------+--------------+---------------------------+----------------+
| Ubuntu 20.04 ARM SVE        | SKIPPED                      | PASS         | SKIPPED                   | SKIPPED        |
+-----------------------------+------------------------------+--------------+---------------------------+----------------+
| CentOS Stream 9 (ARM)       | SKIPPED                      | SKIPPED      | SKIPPED                   | PASS           |
+-----------------------------+------------------------------+--------------+---------------------------+----------------+
| Fedora 40 (ARM)             | SKIPPED                      | SKIPPED      | SKIPPED                   | PASS           |
+-----------------------------+------------------------------+--------------+---------------------------+----------------+
| Debian 11 (Buster) (ARM)    | SKIPPED                      | SKIPPED      | SKIPPED                   | PASS           |
+-----------------------------+------------------------------+--------------+---------------------------+----------------+
| Fedora 40 (ARM Clang)       | SKIPPED                      | SKIPPED      | SKIPPED                   | PASS           |
+-----------------------------+------------------------------+--------------+---------------------------+----------------+
| Fedora 41 (ARM)             | SKIPPED                      | SKIPPED      | SKIPPED                   | PASS           |
+-----------------------------+------------------------------+--------------+---------------------------+----------------+
| RHEL9 (ARM)                 | SKIPPED                      | SKIPPED      | SKIPPED                   | PASS           |
+-----------------------------+------------------------------+--------------+---------------------------+----------------+
| Fedora 41 (ARM Clang)       | SKIPPED                      | SKIPPED      | SKIPPED                   | PASS           |
+-----------------------------+------------------------------+--------------+---------------------------+----------------+
| Ubuntu 24.04 (ARM)          | SKIPPED                      | SKIPPED      | SKIPPED                   | PASS           |
+-----------------------------+------------------------------+--------------+---------------------------+----------------+
| Ubuntu 20.04 (ARM)          | SKIPPED                      | SKIPPED      | SKIPPED                   | PASS           |
+-----------------------------+------------------------------+--------------+---------------------------+----------------+
| Ubuntu 22.04 (ARM)          | SKIPPED                      | SKIPPED      | SKIPPED                   | PASS           |
+-----------------------------+------------------------------+--------------+---------------------------+----------------+
| 32-bit Ubuntu 22.04.4 (ARM) | SKIPPED                      | SKIPPED      | SKIPPED                   | PASS           |
+-----------------------------+------------------------------+--------------+---------------------------+----------------+


Debian 12 (arm)
	Kernel: Depends on container host
	Compiler: gcc (Debian 12.2.0-14) 12.2.0

Ubuntu 20.04 ARM SVE
	Kernel: Depends on container host
	Compiler: gcc (Ubuntu 10.5.0-1ubuntu1~20.04) 10.5.0

CentOS Stream 9 (ARM)
	Kernel: Depends on container host
	Compiler: gcc 11.5.0 20240719 (Red Hat 11.5.0-2)

Fedora 40 (ARM)
	Kernel: Depends on container host
	Compiler: gcc 14.2.1 20240912 (Red Hat 14.2.1-3)

Debian 11 (Buster) (ARM)
	Kernel: Depends on container host
	Compiler: gcc (Debian 10.2.1-6) 10.2.1 20210110

Fedora 40 (ARM Clang)
	Kernel: Depends on container host
	Compiler: clang 18.1.8 (Fedora 18.1.8-1.fc40)

Fedora 41 (ARM)
	Kernel: Depends on container host
	Compiler: gcc 14.2.1 20240912 (Red Hat 14.2.1-3)

RHEL9 (ARM)
	Kernel: Depends on container host
	Compiler: gcc 11.5.0 20240719 (Red Hat 11.5.0-2)

Fedora 41 (ARM Clang)
	Kernel: Depends on container host
	Compiler: clang 19.1.5 (Fedora 19.1.5-1.fc41)

Ubuntu 24.04 (ARM)
	Kernel: Depends on container host
	Compiler: gcc (Ubuntu 13.3.0-6ubuntu2~24.04) 13.3.0

Ubuntu 20.04 (ARM)
	Kernel: Depends on container host
	Compiler: gcc (Ubuntu 9.4.0-1ubuntu1~20.04.2) 9.4.0

Ubuntu 22.04 (ARM)
	Kernel: Depends on container host
	Compiler: gcc (Ubuntu 11.4.0-1ubuntu1~22.04) 11.4.0

32-bit Ubuntu 22.04.4 (ARM)
	Kernel: 5.15.83+ aarch64
	Compiler: gcc (Ubuntu 11.4.0-1ubuntu1~22.04) 11.4.0

To view detailed results, visit:
https://lab.dpdk.org/results/dashboard/patchsets/32405/

UNH-IOL DPDK Community Lab

To manage your email subscriptions, visit: 
https://lab.dpdk.org/results/dashboard/preferences/subscriptions/