From mboxrd@z Thu Jan  1 00:00:00 1970
Return-Path: <test-report-bounces@dpdk.org>
Received: from mails.dpdk.org (mails.dpdk.org [217.70.189.124])
	by inbox.dpdk.org (Postfix) with ESMTP id D2CEA46121
	for <public@inbox.dpdk.org>; Fri, 24 Jan 2025 12:52:25 +0100 (CET)
Received: from mails.dpdk.org (localhost [127.0.0.1])
	by mails.dpdk.org (Postfix) with ESMTP id C157840E49;
	Fri, 24 Jan 2025 12:52:25 +0100 (CET)
Received: from mail-pj1-f97.google.com (mail-pj1-f97.google.com
 [209.85.216.97]) by mails.dpdk.org (Postfix) with ESMTP id 6285940E48
 for <test-report@dpdk.org>; Fri, 24 Jan 2025 12:52:24 +0100 (CET)
Received: by mail-pj1-f97.google.com with SMTP id
 98e67ed59e1d1-2ef70c7efa5so2952381a91.2
 for <test-report@dpdk.org>; Fri, 24 Jan 2025 03:52:24 -0800 (PST)
DKIM-Signature: v=1; a=rsa-sha256; c=relaxed/relaxed;
 d=iol.unh.edu; s=unh-iol; t=1737719543; x=1738324343; darn=dpdk.org;
 h=references:in-reply-to:cc:to:from:subject:message-id:date:from:to
 :cc:subject:date:message-id:reply-to;
 bh=JCyey8GFKlbcP3zZFz/R6c9XXjRG7Zwr5WMLeF8CUV0=;
 b=R+rKAWDUtj8HXjN22GdWeYLYN13iGbTpme3GTpZtDoA2AbtmDkVlufRs/y58uaBcZ9
 XV/kHGaN7qMNPKAaiGtXfSkIFbydf28eHpnxF9byyrrwzGnvfgqYU+ZLs29T1Ezch2WP
 X9JGC+dycYHn7f9DVUlFAP6oYd3OVi44dWq9g=
X-Google-DKIM-Signature: v=1; a=rsa-sha256; c=relaxed/relaxed;
 d=1e100.net; s=20230601; t=1737719543; x=1738324343;
 h=references:in-reply-to:cc:to:from:subject:message-id:date
 :x-gm-message-state:from:to:cc:subject:date:message-id:reply-to;
 bh=JCyey8GFKlbcP3zZFz/R6c9XXjRG7Zwr5WMLeF8CUV0=;
 b=QbE7A3ENcZoF8QTyRlwiZIRYihUBoV+hSBp/TV3wo4lJ/6gPtvKqdE+IrrfAu3ba8X
 4bYBa/q4heWf6vbQHd03L2g+VEoFyU+qWdzwpH62Bldbyy5SmyelOfn/5VMbavQUV5MY
 9mx+zr4lAqWjrxNQfFYtSTN/GTBx2BDG6kv+FG+kglAf72ApJtHBLu1ISRTF2qhjtp6W
 mA70QIwVYMi4nW9+UGjPnzWQHcY88vmKoEuORjaV6vKxUacLhlsMYV47mqAO8/R01Bpd
 YZm1wVD6q5WPouC3olodvpH/s7/wZHFV4hLyIWp64ahuVX6WhEQ9D/jp55H1O84+pt70
 1bZg==
X-Gm-Message-State: AOJu0Yx5vHxVz+8ipMrfVKn4yi3vGWiIVRd9S8Tcaw6gMQdxsGDXL4Ok
 3wNy6aEJHOcEARUrHkdfNjWCI3PvygxIlD28PcS5Z3KGtI2VdcpfXsJOyYqNrrmEvQAj2dIVhHm
 K3F485ewRlqqnNlbL46FBa/NZlwtpe7Jg9jRdvixKxNoT9hvA49l2K7f6
X-Gm-Gg: ASbGncvFl3ItcSkpUG0ms6cpB/GAS/wmdP/osTNK3aL1LZ7osGL7w7XSiRkkQmZf2al
 A3866Gev4LRExCSC4CJ4Adbhmu01ePT4Eo2yrkaxVA2Dm9/AxpSWDjKvkS2grGR9rI2+OTQ0eoN
 Qit0lLeWgFzyab5IeF7TowLwqGCjGrK53cGfaSrXIRoGE0FOlsCU7US4Q1FJFEDoBcGpRB9xcDb
 h5oiIQrhTEkjEd3szxUwVsC3GxSVfdGAe+DorqykFeRLuYcmvc+JxN6YuVAbAqCN4cX0ZYI80Gn
 aGLelGik4j9fCpG7ZaOVGjCfy3ZiUu0=
X-Google-Smtp-Source: AGHT+IHagCsLqqd+NMk1IjmwL9eezEvFMGmK/bLH/dMwBYZs0oxfKyQCSlQfjuWo93eqxsugqOAzxtiTc46V
X-Received: by 2002:a17:90b:4d0e:b0:2ee:bf84:4fe8 with SMTP id
 98e67ed59e1d1-2f782d69fc6mr42709422a91.30.1737719543569; 
 Fri, 24 Jan 2025 03:52:23 -0800 (PST)
Received: from postal.iol.unh.edu (postal.iol.unh.edu.
 [2606:4100:3880:1234::84]) by smtp-relay.gmail.com with ESMTPS id
 98e67ed59e1d1-2f7ffa46bc2sm86018a91.1.2025.01.24.03.52.23
 (version=TLS1_2 cipher=ECDHE-ECDSA-AES128-GCM-SHA256 bits=128/128);
 Fri, 24 Jan 2025 03:52:23 -0800 (PST)
X-Relaying-Domain: iol.unh.edu
Date: Fri, 24 Jan 2025 03:52:23 -0800 (PST)
Message-ID: <67937ef7.170a0220.194509.55cbSMTPIN_ADDED_MISSING@mx.google.com>
Received: from [172.17.0.4] (unknown [172.18.0.217])
 by postal.iol.unh.edu (Postfix) with ESMTP id 02DC66052471;
 Fri, 24 Jan 2025 06:52:23 -0500 (EST)
Subject: |WARNING| pw150433-150435 [PATCH] [v2,3/3] net/ice: ACL filter suppo
From: dpdklab@iol.unh.edu
To: Test Report <test-report@dpdk.org>
Cc: dpdk-test-reports@iol.unh.edu
In-Reply-To: <20250124091324.403435-4-mingjinx.ye@intel.com>
References: <20250124091324.403435-4-mingjinx.ye@intel.com>
Content-Type: text/plain
X-BeenThere: test-report@dpdk.org
X-Mailman-Version: 2.1.29
Precedence: list
List-Id: automatic DPDK test reports <test-report.dpdk.org>
List-Unsubscribe: <https://mails.dpdk.org/options/test-report>,
 <mailto:test-report-request@dpdk.org?subject=unsubscribe>
List-Archive: <http://mails.dpdk.org/archives/test-report/>
List-Post: <mailto:test-report@dpdk.org>
List-Help: <mailto:test-report-request@dpdk.org?subject=help>
List-Subscribe: <https://mails.dpdk.org/listinfo/test-report>,
 <mailto:test-report-request@dpdk.org?subject=subscribe>
Errors-To: test-report-bounces@dpdk.org

Test-Label: iol-compile-amd64-testing
Test-Status: WARNING
http://dpdk.org/patch/150435

_Testing issues_

Submitter: Mingjin Ye <mingjinx.ye@intel.com>
Date: Friday, January 24 2025 09:13:23 
DPDK git baseline: Repo:dpdk
  Branch: master
  CommitID:5c318e37541dbe80b9f07e184850b1382f2a54d5

150433-150435 --> testing issues

Upstream job id: Generic-DPDK-Compile-Meson#354522

Test environment and result as below:

+---------------------+--------------------+------------------+-------------------+-------------------+----------------------+
|     Environment     | dpdk_meson_compile | dpdk_compile_ovs | dpdk_compile_spdk | dpdk_msvc_compile | dpdk_mingw64_compile |
+=====================+====================+==================+===================+===================+======================+
| CentOS Stream 9     | PASS               | PASS             | PASS              | SKIPPED           | SKIPPED              |
+---------------------+--------------------+------------------+-------------------+-------------------+----------------------+
| Debian Bullseye     | PASS               | PASS             | PASS              | SKIPPED           | SKIPPED              |
+---------------------+--------------------+------------------+-------------------+-------------------+----------------------+
| Debian 12           | PASS               | PASS             | PASS              | SKIPPED           | SKIPPED              |
+---------------------+--------------------+------------------+-------------------+-------------------+----------------------+
| Fedora 40 (Clang)   | PASS               | PASS             | PASS              | SKIPPED           | SKIPPED              |
+---------------------+--------------------+------------------+-------------------+-------------------+----------------------+
| Fedora 40           | PASS               | PASS             | PASS              | SKIPPED           | SKIPPED              |
+---------------------+--------------------+------------------+-------------------+-------------------+----------------------+
| Fedora 41 (Clang)   | PASS               | PASS             | PASS              | SKIPPED           | SKIPPED              |
+---------------------+--------------------+------------------+-------------------+-------------------+----------------------+
| Fedora 41           | PASS               | PASS             | PASS              | SKIPPED           | SKIPPED              |
+---------------------+--------------------+------------------+-------------------+-------------------+----------------------+
| openSUSE Leap 15    | PASS               | SKIPPED          | SKIPPED           | SKIPPED           | SKIPPED              |
+---------------------+--------------------+------------------+-------------------+-------------------+----------------------+
| RHEL9               | PASS               | PASS             | SKIPPED           | SKIPPED           | SKIPPED              |
+---------------------+--------------------+------------------+-------------------+-------------------+----------------------+
| RHEL8               | PASS               | PASS             | SKIPPED           | SKIPPED           | SKIPPED              |
+---------------------+--------------------+------------------+-------------------+-------------------+----------------------+
| Ubuntu 20.04        | PASS               | WARN             | SKIPPED           | SKIPPED           | SKIPPED              |
+---------------------+--------------------+------------------+-------------------+-------------------+----------------------+
| Ubuntu 22.04        | PASS               | PASS             | PASS              | SKIPPED           | SKIPPED              |
+---------------------+--------------------+------------------+-------------------+-------------------+----------------------+
| Ubuntu 24.04        | PASS               | PASS             | PASS              | SKIPPED           | SKIPPED              |
+---------------------+--------------------+------------------+-------------------+-------------------+----------------------+
| Alpine              | PASS               | PASS             | SKIPPED           | SKIPPED           | SKIPPED              |
+---------------------+--------------------+------------------+-------------------+-------------------+----------------------+
| FreeBSD 13.4        | PASS               | SKIPPED          | SKIPPED           | SKIPPED           | SKIPPED              |
+---------------------+--------------------+------------------+-------------------+-------------------+----------------------+
| FreeBSD 14.2        | PASS               | SKIPPED          | SKIPPED           | SKIPPED           | SKIPPED              |
+---------------------+--------------------+------------------+-------------------+-------------------+----------------------+
| Windows Server 2022 | SKIPPED            | SKIPPED          | SKIPPED           | PASS              | PASS                 |
+---------------------+--------------------+------------------+-------------------+-------------------+----------------------+

==== 20 line log output for Ubuntu 20.04 (dpdk_compile_ovs): ====
 --- Failed to get log output --- 
==== End log output ====

CentOS Stream 9
	Kernel: Depends on container host
	Compiler: gcc 11.5.0 20240719 (Red Hat 11.5.0-2)

Debian Bullseye
	Kernel: Depends on container host
	Compiler: gcc (Debian 10.2.1-6) 10.2.1 20210110

Debian 12
	Kernel: Depends on container host
	Compiler: gcc (Debian 12.2.0-14) 12.2.0

Fedora 40 (Clang)
	Kernel: Depends on container host
	Compiler: clang 18.1.8 (Fedora 18.1.8-1.fc40)

Fedora 40
	Kernel: Depends on container host
	Compiler: gcc 14.2.1 20240912 (Red Hat 14.2.1-3)

Fedora 41 (Clang)
	Kernel: Depends on container host
	Compiler: clang 19.1.5 (Fedora 19.1.5-1.fc41)

Fedora 41
	Kernel: Depends on container host
	Compiler: gcc 14.2.1 20240912 (Red Hat 14.2.1-3)

openSUSE Leap 15
	Kernel: Depends on container host
	Compiler: gcc (SUSE Linux) 7.5.0

RHEL9
	Kernel: Depends on container host
	Compiler: gcc 11.5.0 20240719 (Red Hat 11.5.0-2)

RHEL8
	Kernel: Depends on container host
	Compiler: gcc 8.5.0 20210514 (Red Hat 8.5.0-22)

Ubuntu 20.04
	Kernel: Depends on container host
	Compiler: gcc (Ubuntu 9.4.0-1ubuntu1~20.04.2) 9.4.0

Ubuntu 22.04
	Kernel: Depends on container host
	Compiler: gcc (Ubuntu 11.4.0-1ubuntu1~22.04) 11.4.0

Ubuntu 24.04
	Kernel: Depends on container host
	Compiler: gcc (Ubuntu 13.3.0-6ubuntu2~24.04) 13.3.0

Alpine
	Kernel: Depends on container host
	Compiler: gcc (Alpine 14.2.0) 14.2.0

FreeBSD 13.4
	Kernel: 13.4-RELEASE-p1
	Compiler: clang 18.1.6

FreeBSD 14.2
	Kernel: 14.2-RELEASE
	Compiler: clang 18.1.6

Windows Server 2022
	Kernel: 10.0.20348.2031
	Compiler: clang 15.0.7, gcc 14.1.0 (MinGW), and MSVC VS 19.39.33521

To view detailed results, visit:
https://lab.dpdk.org/results/dashboard/patchsets/32407/

UNH-IOL DPDK Community Lab

To manage your email subscriptions, visit: 
https://lab.dpdk.org/results/dashboard/preferences/subscriptions/