From mboxrd@z Thu Jan  1 00:00:00 1970
Return-Path: <test-report-bounces@dpdk.org>
Received: from mails.dpdk.org (mails.dpdk.org [217.70.189.124])
	by inbox.dpdk.org (Postfix) with ESMTP id 4391F46128
	for <public@inbox.dpdk.org>; Fri, 24 Jan 2025 15:18:42 +0100 (CET)
Received: from mails.dpdk.org (localhost [127.0.0.1])
	by mails.dpdk.org (Postfix) with ESMTP id 2BAA641153;
	Fri, 24 Jan 2025 15:18:42 +0100 (CET)
Received: from mail-il1-f227.google.com (mail-il1-f227.google.com
 [209.85.166.227])
 by mails.dpdk.org (Postfix) with ESMTP id C9DFF40E48
 for <test-report@dpdk.org>; Fri, 24 Jan 2025 15:18:40 +0100 (CET)
Received: by mail-il1-f227.google.com with SMTP id
 e9e14a558f8ab-3cf8c7b2dd5so6250805ab.0
 for <test-report@dpdk.org>; Fri, 24 Jan 2025 06:18:40 -0800 (PST)
DKIM-Signature: v=1; a=rsa-sha256; c=relaxed/relaxed;
 d=iol.unh.edu; s=unh-iol; t=1737728320; x=1738333120; darn=dpdk.org;
 h=references:in-reply-to:cc:to:from:subject:message-id:date:from:to
 :cc:subject:date:message-id:reply-to;
 bh=bbt6CLf7Rcnc/1ckddVc4HMvAFv0oy3+VAHW00FVSyQ=;
 b=YKd1FbzYJ+1iWYlOjW8Bg9k3ZJsjVzWQpqgro6MabkhnS7Eszqp5GacMY7E417Pq5d
 3RrfVgmRZQ0GLQP1RnQ+iA/d5bvd9dDjxxm8u2Vh1O/2iLRsi6GU5KLLtDCVyuLkfhXV
 REhLtWzx1vhSmM5Qc5tc2TSAoKksodX06Wt1Q=
X-Google-DKIM-Signature: v=1; a=rsa-sha256; c=relaxed/relaxed;
 d=1e100.net; s=20230601; t=1737728320; x=1738333120;
 h=references:in-reply-to:cc:to:from:subject:message-id:date
 :x-gm-message-state:from:to:cc:subject:date:message-id:reply-to;
 bh=bbt6CLf7Rcnc/1ckddVc4HMvAFv0oy3+VAHW00FVSyQ=;
 b=VJd8/cLMgjSIWJnNGd5KOA8rrlcdUUCC+Xywg4NbDNm2Wn/70wJp2U2F3yb6wduU0j
 eIxu7HVSvHoP2b4mpUOUmX8XwfBpcMgAUaCT9THHhpyel17a2cyoP3NEkoS8q8xB9Lc7
 jr1sZ8k4OdAj15qeZRvueOBYJzx//7eRUeHrIt71zXp2qZeBAw9Y/jBq9Br/i/hunhtw
 rhnEmEFTM6Y7yrLxtACkgp8H1G12XfBnrrA8w83asIdSKwTo5mT+yJPd6qPhVP6hgcdS
 4NTz4C6TJkeCOTxwcmpPRBXPNhXWCPjcxS/Rh3NmtD1xIu34mOjhpSkhlYjB93T2jx3/
 M53w==
X-Gm-Message-State: AOJu0YxhD7192PX/+vF1Zp0nFg7fzhhZKXtb0uJzE7sfa/xefQwopTgB
 yKuRKdsuQ3h4pvEFpIPUOz6BwvxXsm5yhq32ITGqscNp8XVVkbgACPBclvccMN288g7Ae4eFuaY
 UqMfps4eErLXf7FfOqsnfFrUdWykFwP8Wbf+XpvMByKY+/0fOdYmLcmTo
X-Gm-Gg: ASbGncuhgsMNVg7/OEXvqujLw/QIDf6mtXuiEQM881HnlSs7RYPe4uho+Y8DGGznUfw
 6Af5QDQqtf3FeYB32Vnw0cVJIOdFpei63N0gFsYe/CzkeJYT0XBFeBVPMjEEhfajoy/0ii0sFJp
 ocV8S17y8it2fsGAi1HJTOxzpab5fuftZgnIn0V7trCaqscBg6b68TLGL35r5iErFFxGGA55MZI
 r/q2wQhsZZ1dAIHwfci+MT0eC9yBrrgy7J3e6kwypnh811pm4eNL+LFy8+3Fs7N1ubF66XCatxQ
 R21OedDnf+7LdPuHCj0VCOf/2f7fZZw=
X-Google-Smtp-Source: AGHT+IFSqyRVKso237oery5OC5QDsEhm/DGV6p9AWN3CTNY9ib8PAHJObv93xcegZn8andJvcwVZr3FsRYIm
X-Received: by 2002:a05:6e02:98a:b0:3cf:c26f:34d5 with SMTP id
 e9e14a558f8ab-3cfc26f37e2mr34491555ab.12.1737728320111; 
 Fri, 24 Jan 2025 06:18:40 -0800 (PST)
Received: from postal.iol.unh.edu (postal.iol.unh.edu.
 [2606:4100:3880:1234::84]) by smtp-relay.gmail.com with ESMTPS id
 e9e14a558f8ab-3cfc7507335sm1089645ab.47.2025.01.24.06.18.40
 (version=TLS1_2 cipher=ECDHE-ECDSA-AES128-GCM-SHA256 bits=128/128);
 Fri, 24 Jan 2025 06:18:40 -0800 (PST)
X-Relaying-Domain: iol.unh.edu
Date: Fri, 24 Jan 2025 06:18:40 -0800 (PST)
Message-ID: <6793a140.050a0220.1f215a.7827SMTPIN_ADDED_MISSING@mx.google.com>
Received: from [172.21.0.5] (unknown [172.18.0.240])
 by postal.iol.unh.edu (Postfix) with ESMTP id 8E6B06052471;
 Fri, 24 Jan 2025 09:18:39 -0500 (EST)
Subject: |SUCCESS| pw150441 [PATCH] app/procinfo: add xstats parameter to hid
From: dpdklab@iol.unh.edu
To: Test Report <test-report@dpdk.org>
Cc: dpdk-test-reports@iol.unh.edu
In-Reply-To: <20250124100032.3497253-1-huangdengdui@huawei.com>
References: <20250124100032.3497253-1-huangdengdui@huawei.com>
Content-Type: text/plain
X-BeenThere: test-report@dpdk.org
X-Mailman-Version: 2.1.29
Precedence: list
List-Id: automatic DPDK test reports <test-report.dpdk.org>
List-Unsubscribe: <https://mails.dpdk.org/options/test-report>,
 <mailto:test-report-request@dpdk.org?subject=unsubscribe>
List-Archive: <http://mails.dpdk.org/archives/test-report/>
List-Post: <mailto:test-report@dpdk.org>
List-Help: <mailto:test-report-request@dpdk.org?subject=help>
List-Subscribe: <https://mails.dpdk.org/listinfo/test-report>,
 <mailto:test-report-request@dpdk.org?subject=subscribe>
Errors-To: test-report-bounces@dpdk.org

Test-Label: iol-abi-testing
Test-Status: SUCCESS
http://dpdk.org/patch/150441

_Testing PASS_

Submitter: Dengdui Huang <huangdengdui@huawei.com>
Date: Friday, January 24 2025 10:00:32 
DPDK git baseline: Repo:dpdk
  Branch: master
  CommitID:5b856206c74bbcf19e12cafa15382a7e15b0a1b5

150441 --> testing pass

Upstream job id: Generic-DPDK-Compile-ABI#113506

Test environment and result as below:

+-------------------+----------+
|    Environment    | abi_test |
+===================+==========+
| CentOS Stream 9   | PASS     |
+-------------------+----------+
| Debian 12         | PASS     |
+-------------------+----------+
| openSUSE Leap 15  | PASS     |
+-------------------+----------+
| Fedora 40 (Clang) | PASS     |
+-------------------+----------+
| Fedora 40         | PASS     |
+-------------------+----------+
| Fedora 41         | PASS     |
+-------------------+----------+
| Fedora 41 (Clang) | PASS     |
+-------------------+----------+
| RHEL8             | PASS     |
+-------------------+----------+
| Ubuntu 22.04      | PASS     |
+-------------------+----------+
| RHEL9             | PASS     |
+-------------------+----------+
| Ubuntu 24.04      | PASS     |
+-------------------+----------+


CentOS Stream 9
	Kernel: Depends on container host
	Compiler: gcc 11.5.0 20240719 (Red Hat 11.5.0-2)

Debian 12
	Kernel: Depends on container host
	Compiler: gcc (Debian 12.2.0-14) 12.2.0

openSUSE Leap 15
	Kernel: Depends on container host
	Compiler: gcc (SUSE Linux) 7.5.0

Fedora 40 (Clang)
	Kernel: Depends on container host
	Compiler: clang 18.1.8 (Fedora 18.1.8-1.fc40)

Fedora 40
	Kernel: Depends on container host
	Compiler: gcc 14.2.1 20240912 (Red Hat 14.2.1-3)

Fedora 41
	Kernel: Depends on container host
	Compiler: gcc 14.2.1 20240912 (Red Hat 14.2.1-3)

Fedora 41 (Clang)
	Kernel: Depends on container host
	Compiler: clang 19.1.5 (Fedora 19.1.5-1.fc41)

RHEL8
	Kernel: Depends on container host
	Compiler: gcc 8.5.0 20210514 (Red Hat 8.5.0-22)

Ubuntu 22.04
	Kernel: Depends on container host
	Compiler: gcc (Ubuntu 11.4.0-1ubuntu1~22.04) 11.4.0

RHEL9
	Kernel: Depends on container host
	Compiler: gcc 11.5.0 20240719 (Red Hat 11.5.0-2)

Ubuntu 24.04
	Kernel: Depends on container host
	Compiler: gcc (Ubuntu 13.3.0-6ubuntu2~24.04) 13.3.0

To view detailed results, visit:
https://lab.dpdk.org/results/dashboard/patchsets/32411/

UNH-IOL DPDK Community Lab

To manage your email subscriptions, visit: 
https://lab.dpdk.org/results/dashboard/preferences/subscriptions/