From mboxrd@z Thu Jan  1 00:00:00 1970
Return-Path: <test-report-bounces@dpdk.org>
Received: from mails.dpdk.org (mails.dpdk.org [217.70.189.124])
	by inbox.dpdk.org (Postfix) with ESMTP id 166AA4612D
	for <public@inbox.dpdk.org>; Fri, 24 Jan 2025 17:48:11 +0100 (CET)
Received: from mails.dpdk.org (localhost [127.0.0.1])
	by mails.dpdk.org (Postfix) with ESMTP id 0148E41101;
	Fri, 24 Jan 2025 17:48:11 +0100 (CET)
Received: from mail-yb1-f227.google.com (mail-yb1-f227.google.com
 [209.85.219.227])
 by mails.dpdk.org (Postfix) with ESMTP id 0E1DF410FA
 for <test-report@dpdk.org>; Fri, 24 Jan 2025 17:48:09 +0100 (CET)
Received: by mail-yb1-f227.google.com with SMTP id
 3f1490d57ef6-e5372a2fbddso3771383276.3
 for <test-report@dpdk.org>; Fri, 24 Jan 2025 08:48:09 -0800 (PST)
DKIM-Signature: v=1; a=rsa-sha256; c=relaxed/relaxed;
 d=iol.unh.edu; s=unh-iol; t=1737737288; x=1738342088; darn=dpdk.org;
 h=references:in-reply-to:cc:to:from:subject:message-id:date:from:to
 :cc:subject:date:message-id:reply-to;
 bh=F5WNvEiIItzgv2rgX22jJa3xedx1TM1J1HA+WRWpcxg=;
 b=FUmHPPXYqVLxX7lmHPOrNVBt6S+a/Us2EsQQvnFI16Oy3jOICDf2Qn62R3UcHBydUB
 d/j/id3IYkBHMEj/8TZ6yW5zNHnLDryOMd2CjN+mmA+8ONAMw/vzOOHRgnWv4//GY2oN
 +AfoBmCQb2odhsAJ4B/P6eg+PUe0439XZEioI=
X-Google-DKIM-Signature: v=1; a=rsa-sha256; c=relaxed/relaxed;
 d=1e100.net; s=20230601; t=1737737288; x=1738342088;
 h=references:in-reply-to:cc:to:from:subject:message-id:date
 :x-gm-message-state:from:to:cc:subject:date:message-id:reply-to;
 bh=F5WNvEiIItzgv2rgX22jJa3xedx1TM1J1HA+WRWpcxg=;
 b=B/PdIt7u2bPlk9nznfjW4aIdQGmGezi0pchy4QgvxjOA3bsbsMaMkiu39iO7goOIr8
 Fjp2OOSp46PIkwflc49hDgPh8nblZx0rD690j+yldsg4Xl+CpnP+KRzIptoXACk8x/kF
 0rQHHObB/jghew/DISAILE+ocC2r0J65AjlCAiytSz9P40eVl7OANO0AOEsj89vlaWZh
 dNA+zc8g4nYswC3WBQmA1ZQJkG0qGSuHtTkkt8CfdiuWyC93x847EupXh9r1x/AGsD5R
 GUnb+TvwWXRbDDysGANkGE6jhFaPrJ6iY/kfKnhkhtdVZ3tFtY6GNLrDlCCXMM+3Fzy/
 Z9ww==
X-Gm-Message-State: AOJu0YyP1yVM3Lkm+AJb87tp1GxJuEpKrIYZj6r+mKj1HSLGIWcmgYuT
 hWi7SdP1pTXLKzY3sOmdOfEuvds1ovaDAk4tm979nVMMJ1IzAaC/GLtDdfOeovlGMrGEGUW6/l0
 V14wKdW/bZnET3FTdlk9iK54Sw+cC1AfKALpsFzebhe49ilpWnn0ODpGe
X-Gm-Gg: ASbGncuGqAxvPjHr+MHIdXMPKvaoQzzMYnzZJfHH6HHVS7B8BWEpF+0YGW6WnakF/9a
 4Hc6N0Q+jx7xv1mCTXWSGhy1xPvuiCRJ75nK/uJVgblqR1/F0cPLnQbYh1i+bhYATVnfIPXYqdX
 L7mOGmj0h2bFQ0xJhZhmIMVPniOmVm44K8p+AUcOXX0URupcv2eqn9AS4fI0o6NrwUdxkTiVmim
 Fw+VWmvOBlltef4CkPDA+hfWXQlKG+AjOflmUVA7MhTeESD81/2hg1Y126DMOixcs86Q6N0h1gB
 fztovBTYafGSMwZz2/aCfvw90RLw8hk=
X-Google-Smtp-Source: AGHT+IFdo61/Fip6Cog6ibBudSdzqYIwvMVSeZedp4w7ysYStqytLCcZxx9JCHryuzPmQZosssbYS5yU1YDE
X-Received: by 2002:a05:690c:6b87:b0:6ef:4a1f:36d6 with SMTP id
 00721157ae682-6f6eb90b6ebmr223738797b3.23.1737737288459; 
 Fri, 24 Jan 2025 08:48:08 -0800 (PST)
Received: from postal.iol.unh.edu (postal.iol.unh.edu.
 [2606:4100:3880:1234::84]) by smtp-relay.gmail.com with ESMTPS id
 00721157ae682-6f7578d061bsm880127b3.42.2025.01.24.08.48.08
 (version=TLS1_2 cipher=ECDHE-ECDSA-AES128-GCM-SHA256 bits=128/128);
 Fri, 24 Jan 2025 08:48:08 -0800 (PST)
X-Relaying-Domain: iol.unh.edu
Date: Fri, 24 Jan 2025 08:48:08 -0800 (PST)
Message-ID: <6793c448.050a0220.216728.59a8SMTPIN_ADDED_MISSING@mx.google.com>
Received: from [172.21.0.7] (unknown [172.18.0.240])
 by postal.iol.unh.edu (Postfix) with ESMTP id 22F076052471;
 Fri, 24 Jan 2025 11:48:08 -0500 (EST)
Subject: |SUCCESS| pw150436-150437 [PATCH] [v2,2/2] app/test-pmd: use ptype A
From: dpdklab@iol.unh.edu
To: Test Report <test-report@dpdk.org>
Cc: dpdk-test-reports@iol.unh.edu
In-Reply-To: <20250124094333.11449-3-haijie1@huawei.com>
References: <20250124094333.11449-3-haijie1@huawei.com>
Content-Type: text/plain
X-BeenThere: test-report@dpdk.org
X-Mailman-Version: 2.1.29
Precedence: list
List-Id: automatic DPDK test reports <test-report.dpdk.org>
List-Unsubscribe: <https://mails.dpdk.org/options/test-report>,
 <mailto:test-report-request@dpdk.org?subject=unsubscribe>
List-Archive: <http://mails.dpdk.org/archives/test-report/>
List-Post: <mailto:test-report@dpdk.org>
List-Help: <mailto:test-report-request@dpdk.org?subject=help>
List-Subscribe: <https://mails.dpdk.org/listinfo/test-report>,
 <mailto:test-report-request@dpdk.org?subject=subscribe>
Errors-To: test-report-bounces@dpdk.org

Test-Label: iol-unit-amd64-testing
Test-Status: SUCCESS
http://dpdk.org/patch/150437

_Testing PASS_

Submitter: Jie Hai <haijie1@huawei.com>
Date: Friday, January 24 2025 09:43:32 
DPDK git baseline: Repo:dpdk
  Branch: master
  CommitID:c5b363510f8319b4c89f4ed45568864968fa156d

150436-150437 --> testing pass

Upstream job id: Generic-Unit-Test-DPDK#308870

Test environment and result as below:

+---------------------+----------------+
|     Environment     | dpdk_unit_test |
+=====================+================+
| CentOS Stream 9     | PASS           |
+---------------------+----------------+
| Debian Bullseye     | PASS           |
+---------------------+----------------+
| Debian 12           | PASS           |
+---------------------+----------------+
| Fedora 40 (Clang)   | PASS           |
+---------------------+----------------+
| Fedora 40           | PASS           |
+---------------------+----------------+
| Ubuntu 22.04        | PASS           |
+---------------------+----------------+
| RHEL8               | PASS           |
+---------------------+----------------+
| Fedora 41 (Clang)   | PASS           |
+---------------------+----------------+
| Fedora 41           | PASS           |
+---------------------+----------------+
| Ubuntu 20.04        | PASS           |
+---------------------+----------------+
| RHEL9               | PASS           |
+---------------------+----------------+
| Ubuntu 24.04        | PASS           |
+---------------------+----------------+
| Windows Server 2022 | PASS           |
+---------------------+----------------+


CentOS Stream 9
	Kernel: Depends on container host
	Compiler: gcc 11.5.0 20240719 (Red Hat 11.5.0-2)

Debian Bullseye
	Kernel: Depends on container host
	Compiler: gcc (Debian 10.2.1-6) 10.2.1 20210110

Debian 12
	Kernel: Depends on container host
	Compiler: gcc (Debian 12.2.0-14) 12.2.0

Fedora 40 (Clang)
	Kernel: Depends on container host
	Compiler: clang 18.1.8 (Fedora 18.1.8-1.fc40)

Fedora 40
	Kernel: Depends on container host
	Compiler: gcc 14.2.1 20240912 (Red Hat 14.2.1-3)

Ubuntu 22.04
	Kernel: Depends on container host
	Compiler: gcc (Ubuntu 11.4.0-1ubuntu1~22.04) 11.4.0

RHEL8
	Kernel: Depends on container host
	Compiler: gcc 8.5.0 20210514 (Red Hat 8.5.0-22)

Fedora 41 (Clang)
	Kernel: Depends on container host
	Compiler: clang 19.1.5 (Fedora 19.1.5-1.fc41)

Fedora 41
	Kernel: Depends on container host
	Compiler: gcc 14.2.1 20240912 (Red Hat 14.2.1-3)

Ubuntu 20.04
	Kernel: Depends on container host
	Compiler: gcc (Ubuntu 9.4.0-1ubuntu1~20.04.2) 9.4.0

RHEL9
	Kernel: Depends on container host
	Compiler: gcc 11.5.0 20240719 (Red Hat 11.5.0-2)

Ubuntu 24.04
	Kernel: Depends on container host
	Compiler: gcc (Ubuntu 13.3.0-6ubuntu2~24.04) 13.3.0

Windows Server 2022
	Kernel: 10.0.20348.2031
	Compiler: clang 15.0.7, gcc 14.1.0 (MinGW), and MSVC VS 19.39.33521

To view detailed results, visit:
https://lab.dpdk.org/results/dashboard/patchsets/32408/

UNH-IOL DPDK Community Lab

To manage your email subscriptions, visit: 
https://lab.dpdk.org/results/dashboard/preferences/subscriptions/