From mboxrd@z Thu Jan  1 00:00:00 1970
Return-Path: <test-report-bounces@dpdk.org>
Received: from mails.dpdk.org (mails.dpdk.org [217.70.189.124])
	by inbox.dpdk.org (Postfix) with ESMTP id 11FAD46130
	for <public@inbox.dpdk.org>; Fri, 24 Jan 2025 19:06:29 +0100 (CET)
Received: from mails.dpdk.org (localhost [127.0.0.1])
	by mails.dpdk.org (Postfix) with ESMTP id D4EFF410FA;
	Fri, 24 Jan 2025 19:06:28 +0100 (CET)
Received: from mail-pl1-f227.google.com (mail-pl1-f227.google.com
 [209.85.214.227])
 by mails.dpdk.org (Postfix) with ESMTP id 268F2402CE
 for <test-report@dpdk.org>; Fri, 24 Jan 2025 19:06:28 +0100 (CET)
Received: by mail-pl1-f227.google.com with SMTP id
 d9443c01a7336-21c2f1b610dso53889195ad.0
 for <test-report@dpdk.org>; Fri, 24 Jan 2025 10:06:28 -0800 (PST)
DKIM-Signature: v=1; a=rsa-sha256; c=relaxed/relaxed;
 d=iol.unh.edu; s=unh-iol; t=1737741987; x=1738346787; darn=dpdk.org;
 h=references:in-reply-to:cc:to:from:subject:message-id:date:from:to
 :cc:subject:date:message-id:reply-to;
 bh=t24f8DoDY75pTiSG2vRQwpGuWQC6e9hzmrJgab4TMZU=;
 b=S0SjlYTk2UG1YyEvKxtF+RjH+wCg0OoXRYD22OyjWWbipPqhRgCGVIGUUDHF0wEJLf
 DqThC6KLETxqOviJJY9s7VhIP5mqmJCinHZl9W9ts00zEdY7ti+q+rNrMmTUI4J8BagB
 C0JNUV5uM55qe71ODWGci+CcRf8IQL/g1izbs=
X-Google-DKIM-Signature: v=1; a=rsa-sha256; c=relaxed/relaxed;
 d=1e100.net; s=20230601; t=1737741987; x=1738346787;
 h=references:in-reply-to:cc:to:from:subject:message-id:date
 :x-gm-message-state:from:to:cc:subject:date:message-id:reply-to;
 bh=t24f8DoDY75pTiSG2vRQwpGuWQC6e9hzmrJgab4TMZU=;
 b=L0wP+Oymi+CaPU+hN4koImSflyhykoMVQWMoBCGakMpIvT242Edt62x4Dx1crN9nOU
 VQ8Fd4ztQxrfgcGRft00RphxD/+5TpnAN1iYVUtkZD96g+uX+ewJlan6QdfiQv4ldOEn
 U8ln/f2yHiPyx5Cv/4zkyU3eJSDGMeRu6FnsGOlTXds68QpUOreL9uG8m8F3kH9QjoMe
 E9CJEuJXdgpa8pP4DrZLuoWiPpgzWtilDLaxpPwHx+iQ02BqPieHBzDfO6VQ+ZnprNdx
 GywKOBykv8QMkTdDNbcnNfsT7vwmSEabfD/WGDsAWCsl2aECgaikOrRiij6F1VK8vBn8
 OoWA==
X-Gm-Message-State: AOJu0YxErvV5l/A2y9Kcz+bgaJBS2tSSSVKJAPnn7F5hsvummHobfEAM
 fuYisoFtRqm9GSLM98RjMOFBongnUozog7K8WUHmjsV3IV9iVMoIpwBW5ywZRiPml3qQIKwWU5E
 I2Ghv+l5KOg/v9RmICdSsXwOTY2Iu1zyJawm/SiE2
X-Gm-Gg: ASbGnct/zZIuPAzC3S9SF1ZBBda8jl1vSVcbTapaE3IwpRuzRD0uBsD3avg7gMgIQq+
 mRe33Wt5dvgWtHz/GZB4rkd4/B87Wt3gjPCPRPO+1Oy7Bh03eYiGVdtY1LN7mAWeZc/LIk8/Gc4
 56n2sQ14CUMNyKWVZAuzhmgHL+p+DCdPY6aKq2YXaAYzLj2a0HdE0rFfvxRE34YzWwaCqcZhUuH
 A1qGNfNoGpBvgTXy02PkjzUg1lDG6b48zDFvQf9yfXo3s9GBqONj0T1m6uiD9+GlZIL/mlSabgz
 Xlnxl8BBVdRzTD3QUGo=
X-Google-Smtp-Source: AGHT+IHgRPQ+ZpTe23+EPPOgJRhrEFRpmMiNyy3U1VzX8yDoRzGzfFFTHavDsujAc5GVQRkCoKG4QFULYJbj
X-Received: by 2002:a05:6a21:6da0:b0:1e1:a647:8a54 with SMTP id
 adf61e73a8af0-1eb214f072fmr49249093637.20.1737741985865; 
 Fri, 24 Jan 2025 10:06:25 -0800 (PST)
Received: from postal.iol.unh.edu (postal.iol.unh.edu. [132.177.123.84])
 by smtp-relay.gmail.com with ESMTPS id
 41be03b00d2f7-ac49022772asm43048a12.15.2025.01.24.10.06.25
 (version=TLS1_2 cipher=ECDHE-ECDSA-AES128-GCM-SHA256 bits=128/128);
 Fri, 24 Jan 2025 10:06:25 -0800 (PST)
X-Relaying-Domain: iol.unh.edu
Date: Fri, 24 Jan 2025 10:06:25 -0800 (PST)
Message-ID: <6793d6a1.650a0220.3d259b.2bf8SMTPIN_ADDED_MISSING@mx.google.com>
Received: from [172.21.0.6] (unknown [172.18.0.240])
 by postal.iol.unh.edu (Postfix) with ESMTP id A236E6052471;
 Fri, 24 Jan 2025 13:06:24 -0500 (EST)
Subject: |SUCCESS| pw150436-150437 [PATCH] [v2,2/2] app/test-pmd: use ptype A
From: dpdklab@iol.unh.edu
To: Test Report <test-report@dpdk.org>
Cc: dpdk-test-reports@iol.unh.edu
In-Reply-To: <20250124094333.11449-3-haijie1@huawei.com>
References: <20250124094333.11449-3-haijie1@huawei.com>
Content-Type: text/plain
X-BeenThere: test-report@dpdk.org
X-Mailman-Version: 2.1.29
Precedence: list
List-Id: automatic DPDK test reports <test-report.dpdk.org>
List-Unsubscribe: <https://mails.dpdk.org/options/test-report>,
 <mailto:test-report-request@dpdk.org?subject=unsubscribe>
List-Archive: <http://mails.dpdk.org/archives/test-report/>
List-Post: <mailto:test-report@dpdk.org>
List-Help: <mailto:test-report-request@dpdk.org?subject=help>
List-Subscribe: <https://mails.dpdk.org/listinfo/test-report>,
 <mailto:test-report-request@dpdk.org?subject=subscribe>
Errors-To: test-report-bounces@dpdk.org

Test-Label: iol-compile-arm64-testing
Test-Status: SUCCESS
http://dpdk.org/patch/150437

_Testing PASS_

Submitter: Jie Hai <haijie1@huawei.com>
Date: Friday, January 24 2025 09:43:32 
DPDK git baseline: Repo:dpdk
  Branch: master
  CommitID:c5b363510f8319b4c89f4ed45568864968fa156d

150436-150437 --> testing pass

Upstream job id: Generic-DPDK-Compile-Meson#354636

Test environment and result as below:

+----------------------------------------+--------------------+
|              Environment               | dpdk_meson_compile |
+========================================+====================+
| Ubuntu 20.04 ARM GCC Cross Compile     | PASS               |
+----------------------------------------+--------------------+
| Ubuntu 20.04 ARM SVE                   | PASS               |
+----------------------------------------+--------------------+
| Debian 12 with MUSDK                   | PASS               |
+----------------------------------------+--------------------+
| Fedora 40 (ARM)                        | PASS               |
+----------------------------------------+--------------------+
| Fedora 41 (ARM)                        | PASS               |
+----------------------------------------+--------------------+
| Fedora 40 (ARM Clang)                  | PASS               |
+----------------------------------------+--------------------+
| Fedora 41 (ARM Clang)                  | PASS               |
+----------------------------------------+--------------------+
| Ubuntu 24.04 (ARM)                     | PASS               |
+----------------------------------------+--------------------+
| Ubuntu 20.04 (ARM)                     | PASS               |
+----------------------------------------+--------------------+
| CentOS Stream 9 (ARM)                  | PASS               |
+----------------------------------------+--------------------+
| Debian 11 (Buster) (ARM)               | PASS               |
+----------------------------------------+--------------------+
| Debian 12 (arm)                        | PASS               |
+----------------------------------------+--------------------+
| Ubuntu 20.04 ARM Clang Cross Compile   | PASS               |
+----------------------------------------+--------------------+
| Ubuntu 20.04 aarch32 GCC Cross Compile | PASS               |
+----------------------------------------+--------------------+
| RHEL9 (ARM)                            | PASS               |
+----------------------------------------+--------------------+
| Ubuntu 22.04 (ARM)                     | PASS               |
+----------------------------------------+--------------------+


Ubuntu 20.04 ARM GCC Cross Compile
	Kernel: Depends on container host
	Compiler: aarch64-linux-gnu-gcc (Ubuntu 9.4.0-1ubuntu1~20.04.2) 9.4.0

Ubuntu 20.04 ARM SVE
	Kernel: Depends on container host
	Compiler: gcc (Ubuntu 10.5.0-1ubuntu1~20.04) 10.5.0

Debian 12 with MUSDK
	Kernel: Depends on container host
	Compiler: gcc (Debian 12.2.0-14) 12.2.0

Fedora 40 (ARM)
	Kernel: Depends on container host
	Compiler: gcc 14.2.1 20240912 (Red Hat 14.2.1-3)

Fedora 41 (ARM)
	Kernel: Depends on container host
	Compiler: gcc 14.2.1 20240912 (Red Hat 14.2.1-3)

Fedora 40 (ARM Clang)
	Kernel: Depends on container host
	Compiler: clang 18.1.8 (Fedora 18.1.8-1.fc40)

Fedora 41 (ARM Clang)
	Kernel: Depends on container host
	Compiler: clang 19.1.5 (Fedora 19.1.5-1.fc41)

Ubuntu 24.04 (ARM)
	Kernel: Depends on container host
	Compiler: gcc (Ubuntu 13.3.0-6ubuntu2~24.04) 13.3.0

Ubuntu 20.04 (ARM)
	Kernel: Depends on container host
	Compiler: gcc (Ubuntu 9.4.0-1ubuntu1~20.04.2) 9.4.0

CentOS Stream 9 (ARM)
	Kernel: Depends on container host
	Compiler: gcc 11.5.0 20240719 (Red Hat 11.5.0-2)

Debian 11 (Buster) (ARM)
	Kernel: Depends on container host
	Compiler: gcc (Debian 10.2.1-6) 10.2.1 20210110

Debian 12 (arm)
	Kernel: Depends on container host
	Compiler: gcc (Debian 12.2.0-14) 12.2.0

Ubuntu 20.04 ARM Clang Cross Compile
	Kernel: Depends on container host
	Compiler: clang 10.0.0-4ubuntu1

Ubuntu 20.04 aarch32 GCC Cross Compile
	Kernel: Depends on container host
	Compiler: gcc 9.4.0

RHEL9 (ARM)
	Kernel: Depends on container host
	Compiler: gcc 11.5.0 20240719 (Red Hat 11.5.0-2)

Ubuntu 22.04 (ARM)
	Kernel: Depends on container host
	Compiler: gcc (Ubuntu 11.4.0-1ubuntu1~22.04) 11.4.0

To view detailed results, visit:
https://lab.dpdk.org/results/dashboard/patchsets/32408/

UNH-IOL DPDK Community Lab

To manage your email subscriptions, visit: 
https://lab.dpdk.org/results/dashboard/preferences/subscriptions/