From mboxrd@z Thu Jan  1 00:00:00 1970
Return-Path: <test-report-bounces@dpdk.org>
Received: from mails.dpdk.org (mails.dpdk.org [217.70.189.124])
	by inbox.dpdk.org (Postfix) with ESMTP id 3F76046128
	for <public@inbox.dpdk.org>; Fri, 24 Jan 2025 19:24:57 +0100 (CET)
Received: from mails.dpdk.org (localhost [127.0.0.1])
	by mails.dpdk.org (Postfix) with ESMTP id 2103A402E6;
	Fri, 24 Jan 2025 19:24:57 +0100 (CET)
Received: from mail-oa1-f99.google.com (mail-oa1-f99.google.com
 [209.85.160.99]) by mails.dpdk.org (Postfix) with ESMTP id E2E71402CE
 for <test-report@dpdk.org>; Fri, 24 Jan 2025 19:24:55 +0100 (CET)
Received: by mail-oa1-f99.google.com with SMTP id
 586e51a60fabf-29fb532b668so839501fac.0
 for <test-report@dpdk.org>; Fri, 24 Jan 2025 10:24:55 -0800 (PST)
DKIM-Signature: v=1; a=rsa-sha256; c=relaxed/relaxed;
 d=iol.unh.edu; s=unh-iol; t=1737743095; x=1738347895; darn=dpdk.org;
 h=references:in-reply-to:cc:to:from:subject:message-id:date:from:to
 :cc:subject:date:message-id:reply-to;
 bh=z1B2zSuY+xYTn84nuFMdtT4r/DLdPXyesrnzB9qRemA=;
 b=ANO8iB/dub/hhtsc0bdRFVEv+sIL2jPmGGEKsi0G0OxX/iM5O5BuaOemjci4j/3lsU
 mFPxdnpMB08ZJM4993iTh+/rvpzwP1mq+TwQ5pQEDuCtuV+xI6SAD4BljGA956sTtweg
 +DoxdXqvq9WhJT6/OEF+DkvxljrE8iMi06qj4=
X-Google-DKIM-Signature: v=1; a=rsa-sha256; c=relaxed/relaxed;
 d=1e100.net; s=20230601; t=1737743095; x=1738347895;
 h=references:in-reply-to:cc:to:from:subject:message-id:date
 :x-gm-message-state:from:to:cc:subject:date:message-id:reply-to;
 bh=z1B2zSuY+xYTn84nuFMdtT4r/DLdPXyesrnzB9qRemA=;
 b=V3a9egbSXWNuE6rYkw2jO8whdzuDqrzawPvx8RPaOSzRA9oELL+Qv4miH7i3aW0IkG
 G0nRZd74+5klbIbqYDhV46I3TzxFBLkGilcGQhPDoh1pGmXcmx/odJyBVzm88NlUN3RO
 2dITu77o32TdOqC1S78Hg9gE7Tu7ZgJhtaSRXOw77sg/6AW46xTyhSRjbqG/3KUy8fR1
 VPXtl7p2ZdrOsW5JEtlyhL5Z5XDR9jqh9wpiWQt6YmHn2nSK6LJ0BKYGy0uTYE9iUoju
 l5KRhv8U52wevJqepxGLB38duXtvT0if+pwauWF1fecYVnwt6Q8Ui/A0lZrp4JjqsOhe
 stoQ==
X-Gm-Message-State: AOJu0YxkFOFeFhXq/upYEfHHZXCIH2a2RsqZK9hyxPxR6FqabdjRCSYK
 N9hm1U3EGnCpcsmMpJKYnfmvgQTC3PmnyTBnEllsodYGEjBSjKudiVleSjXHfI2dz5xKBBy5LjS
 zQOUOi7jCxK45GcduFgUf+M6Kj1OxKMlmzpkmQN2D
X-Gm-Gg: ASbGncsXazU7w2Gs1rc+XEQXUGjqRCaX0jje1vdfNrX+SBbXHumkoS5D8Kn/ejYxQea
 znZkN+JMJ+RVk00JfFW/1hbCME/ND3WiQd1VPzda1LnNC0ZT43me4WB8QMb0Kt/mN76ScfaTHWx
 rqdFpYTnTXYb5pkYruZ33WqzbSs0OdFu1Lnxz6Ft7cvA7lyA2y0S2qt0M9yNhcigRos/UsmoAs2
 xXT0Q4BOlyZt/nttL8p7607dGUVrYoRr7K+8Lp3hQ4Kkb6pMKfo8+PCDPPx1sowFIP4OQal3l4L
 56ISuPa66nE9qvPbp5M=
X-Google-Smtp-Source: AGHT+IHs6A2W87I/+R04sDMsvot/fbJm9ClEzutwyo8i+iZhzCbtxOdZdptI3l4nbvtE4pUgqQ8CWYTrO7bp
X-Received: by 2002:a05:6870:af96:b0:29e:7d35:2319 with SMTP id
 586e51a60fabf-2b1c082217fmr17898148fac.4.1737743095296; 
 Fri, 24 Jan 2025 10:24:55 -0800 (PST)
Received: from postal.iol.unh.edu (postal.iol.unh.edu. [132.177.123.84])
 by smtp-relay.gmail.com with ESMTPS id
 586e51a60fabf-2b28f187fdasm134031fac.9.2025.01.24.10.24.55
 (version=TLS1_2 cipher=ECDHE-ECDSA-AES128-GCM-SHA256 bits=128/128);
 Fri, 24 Jan 2025 10:24:55 -0800 (PST)
X-Relaying-Domain: iol.unh.edu
Date: Fri, 24 Jan 2025 10:24:55 -0800 (PST)
Message-ID: <6793daf7.050a0220.2824c9.8bc5SMTPIN_ADDED_MISSING@mx.google.com>
Received: from [172.21.0.5] (unknown [172.18.0.240])
 by postal.iol.unh.edu (Postfix) with ESMTP id BDEA66052471;
 Fri, 24 Jan 2025 13:24:54 -0500 (EST)
Subject: |WARNING| pw150436-150437 [PATCH] [v2,2/2] app/test-pmd: use ptype A
From: dpdklab@iol.unh.edu
To: Test Report <test-report@dpdk.org>
Cc: dpdk-test-reports@iol.unh.edu
In-Reply-To: <20250124094333.11449-3-haijie1@huawei.com>
References: <20250124094333.11449-3-haijie1@huawei.com>
Content-Type: text/plain
X-BeenThere: test-report@dpdk.org
X-Mailman-Version: 2.1.29
Precedence: list
List-Id: automatic DPDK test reports <test-report.dpdk.org>
List-Unsubscribe: <https://mails.dpdk.org/options/test-report>,
 <mailto:test-report-request@dpdk.org?subject=unsubscribe>
List-Archive: <http://mails.dpdk.org/archives/test-report/>
List-Post: <mailto:test-report@dpdk.org>
List-Help: <mailto:test-report-request@dpdk.org?subject=help>
List-Subscribe: <https://mails.dpdk.org/listinfo/test-report>,
 <mailto:test-report-request@dpdk.org?subject=subscribe>
Errors-To: test-report-bounces@dpdk.org

Test-Label: iol-compile-amd64-testing
Test-Status: WARNING
http://dpdk.org/patch/150437

_Testing issues_

Submitter: Jie Hai <haijie1@huawei.com>
Date: Friday, January 24 2025 09:43:32 
DPDK git baseline: Repo:dpdk
  Branch: master
  CommitID:c5b363510f8319b4c89f4ed45568864968fa156d

150436-150437 --> testing issues

Upstream job id: Windows-Compile-DPDK-Native#26092

Test environment and result as below:

+---------------------+--------------------+------------------+-------------------+-------------------+----------------------+
|     Environment     | dpdk_meson_compile | dpdk_compile_ovs | dpdk_compile_spdk | dpdk_msvc_compile | dpdk_mingw64_compile |
+=====================+====================+==================+===================+===================+======================+
| CentOS Stream 9     | PASS               | PASS             | PASS              | SKIPPED           | SKIPPED              |
+---------------------+--------------------+------------------+-------------------+-------------------+----------------------+
| Debian Bullseye     | PASS               | PASS             | PASS              | SKIPPED           | SKIPPED              |
+---------------------+--------------------+------------------+-------------------+-------------------+----------------------+
| Debian 12           | PASS               | PASS             | PASS              | SKIPPED           | SKIPPED              |
+---------------------+--------------------+------------------+-------------------+-------------------+----------------------+
| Fedora 40 (Clang)   | PASS               | PASS             | PASS              | SKIPPED           | SKIPPED              |
+---------------------+--------------------+------------------+-------------------+-------------------+----------------------+
| Fedora 40           | PASS               | PASS             | PASS              | SKIPPED           | SKIPPED              |
+---------------------+--------------------+------------------+-------------------+-------------------+----------------------+
| Fedora 41           | PASS               | PASS             | PASS              | SKIPPED           | SKIPPED              |
+---------------------+--------------------+------------------+-------------------+-------------------+----------------------+
| openSUSE Leap 15    | PASS               | SKIPPED          | SKIPPED           | SKIPPED           | SKIPPED              |
+---------------------+--------------------+------------------+-------------------+-------------------+----------------------+
| RHEL8               | PASS               | PASS             | SKIPPED           | SKIPPED           | SKIPPED              |
+---------------------+--------------------+------------------+-------------------+-------------------+----------------------+
| RHEL9               | PASS               | PASS             | SKIPPED           | SKIPPED           | SKIPPED              |
+---------------------+--------------------+------------------+-------------------+-------------------+----------------------+
| Ubuntu 20.04        | PASS               | WARN             | SKIPPED           | SKIPPED           | SKIPPED              |
+---------------------+--------------------+------------------+-------------------+-------------------+----------------------+
| Ubuntu 22.04        | PASS               | PASS             | PASS              | SKIPPED           | SKIPPED              |
+---------------------+--------------------+------------------+-------------------+-------------------+----------------------+
| Ubuntu 24.04        | PASS               | PASS             | PASS              | SKIPPED           | SKIPPED              |
+---------------------+--------------------+------------------+-------------------+-------------------+----------------------+
| Alpine              | PASS               | PASS             | SKIPPED           | SKIPPED           | SKIPPED              |
+---------------------+--------------------+------------------+-------------------+-------------------+----------------------+
| FreeBSD 14.2        | PASS               | SKIPPED          | SKIPPED           | SKIPPED           | SKIPPED              |
+---------------------+--------------------+------------------+-------------------+-------------------+----------------------+
| FreeBSD 13.4        | PASS               | SKIPPED          | SKIPPED           | SKIPPED           | SKIPPED              |
+---------------------+--------------------+------------------+-------------------+-------------------+----------------------+
| Fedora 41 (Clang)   | PASS               | PASS             | PASS              | SKIPPED           | SKIPPED              |
+---------------------+--------------------+------------------+-------------------+-------------------+----------------------+
| Windows Server 2022 | SKIPPED            | SKIPPED          | SKIPPED           | PASS              | PASS                 |
+---------------------+--------------------+------------------+-------------------+-------------------+----------------------+

==== 20 line log output for Ubuntu 20.04 (dpdk_compile_ovs): ====
 --- Failed to get log output --- 
==== End log output ====

CentOS Stream 9
	Kernel: Depends on container host
	Compiler: gcc 11.5.0 20240719 (Red Hat 11.5.0-2)

Debian Bullseye
	Kernel: Depends on container host
	Compiler: gcc (Debian 10.2.1-6) 10.2.1 20210110

Debian 12
	Kernel: Depends on container host
	Compiler: gcc (Debian 12.2.0-14) 12.2.0

Fedora 40 (Clang)
	Kernel: Depends on container host
	Compiler: clang 18.1.8 (Fedora 18.1.8-1.fc40)

Fedora 40
	Kernel: Depends on container host
	Compiler: gcc 14.2.1 20240912 (Red Hat 14.2.1-3)

Fedora 41
	Kernel: Depends on container host
	Compiler: gcc 14.2.1 20240912 (Red Hat 14.2.1-3)

openSUSE Leap 15
	Kernel: Depends on container host
	Compiler: gcc (SUSE Linux) 7.5.0

RHEL8
	Kernel: Depends on container host
	Compiler: gcc 8.5.0 20210514 (Red Hat 8.5.0-22)

RHEL9
	Kernel: Depends on container host
	Compiler: gcc 11.5.0 20240719 (Red Hat 11.5.0-2)

Ubuntu 20.04
	Kernel: Depends on container host
	Compiler: gcc (Ubuntu 9.4.0-1ubuntu1~20.04.2) 9.4.0

Ubuntu 22.04
	Kernel: Depends on container host
	Compiler: gcc (Ubuntu 11.4.0-1ubuntu1~22.04) 11.4.0

Ubuntu 24.04
	Kernel: Depends on container host
	Compiler: gcc (Ubuntu 13.3.0-6ubuntu2~24.04) 13.3.0

Alpine
	Kernel: Depends on container host
	Compiler: gcc (Alpine 14.2.0) 14.2.0

FreeBSD 14.2
	Kernel: 14.2-RELEASE
	Compiler: clang 18.1.6

FreeBSD 13.4
	Kernel: 13.4-RELEASE-p1
	Compiler: clang 18.1.6

Fedora 41 (Clang)
	Kernel: Depends on container host
	Compiler: clang 19.1.5 (Fedora 19.1.5-1.fc41)

Windows Server 2022
	Kernel: 10.0.20348.2031
	Compiler: clang 15.0.7, gcc 14.1.0 (MinGW), and MSVC VS 19.39.33521

To view detailed results, visit:
https://lab.dpdk.org/results/dashboard/patchsets/32408/

UNH-IOL DPDK Community Lab

To manage your email subscriptions, visit: 
https://lab.dpdk.org/results/dashboard/preferences/subscriptions/